BEGIN:VCALENDAR
VERSION:2.0
PRODID:-//Naši zbori - ECPv6.15.13//NONSGML v1.0//EN
CALSCALE:GREGORIAN
METHOD:PUBLISH
X-ORIGINAL-URL:https://www.nasizbori.si
X-WR-CALDESC:Dogodki za Naši zbori
REFRESH-INTERVAL;VALUE=DURATION:PT1H
X-Robots-Tag:noindex
X-PUBLISHED-TTL:PT1H
BEGIN:VTIMEZONE
TZID:Europe/Ljubljana
BEGIN:DAYLIGHT
TZOFFSETFROM:+0100
TZOFFSETTO:+0200
TZNAME:CEST
DTSTART:20150329T010000
END:DAYLIGHT
BEGIN:STANDARD
TZOFFSETFROM:+0200
TZOFFSETTO:+0100
TZNAME:CET
DTSTART:20151025T010000
END:STANDARD
BEGIN:DAYLIGHT
TZOFFSETFROM:+0100
TZOFFSETTO:+0200
TZNAME:CEST
DTSTART:20160327T010000
END:DAYLIGHT
BEGIN:STANDARD
TZOFFSETFROM:+0200
TZOFFSETTO:+0100
TZNAME:CET
DTSTART:20161030T010000
END:STANDARD
BEGIN:DAYLIGHT
TZOFFSETFROM:+0100
TZOFFSETTO:+0200
TZNAME:CEST
DTSTART:20170326T010000
END:DAYLIGHT
BEGIN:STANDARD
TZOFFSETFROM:+0200
TZOFFSETTO:+0100
TZNAME:CET
DTSTART:20171029T010000
END:STANDARD
END:VTIMEZONE
BEGIN:VEVENT
DTSTART;TZID=Europe/Ljubljana:20161117T193000
DTEND;TZID=Europe/Ljubljana:20161117T193000
DTSTAMP:20260421T200806
CREATED:20161114T093246Z
LAST-MODIFIED:20161114T094045Z
UID:10005757-1479411000-1479411000@www.nasizbori.si
SUMMARY:Koncert Vokalno-instrumentalne skupine Ridiamo – Ljubljana
DESCRIPTION:Neža Vasle – sopran\, violina\nAnja Šinigoj – alt\, klavir\nTine Bec – tenor\, klavir\nLuka Juteršek – tenor\, harmonika\nJaka Mihelač – bariton/bas\, kitara \nGlasbeniki bodo v okviru koncertnega cikla GM oder nastopili na treh koncertih po Sloveniji:\nponedeljek\, 14. novembra\, ob 19.00 – Glasbena šola Kranj\n sreda\, 16. novembra\, ob 19.30 – Celjski dom Celje\n četrtek\, 17. novembra\, ob 19.30 – Slovenska filharmonija Ljubljana \nKoncertni spored bo zajemal dela od renesanse do glasbe današnjega časa\, s posebnim poudarkom na priredbah iz slovenskega ljudskega izročila. \nO zasedbi:\nVokalno-inštrumentalna skupina Ridiamo je nastala leta 2013 pod mentorstvom prof. Edite Garčević Koželj. Danes nastopajo v zasedbi Neža Vasle\, Anja Šinigoj\, Luka Juteršek\, Tine Bec in Jaka Mihelač. Vsi se šolajo na Konservatoriju za glasbo in balet v Ljubljani in nastopajo tudi kot solisti. So tudi člani različnih zborovskih in komornih zasedb. Kot komorna skupina so prvič nastopili leta 2013 na tekmovanju »Lazar Jovanovič« v Beogradu\, kjer so prejeli prvo nagrado. Naslednje leto pa so se predstavili še na tekmovanju »Bruna Špiler« v Herceg Novem in prav tako prejeli zlato priznanje\, poleg tega pa še posebno nagrado za najboljšo komorno skupino. \n  \nVeč: \nhttps://www.facebook.com/events/1632454823718657/ \nhttps://www.facebook.com/ridiamo5/?fref=ts
URL:https://www.nasizbori.si/dogodek/koncert-vokalno-instrumentalne-skupine-ridiamo-ljubljana/
LOCATION:Slovenska filharmonija\, Kongresni trg 10\, Ljubljana\, Slovenia
CATEGORIES:Koncerti in projekti zborov,Ljudska glasba,Stara glasba
ATTACH;FMTTYPE=image/jpeg:https://www.nasizbori.si/wp-content/uploads/2016/11/Ridiamo_1.jpg
GEO:46.0495016;14.5047196
X-APPLE-STRUCTURED-LOCATION;VALUE=URI;X-ADDRESS=Slovenska filharmonija Kongresni trg 10 Ljubljana Slovenia;X-APPLE-RADIUS=500;X-TITLE=Kongresni trg 10:geo:14.5047196,46.0495016
END:VEVENT
BEGIN:VEVENT
DTSTART;TZID=Europe/Ljubljana:20161116T193000
DTEND;TZID=Europe/Ljubljana:20161116T193000
DTSTAMP:20260421T200806
CREATED:20161114T092845Z
LAST-MODIFIED:20161114T094233Z
UID:10005755-1479324600-1479324600@www.nasizbori.si
SUMMARY:Koncert Vokalno-instrumentalne skupine Ridiamo – Celje
DESCRIPTION:Neža Vasle – sopran\, violina\nAnja Šinigoj – alt\, klavir\nTine Bec – tenor\, klavir\nLuka Juteršek – tenor\, harmonika\nJaka Mihelač – bariton/bas\, kitara \nGlasbeniki bodo v okviru koncertnega cikla GM oder nastopili na treh koncertih po Sloveniji:\nponedeljek\, 14. novembra\, ob 19.00 – Glasbena šola Kranj\n sreda\, 16. novembra\, ob 19.30 – Celjski dom Celje\n četrtek\, 17. novembra\, ob 19.30 – Slovenska filharmonija Ljubljana \nKoncertni spored bo zajemal dela od renesanse do glasbe današnjega časa\, s posebnim poudarkom na priredbah iz slovenskega ljudskega izročila. \nO zasedbi:\nVokalno-inštrumentalna skupina Ridiamo je nastala leta 2013 pod mentorstvom prof. Edite Garčević Koželj. Danes nastopajo v zasedbi Neža Vasle\, Anja Šinigoj\, Luka Juteršek\, Tine Bec in Jaka Mihelač. Vsi se šolajo na Konservatoriju za glasbo in balet v Ljubljani in nastopajo tudi kot solisti. So tudi člani različnih zborovskih in komornih zasedb. Kot komorna skupina so prvič nastopili leta 2013 na tekmovanju »Lazar Jovanovič« v Beogradu\, kjer so prejeli prvo nagrado. Naslednje leto pa so se predstavili še na tekmovanju »Bruna Špiler« v Herceg Novem in prav tako prejeli zlato priznanje\, poleg tega pa še posebno nagrado za najboljšo komorno skupino. \nVeč: \nhttps://www.facebook.com/events/1632454823718657/ \nhttps://www.facebook.com/ridiamo5/?fref=ts
URL:https://www.nasizbori.si/dogodek/koncert-vokalno-instrumentalne-skupine-ridiamo-celje/
LOCATION:Celjski dom Celje\, Krekov trg 3\, Celje\, 3000\, Slovenia
CATEGORIES:Koncerti in projekti zborov,Ljudska glasba,Stara glasba
ATTACH;FMTTYPE=image/jpeg:https://www.nasizbori.si/wp-content/uploads/2016/11/Ridiamo_1.jpg
GEO:46.2281836;15.2670986
X-APPLE-STRUCTURED-LOCATION;VALUE=URI;X-ADDRESS=Celjski dom Celje Krekov trg 3 Celje 3000 Slovenia;X-APPLE-RADIUS=500;X-TITLE=Krekov trg 3:geo:15.2670986,46.2281836
END:VEVENT
BEGIN:VEVENT
DTSTART;TZID=Europe/Ljubljana:20161114T190000
DTEND;TZID=Europe/Ljubljana:20161114T190000
DTSTAMP:20260421T200806
CREATED:20161114T092627Z
LAST-MODIFIED:20161114T094116Z
UID:10005753-1479150000-1479150000@www.nasizbori.si
SUMMARY:Koncert Vokalno-instrumentalne skupine Ridiamo – Kranj
DESCRIPTION:Neža Vasle – sopran\, violina\nAnja Šinigoj – alt\, klavir\nTine Bec – tenor\, klavir\nLuka Juteršek – tenor\, harmonika\nJaka Mihelač – bariton/bas\, kitara \nGlasbeniki bodo v okviru koncertnega cikla GM oder nastopili na treh koncertih po Sloveniji:\nponedeljek\, 14. novembra\, ob 19.00 – Glasbena šola Kranj\n sreda\, 16. novembra\, ob 19.30 – Celjski dom Celje\n četrtek\, 17. novembra\, ob 19.30 – Slovenska filharmonija Ljubljana \nKoncertni spored bo zajemal dela od renesanse do glasbe današnjega časa\, s posebnim poudarkom na priredbah iz slovenskega ljudskega izročila. \nO zasedbi:\nVokalno-inštrumentalna skupina Ridiamo je nastala leta 2013 pod mentorstvom prof. Edite Garčević Koželj. Danes nastopajo v zasedbi Neža Vasle\, Anja Šinigoj\, Luka Juteršek\, Tine Bec in Jaka Mihelač. Vsi se šolajo na Konservatoriju za glasbo in balet v Ljubljani in nastopajo tudi kot solisti. So tudi člani različnih zborovskih in komornih zasedb. Kot komorna skupina so prvič nastopili leta 2013 na tekmovanju »Lazar Jovanovič« v Beogradu\, kjer so prejeli prvo nagrado. Naslednje leto pa so se predstavili še na tekmovanju »Bruna Špiler« v Herceg Novem in prav tako prejeli zlato priznanje\, poleg tega pa še posebno nagrado za najboljšo komorno skupino. \nVeč: \nhttps://www.facebook.com/events/1632454823718657/ \nhttps://www.facebook.com/ridiamo5/?fref=ts
URL:https://www.nasizbori.si/dogodek/koncert-vokalno-instrumentalne-skupine-ridiamo-kranj/
LOCATION:Glasbena šola Kranj\, Poštna ulica 3\, Kranj\, Slovenia
CATEGORIES:Koncerti in projekti zborov,Ljudska glasba,Stara glasba
ATTACH;FMTTYPE=image/jpeg:https://www.nasizbori.si/wp-content/uploads/2016/11/Ridiamo_1.jpg
GEO:46.2392497;14.3561132
X-APPLE-STRUCTURED-LOCATION;VALUE=URI;X-ADDRESS=Glasbena šola Kranj Poštna ulica 3 Kranj Slovenia;X-APPLE-RADIUS=500;X-TITLE=Poštna ulica 3:geo:14.3561132,46.2392497
END:VEVENT
END:VCALENDAR