BEGIN:VCALENDAR
VERSION:2.0
PRODID:-//Naši zbori - ECPv6.15.13//NONSGML v1.0//EN
CALSCALE:GREGORIAN
METHOD:PUBLISH
X-ORIGINAL-URL:https://www.nasizbori.si
X-WR-CALDESC:Dogodki za Naši zbori
REFRESH-INTERVAL;VALUE=DURATION:PT1H
X-Robots-Tag:noindex
X-PUBLISHED-TTL:PT1H
BEGIN:VTIMEZONE
TZID:Europe/Ljubljana
BEGIN:DAYLIGHT
TZOFFSETFROM:+0100
TZOFFSETTO:+0200
TZNAME:CEST
DTSTART:20190331T010000
END:DAYLIGHT
BEGIN:STANDARD
TZOFFSETFROM:+0200
TZOFFSETTO:+0100
TZNAME:CET
DTSTART:20191027T010000
END:STANDARD
BEGIN:DAYLIGHT
TZOFFSETFROM:+0100
TZOFFSETTO:+0200
TZNAME:CEST
DTSTART:20200329T010000
END:DAYLIGHT
BEGIN:STANDARD
TZOFFSETFROM:+0200
TZOFFSETTO:+0100
TZNAME:CET
DTSTART:20201025T010000
END:STANDARD
BEGIN:DAYLIGHT
TZOFFSETFROM:+0100
TZOFFSETTO:+0200
TZNAME:CEST
DTSTART:20210328T010000
END:DAYLIGHT
BEGIN:STANDARD
TZOFFSETFROM:+0200
TZOFFSETTO:+0100
TZNAME:CET
DTSTART:20211031T010000
END:STANDARD
BEGIN:DAYLIGHT
TZOFFSETFROM:+0100
TZOFFSETTO:+0200
TZNAME:CEST
DTSTART:20220327T010000
END:DAYLIGHT
BEGIN:STANDARD
TZOFFSETFROM:+0200
TZOFFSETTO:+0100
TZNAME:CET
DTSTART:20221030T010000
END:STANDARD
END:VTIMEZONE
BEGIN:VEVENT
DTSTART;TZID=Europe/Ljubljana:20210923T203000
DTEND;TZID=Europe/Ljubljana:20210923T203000
DTSTAMP:20260419T181248
CREATED:20210817T144158Z
LAST-MODIFIED:20210818T080327Z
UID:10006819-1632429000-1632429000@www.nasizbori.si
SUMMARY:PLEČNIK & A-CAPPELLA: CARMEN MANET (3. koncert)
DESCRIPTION:“Pesem ostane”\nCARMEN MANET\nUmetniški vodja: Primož Kerštanj \nCarmen manet je 35-članski ženski pevski zbor iz Kranja\, ki ga vse od ustanovitve leta 2011 vodi dirigent in glasbeni pedagog Primož Kerštanj. Skupaj poskrbijo\, da njihove pesmi še dolgo odzvanjajo v ušesih in ostanejo zapisane v spominu navzočih poslušalcev. Carmen manet namreč v latinščini pomeni “pesem ostane”. Zbor je na domačih in tujih tekmovanjih prejel številne nagrade\, leta 2017 pa je v Rigi v Latviji na tekmovanju za Evrovizijski zbor leta postal »Evrovizijski zbor leta 2017«. Od takrat člani intenzivno nastopajo na domačih in tujih odrih. Leta 2018 so posneli svoj prvi studijski album Apollo 18\, avgusta istega leta pa so med drugim i na slovitem belgijskem festivalu Nuit des Choeurs pred več kot 15.000 poslušalci.
URL:https://www.nasizbori.si/dogodek/plecnik-a-cappella-carmen-manet-3-koncert/
LOCATION:NUK – Narodna in univerzitetna knjižnica v Ljubljani\, Turjaška ulica 1\, Ljubljana\, Slovenia
CATEGORIES:Koncerti in projekti zborov,Slovenske revije, abonmaji in festivali
ATTACH;FMTTYPE=image/jpeg:https://www.nasizbori.si/wp-content/uploads/2021/08/carmen-manet-1.jpg
ORGANIZER;CN="im.puls art":MAILTO:houska@siol.net
GEO:46.0476013;14.5037201
X-APPLE-STRUCTURED-LOCATION;VALUE=URI;X-ADDRESS=NUK – Narodna in univerzitetna knjižnica v Ljubljani Turjaška ulica 1 Ljubljana Slovenia;X-APPLE-RADIUS=500;X-TITLE=Turjaška ulica 1:geo:14.5037201,46.0476013
END:VEVENT
BEGIN:VEVENT
DTSTART;TZID=Europe/Ljubljana:20210916T203000
DTEND;TZID=Europe/Ljubljana:20210916T203000
DTSTAMP:20260419T181248
CREATED:20210817T144139Z
LAST-MODIFIED:20210818T080233Z
UID:10006818-1631824200-1631824200@www.nasizbori.si
SUMMARY:PLEČNIK & A-CAPPELLA: INGENIUM ENSEMBLE (2. koncert)
DESCRIPTION:INGENIUM ENSEMBLE\n“V kraljestvu knjig”\nUmetniški vodja: Blaž Strmole \nIngenium Ensemble je mednarodno uveljavljena pevska zasedba iz Slovenije\, ki se posveča tako izvajanju klasične zborovske glasbe kot tudi sodobnim stvaritvam. Skupina najpogosteje nastopa na tujih glasbenih festivalih\, kjer ponosno zastopa bogato slovensko zborovsko izročilo. Med najvidnejšimi dosežki zasedbe naj omenimo uspehe na zborovskih tekmovanjih v Leipzigu\, Arezzu in Tolosi\, kjer je leta 2014 poleg zmage v obeh kategorijah za vokalne skupine prejela tudi nagrado občinstva. Za svoje mednarodne dosežke je zasedba leta 2015 prejela zlati znak Javnega sklada Republike Slovenije za kulturne dejavnosti. Njihov tokratni nastop bo potekal v “kraljestvu knjig”\, v Veliki čitalnici Narodne in univerzitetne knjižnice.
URL:https://www.nasizbori.si/dogodek/plecnik-a-cappella-ingenium-ensemble-2-koncert/
LOCATION:NUK – Narodna in univerzitetna knjižnica v Ljubljani\, Turjaška ulica 1\, Ljubljana\, Slovenia
CATEGORIES:Koncerti in projekti zborov,Slovenske revije, abonmaji in festivali
ATTACH;FMTTYPE=image/jpeg:https://www.nasizbori.si/wp-content/uploads/2021/08/ingenium2bensemble2b2-1500.jpg
ORGANIZER;CN="im.puls art":MAILTO:houska@siol.net
GEO:46.0476013;14.5037201
X-APPLE-STRUCTURED-LOCATION;VALUE=URI;X-ADDRESS=NUK – Narodna in univerzitetna knjižnica v Ljubljani Turjaška ulica 1 Ljubljana Slovenia;X-APPLE-RADIUS=500;X-TITLE=Turjaška ulica 1:geo:14.5037201,46.0476013
END:VEVENT
BEGIN:VEVENT
DTSTART;TZID=Europe/Ljubljana:20210909T203000
DTEND;TZID=Europe/Ljubljana:20210909T203000
DTSTAMP:20260419T181248
CREATED:20210817T144130Z
LAST-MODIFIED:20210818T080313Z
UID:10006817-1631219400-1631219400@www.nasizbori.si
SUMMARY:PLEČNIK & A-CAPPELLA: LJUBLJANSKI MADRIGALISTI (1. koncert)
DESCRIPTION:“Makalonca – harmonija prijateljstva”\nLJUBLJANSKI MADRIGALISTI\nUmetniška vodja: Klara Meljuga \nZačetki Mešanega komornega zbora Ljubljanski madrigalisti segajo v leto 1991. Prvih deset let je bil umetniški vodja zbora Matjaž Šček\, zatem pa so zbor vodili Walter Lo Nigro\, Andreja Martinjak\, Mateja Kališnik in Primož Malavašič. Od leta 2018 zbor vodi Klara Meljuga. Zbor je uspešno sodeloval na številnih tekmovanjih in doslej posnel osem zgoščenk\, leta 2014 pa tudi svoj prvi videospot. “Bodimo ljudje in se sosedje radi imejmo. To je najlepša ograja.” S takšnimi besedami je Plečnik ob selitvi na Mirje sprejel soseda\, duhovnika in pisatelja Frana Saleškega Finžgarja. Prijateljstvo dveh intelektualcev je obrodilo mnogo umetniških biserov in pehalo vozove naše kulture naprej. S koncertom se priklanjamo temu\, kar pride\, preden se svinčnik dotakne papirja – navdihu in sodelovanju.
URL:https://www.nasizbori.si/dogodek/plecnik-a-cappella-ljubljanski-madrigalisti-1-koncert/
LOCATION:Vrt pred Plečnikovo hišo\, Karunova 4-6\, Ljubljana\, 1000\, Slovenia
CATEGORIES:Koncerti in projekti zborov,Slovenske revije, abonmaji in festivali
ATTACH;FMTTYPE=image/jpeg:https://www.nasizbori.si/wp-content/uploads/2021/08/lj-madrigalisti-4.jpg
ORGANIZER;CN="im.puls art":MAILTO:houska@siol.net
END:VEVENT
BEGIN:VEVENT
DTSTART;TZID=Europe/Ljubljana:20201001T203000
DTEND;TZID=Europe/Ljubljana:20201001T203000
DTSTAMP:20260419T181248
CREATED:20200908T114341Z
LAST-MODIFIED:20200908T114341Z
UID:10006753-1601584200-1601584200@www.nasizbori.si
SUMMARY:PLEČNIK & A-CAPPELLA: KOMORNI ZBOR KGBL (4. koncert)
DESCRIPTION:Četrtek\, 1. oktobra 2020\, ob 20.30\nCerkev sv. Frančiška Asiškega (Černetova ul. 20\, 1000 Ljubljana)\nKomorni zbor KGBL\nUmetniški vodja: Ambrož Čopi \nRazcvet zborovskega gibanja na Konservatoriju za glasbo in balet v Ljubljani se je začel leta 2010\, ko je skladatelj in dirigent Ambrož Čopi prevzel vodstvo zbora. Komorni zbor KGBL sestavljajo pevci\, ki si želijo večjih izzivov\, nadgradnje vokalnotehničnih znanj in petja zahtevnejše zborovske literature na višji kakovostni ravni. Repertoar zbora je sestavljen žanrsko in slogovno raznoliko od renesanse do sodobne glasbe. V zadnjih letih je zbor naročil številne skladbe pri eminentnih slovenskih skladateljih ter se z velikim uspehom predstavil na mnogo mednarodnih tekmovanjih (Talin\, 2015; Moskva\, 2016; Tolosa\, 2017; Cork\, 2019). Zbor redno koncertira doma in v tujini (Španija\, Švedska\, Švica\, Tajvan\, Kitajska). \n*** \nV koncertnem ciklu PLEČNIK & A-CAPPELLA se dopolnjujeta glasba in arhitektura. Na petih slikovitih Plečnikovih lokacijah v Ljubljani boste lahko prisluhnili petim priznanim zasedbam a-cappella. S projektom želimo povezati dve umetniški zvrsti in s pomočjo edinstvene Plečnikove arhitekture poslušalcem oplemenititi njihovo doživljanje glasbe ter jim pripraviti pravo umetniško doživetje za oko in uho. Hkrati želimo s pomočjo koncertov širšo javnost privabiti v nekatere manj znane Plečnikove objekte. Oblikovanje posameznih koncertnih sporedov je bilo unikatno. Umetniške vodje vokalnih skupin smo povabili na Plečnikove lokacije. Koncertne sporede so oblikovali glede na občutke in vtise\, ki so jih dobili v posameznih Plečnikovih objektih. S tem procesom smo želeli vzpostaviti kreativni dialog med ustvarjalci in arhitekturo. Izjema je zgolj prvi koncert\, ki bo potekal v atriju Narodne in univerzitetne knjižnice (NUK) ob Vegovi ulici\, na katerem boste lahko prisluhnili koncertnemu sporedu pod motom “Ko spregovori aleja skladateljev”. Člani Slovenskega okteta bodo na tem koncertu izvajali dela skladateljev\, katerih doprsne kipe je Plečnik v tridesetih letih 20. stoletja postavil na bližnji Vegovi ulici. Koncertni cikel z izključno vokalnimi zasedbami je zamišljen kot predtakt festivala Europa Cantat 2021\, ki bo potekal v Ljubljani prihodnje leto.
URL:https://www.nasizbori.si/dogodek/plecnik-a-cappella-komorni-zbor-kgbl-4-koncert/
LOCATION:Cerkev sv. Frančiška Asiškega (plečnikova cerkev Šiška)\, Černetova 20\, Ljubljana\, Slovenia
CATEGORIES:Koncerti in projekti zborov,Slovenske revije, abonmaji in festivali
ATTACH;FMTTYPE=image/jpeg:https://www.nasizbori.si/wp-content/uploads/2020/09/KGBL_CD_009_4_foto-360x550w.jpg
ORGANIZER;CN="im.puls art":MAILTO:houska@siol.net
GEO:46.0679664;14.4967101
X-APPLE-STRUCTURED-LOCATION;VALUE=URI;X-ADDRESS=Cerkev sv. Frančiška Asiškega (plečnikova cerkev Šiška) Černetova 20 Ljubljana Slovenia;X-APPLE-RADIUS=500;X-TITLE=Černetova 20:geo:14.4967101,46.0679664
END:VEVENT
BEGIN:VEVENT
DTSTART;TZID=Europe/Ljubljana:20200917T203000
DTEND;TZID=Europe/Ljubljana:20200917T203000
DTSTAMP:20260419T181248
CREATED:20200908T114224Z
LAST-MODIFIED:20200908T114224Z
UID:10006751-1600374600-1600374600@www.nasizbori.si
SUMMARY:PLEČNIK & A-CAPPELLA: gospelovski zbor BEE GEESUS in NUŠKA DRAŠČEK (2. koncert)
DESCRIPTION:Četrtek\, 17. septembra 2020\, ob 20.30\nCerkev sv. Cirila in Metoda (Kuzmičeva 6\, 1000 Ljubljana Bežigrad)\nGospelovski zbor BEE GEESUS & NUŠKA DRAŠČEK\nUmetniški vodja: Matej Virtič \nBee Geesus je prvi slovenski gospelovski zbor. Skupina radoživih pevk in pevcev plete vokale v ubran urbani zvok pod taktirko vidnega akapelista Mateja Virtiča. Svojemu glasbenemu izrazu pravijo gospel fever\, zanj pa je značilna energična izvedba črnske duhovne glasbe z močno harmonijo in čvrstim ritmom. Zbor ostaja zvest izvirnemu sporočilu gospelovske glasbe\, ki ni danes nič manj aktualno kot v času\, ko je pomenilo glasen klic po osebni svobodi in je prinašalo upanje vsem zatiranim. Njihov repertoar predstavljajo priredbe tradicionalnih gospelov in spiritualov ter sodobne umetne stvaritve s pridihom jazza in popa. Na tokratnem koncertu se jim bo kot solistka pridružila odlična in vsestranska vokalistka Nuška Drašček. \n*** \nV koncertnem ciklu PLEČNIK & A-CAPPELLA se dopolnjujeta glasba in arhitektura. Na petih slikovitih Plečnikovih lokacijah v Ljubljani boste lahko prisluhnili petim priznanim zasedbam a-cappella. S projektom želimo povezati dve umetniški zvrsti in s pomočjo edinstvene Plečnikove arhitekture poslušalcem oplemenititi njihovo doživljanje glasbe ter jim pripraviti pravo umetniško doživetje za oko in uho. Hkrati želimo s pomočjo koncertov širšo javnost privabiti v nekatere manj znane Plečnikove objekte. Oblikovanje posameznih koncertnih sporedov je bilo unikatno. Umetniške vodje vokalnih skupin smo povabili na Plečnikove lokacije. Koncertne sporede so oblikovali glede na občutke in vtise\, ki so jih dobili v posameznih Plečnikovih objektih. S tem procesom smo želeli vzpostaviti kreativni dialog med ustvarjalci in arhitekturo. Izjema je zgolj prvi koncert\, ki bo potekal v atriju Narodne in univerzitetne knjižnice (NUK) ob Vegovi ulici\, na katerem boste lahko prisluhnili koncertnemu sporedu pod motom “Ko spregovori aleja skladateljev”. Člani Slovenskega okteta bodo na tem koncertu izvajali dela skladateljev\, katerih doprsne kipe je Plečnik v tridesetih letih 20. stoletja postavil na bližnji Vegovi ulici. Koncertni cikel z izključno vokalnimi zasedbami je zamišljen kot predtakt festivala Europa Cantat 2021\, ki bo potekal v Ljubljani prihodnje leto.
URL:https://www.nasizbori.si/dogodek/plecnik-a-cappella-gospelovski-zbor-bee-geesus-in-nuska-drascek-2-koncert/
LOCATION:cerkev sv. Cirila in Metoda (Bežigrad)\, Vodovodna/Kuzmičeva 6\, Ljubljana\, 1000\, Slovenia
CATEGORIES:Koncerti in projekti zborov,Slovenske revije, abonmaji in festivali
ATTACH;FMTTYPE=image/jpeg:https://www.nasizbori.si/wp-content/uploads/2020/09/5f3a65bfee035.jpg
ORGANIZER;CN="im.puls art":MAILTO:houska@siol.net
END:VEVENT
BEGIN:VEVENT
DTSTART;TZID=Europe/Ljubljana:20200911T203000
DTEND;TZID=Europe/Ljubljana:20200911T203000
DTSTAMP:20260419T181248
CREATED:20200908T114042Z
LAST-MODIFIED:20200908T114257Z
UID:10006750-1599856200-1599856200@www.nasizbori.si
SUMMARY:PLEČNIK & A-CAPPELLA: SLOVENSKI OKTET (1. koncert)
DESCRIPTION:Petek\, 11. septembra 2020\, ob 20.30\nAtrij NUK (Turjaška 1\, 1000 Ljubljana)\nSLOVENSKI OKTET\nUmetniški vodja: Jože Vidic \n“Ko spregovori Aleja slovenskih skladateljev” \nNa prvem koncertu cikla\, ki bo potekal v atriju Narodne in univerzitetne knjižnice (NUK) ob Vegovi ulici\, boste lahko prisluhnili koncertnemu sporedu pod motom “Ko spregovori aleja skladateljev”. Člani Slovenskega okteta bodo na tem koncertu izvajali dela skladateljev\, katerih doprsne kipe je Plečnik v tridesetih letih 20. stoletja postavil na bližnji Vegovi ulici. \nSlovenski oktet je prvič zapel že leta 1951 in od tedaj velja za najbolj reprezentativen slovenski moški vokalni komorni ansambel. Repertoar okteta je izjemno širok in raznolik\, saj zajema dela iz obdobja renesanse\, klasicizma in romantike\, ljudske pesmi vseh narodov ter dela sodobnikov. Posebno skrb Slovenski oktet namenja slovenski pesmi\, tako ljudski kot umetni\, ki jo vedno znova s posebnim žarom predstavlja na domačih in tujih koncertnih odrih. Od leta 2019 ansambel deluje v naslednji sestavi: Andrej Oder\, Rok Ferenčak\, David Jagodic\, Janez Triler\, Jože Vidic\, Darko Vidic\, Janko Volčanšek in Matej Voje. \n*** \nV koncertnem ciklu PLEČNIK & A-CAPPELLA se dopolnjujeta glasba in arhitektura. Na petih slikovitih Plečnikovih lokacijah v Ljubljani boste lahko prisluhnili petim priznanim zasedbam a-cappella. S projektom želimo povezati dve umetniški zvrsti in s pomočjo edinstvene Plečnikove arhitekture poslušalcem oplemenititi njihovo doživljanje glasbe ter jim pripraviti pravo umetniško doživetje za oko in uho. Hkrati želimo s pomočjo koncertov širšo javnost privabiti v nekatere manj znane Plečnikove objekte. Oblikovanje posameznih koncertnih sporedov je bilo unikatno. Umetniške vodje vokalnih skupin smo povabili na Plečnikove lokacije. Koncertne sporede so oblikovali glede na občutke in vtise\, ki so jih dobili v posameznih Plečnikovih objektih. S tem procesom smo želeli vzpostaviti kreativni dialog med ustvarjalci in arhitekturo. Izjema je zgolj prvi koncert\, ki bo potekal v atriju Narodne in univerzitetne knjižnice (NUK) ob Vegovi ulici\, na katerem boste lahko prisluhnili koncertnemu sporedu pod motom “Ko spregovori aleja skladateljev”. Člani Slovenskega okteta bodo na tem koncertu izvajali dela skladateljev\, katerih doprsne kipe je Plečnik v tridesetih letih 20. stoletja postavil na bližnji Vegovi ulici. Koncertni cikel z izključno vokalnimi zasedbami je zamišljen kot predtakt festivala Europa Cantat 2021\, ki bo potekal v Ljubljani prihodnje leto.
URL:https://www.nasizbori.si/dogodek/plecnik-a-cappella-slovenski-oktet-1-koncert/
LOCATION:Unnamed Venue\, Turjaška 1\, Ljubljana\, 1000\, Slovenia
CATEGORIES:Koncerti in projekti zborov,Slovenske revije, abonmaji in festivali
ATTACH;FMTTYPE=image/jpeg:https://www.nasizbori.si/wp-content/uploads/2020/09/posnetek-zaslona-2.jpg
ORGANIZER;CN="im.puls art":MAILTO:houska@siol.net
END:VEVENT
END:VCALENDAR