BEGIN:VCALENDAR
VERSION:2.0
PRODID:-//Naši zbori - ECPv6.15.13//NONSGML v1.0//EN
CALSCALE:GREGORIAN
METHOD:PUBLISH
X-ORIGINAL-URL:https://www.nasizbori.si
X-WR-CALDESC:Dogodki za Naši zbori
REFRESH-INTERVAL;VALUE=DURATION:PT1H
X-Robots-Tag:noindex
X-PUBLISHED-TTL:PT1H
BEGIN:VTIMEZONE
TZID:Europe/Ljubljana
BEGIN:DAYLIGHT
TZOFFSETFROM:+0100
TZOFFSETTO:+0200
TZNAME:CEST
DTSTART:20210328T010000
END:DAYLIGHT
BEGIN:STANDARD
TZOFFSETFROM:+0200
TZOFFSETTO:+0100
TZNAME:CET
DTSTART:20211031T010000
END:STANDARD
BEGIN:DAYLIGHT
TZOFFSETFROM:+0100
TZOFFSETTO:+0200
TZNAME:CEST
DTSTART:20220327T010000
END:DAYLIGHT
BEGIN:STANDARD
TZOFFSETFROM:+0200
TZOFFSETTO:+0100
TZNAME:CET
DTSTART:20221030T010000
END:STANDARD
BEGIN:DAYLIGHT
TZOFFSETFROM:+0100
TZOFFSETTO:+0200
TZNAME:CEST
DTSTART:20230326T010000
END:DAYLIGHT
BEGIN:STANDARD
TZOFFSETFROM:+0200
TZOFFSETTO:+0100
TZNAME:CET
DTSTART:20231029T010000
END:STANDARD
END:VTIMEZONE
BEGIN:VEVENT
DTSTART;TZID=Europe/Ljubljana:20221117T190000
DTEND;TZID=Europe/Ljubljana:20221117T203000
DTSTAMP:20260420T071904
CREATED:20221102T131846Z
LAST-MODIFIED:20221102T132451Z
UID:10007007-1668711600-1668717000@www.nasizbori.si
SUMMARY:ZVOKI SLOVENIJE
DESCRIPTION:Komorni zbor Glasis\, ki ga vodi dirigent Ernest Kokot in ki deluje pod okriljem KUD Markovski zvon iz Markovcev deluje deseto sezono.\nV tem času se je udeležil šestih mednarodnih zborovskih tekmovanj\, dveh državnih tekmovanj Naša pesem in vsakič osvojil odlične ocene in visoka priznanja.\nV novembru pripravljajo 4. samostojni projekt – dva koncerta “Zvoki Slovenije”\, ki bosta v četrtek 17. in v soboto 19. novembra ob 19.00 v koncertni dvorani Dominikanskega samostana na Ptuju. \nS projektom »Zvoki Slovenije« bo zbor predstavil bogato zakladnico glasbe slovenskih pokrajin in najrazličnejših zvokov\, ki jih lahko srečamo na slovenskih tleh.\nProjekt bo spremljan z različnimi narečnimi besedili\, ki so prav gotovo temelj čudovite in raznolike slovenske kulture. Celotni nastop bo podkrepljen z vizualnimi sredstvi\, ki še izdatno popestrijo dogajanje na odru.\nVečina skladb so priredbe slovenskih ljudskih pesmi v avtorstvu odličnih slovenskih skladateljev\, nekatere med njimi pa so zgolj enoglasni zapis osnovne melodije izvedene v kanonu.\nLjudska glasba je neločljivo povezana z ljudstvom. Živi zaradi ljudstva in za ljudstvo in prav zaradi te povezanosti z njim\, svoje funkcionalnosti in namenskosti je »uporabnejša«\, s čimer se njena življenjska doba daljša.\nŽelijo si\, da bo projekt vplival na ohranjanje slovenske ljudske glasbe in pripomogel k širitvi narodne zavesti med tistimi\, ki imajo radi slovensko glasbo.
URL:https://www.nasizbori.si/dogodek/zvoki-slovenije/2022-11-17/
LOCATION:Dominikanski samostan Ptuj\, Muzejski trg 1\, Ptuj\, Slovenia
CATEGORIES:Koncerti in projekti zborov
ATTACH;FMTTYPE=image/jpeg:https://www.nasizbori.si/wp-content/uploads/2022/11/fb-img-1667367360053.jpg
ORGANIZER;CN="Javne slu%C5%BEbe Ptuj%2C Dominikanski samostan%2C KUD Markovski zvon%2C Komorni zbor Glasis":MAILTO:martina.h76@gmail.com
GEO:46.4205115;15.8647601
X-APPLE-STRUCTURED-LOCATION;VALUE=URI;X-ADDRESS=Dominikanski samostan Ptuj Muzejski trg 1 Ptuj Slovenia;X-APPLE-RADIUS=500;X-TITLE=Muzejski trg 1:geo:15.8647601,46.4205115
END:VEVENT
END:VCALENDAR