BEGIN:VCALENDAR
VERSION:2.0
PRODID:-//Naši zbori - ECPv6.15.13//NONSGML v1.0//EN
CALSCALE:GREGORIAN
METHOD:PUBLISH
X-ORIGINAL-URL:https://www.nasizbori.si
X-WR-CALDESC:Dogodki za Naši zbori
REFRESH-INTERVAL;VALUE=DURATION:PT1H
X-Robots-Tag:noindex
X-PUBLISHED-TTL:PT1H
BEGIN:VTIMEZONE
TZID:Europe/Ljubljana
BEGIN:DAYLIGHT
TZOFFSETFROM:+0100
TZOFFSETTO:+0200
TZNAME:CEST
DTSTART:20170326T010000
END:DAYLIGHT
BEGIN:STANDARD
TZOFFSETFROM:+0200
TZOFFSETTO:+0100
TZNAME:CET
DTSTART:20171029T010000
END:STANDARD
BEGIN:DAYLIGHT
TZOFFSETFROM:+0100
TZOFFSETTO:+0200
TZNAME:CEST
DTSTART:20180325T010000
END:DAYLIGHT
BEGIN:STANDARD
TZOFFSETFROM:+0200
TZOFFSETTO:+0100
TZNAME:CET
DTSTART:20181028T010000
END:STANDARD
BEGIN:DAYLIGHT
TZOFFSETFROM:+0100
TZOFFSETTO:+0200
TZNAME:CEST
DTSTART:20190331T010000
END:DAYLIGHT
BEGIN:STANDARD
TZOFFSETFROM:+0200
TZOFFSETTO:+0100
TZNAME:CET
DTSTART:20191027T010000
END:STANDARD
BEGIN:DAYLIGHT
TZOFFSETFROM:+0100
TZOFFSETTO:+0200
TZNAME:CEST
DTSTART:20200329T010000
END:DAYLIGHT
BEGIN:STANDARD
TZOFFSETFROM:+0200
TZOFFSETTO:+0100
TZNAME:CET
DTSTART:20201025T010000
END:STANDARD
BEGIN:DAYLIGHT
TZOFFSETFROM:+0100
TZOFFSETTO:+0200
TZNAME:CEST
DTSTART:20210328T010000
END:DAYLIGHT
BEGIN:STANDARD
TZOFFSETFROM:+0200
TZOFFSETTO:+0100
TZNAME:CET
DTSTART:20211031T010000
END:STANDARD
BEGIN:DAYLIGHT
TZOFFSETFROM:+0100
TZOFFSETTO:+0200
TZNAME:CEST
DTSTART:20220327T010000
END:DAYLIGHT
BEGIN:STANDARD
TZOFFSETFROM:+0200
TZOFFSETTO:+0100
TZNAME:CET
DTSTART:20221030T010000
END:STANDARD
BEGIN:DAYLIGHT
TZOFFSETFROM:+0100
TZOFFSETTO:+0200
TZNAME:CEST
DTSTART:20230326T010000
END:DAYLIGHT
BEGIN:STANDARD
TZOFFSETFROM:+0200
TZOFFSETTO:+0100
TZNAME:CET
DTSTART:20231029T010000
END:STANDARD
BEGIN:DAYLIGHT
TZOFFSETFROM:+0100
TZOFFSETTO:+0200
TZNAME:CEST
DTSTART:20240331T010000
END:DAYLIGHT
BEGIN:STANDARD
TZOFFSETFROM:+0200
TZOFFSETTO:+0100
TZNAME:CET
DTSTART:20241027T010000
END:STANDARD
BEGIN:DAYLIGHT
TZOFFSETFROM:+0100
TZOFFSETTO:+0200
TZNAME:CEST
DTSTART:20250330T010000
END:DAYLIGHT
BEGIN:STANDARD
TZOFFSETFROM:+0200
TZOFFSETTO:+0100
TZNAME:CET
DTSTART:20251026T010000
END:STANDARD
BEGIN:DAYLIGHT
TZOFFSETFROM:+0100
TZOFFSETTO:+0200
TZNAME:CEST
DTSTART:20260329T010000
END:DAYLIGHT
BEGIN:STANDARD
TZOFFSETFROM:+0200
TZOFFSETTO:+0100
TZNAME:CET
DTSTART:20261025T010000
END:STANDARD
END:VTIMEZONE
BEGIN:VEVENT
DTSTART;TZID=Europe/Ljubljana:20250509T200000
DTEND;TZID=Europe/Ljubljana:20250509T220000
DTSTAMP:20260421T132851
CREATED:20250508T151543Z
LAST-MODIFIED:20250508T151543Z
UID:10007441-1746820800-1746828000@www.nasizbori.si
SUMMARY:Celovečerni koncert z gosti Moški pevski zbor Barje
DESCRIPTION:V petek 09.05.2025 zvečer ob 20.00 bo pevski večer v cerkvi sv. Mihaela na Barju: Moški pevski zbor\nBarje z gosti.
URL:https://www.nasizbori.si/dogodek/celovecerni-koncert-z-gosti-moski-pevski-zbor-barje/
LOCATION:Cerkev sv. Mihaela na Barju\, Črna vas 48\, Ljubljana\, 1000\, Slovenia
CATEGORIES:Koncerti in projekti zborov,Ljudska glasba
ATTACH;FMTTYPE=image/jpeg:https://www.nasizbori.si/wp-content/uploads/2025/05/plakat-koncni-2025-a3.jpg
ORGANIZER;CN="KPD Barje%2C Kulturno prosvetno dru%C5%A1tvo Barje":MAILTO:kpdbarje@gmail.com
END:VEVENT
BEGIN:VEVENT
DTSTART;TZID=Europe/Ljubljana:20240524T200000
DTEND;TZID=Europe/Ljubljana:20240524T220000
DTSTAMP:20260421T132851
CREATED:20240516T062342Z
LAST-MODIFIED:20240517T123904Z
UID:10007268-1716580800-1716588000@www.nasizbori.si
SUMMARY:Srečanje s prijatelji
DESCRIPTION:Moški pevski zbor Barje vabi v okviru tedna ljubiteljske kulture na celovečerni koncert z gosti. \nVstop je prost. \nVabljeni !
URL:https://www.nasizbori.si/dogodek/srecanje-s-prijatelji/
LOCATION:Konservatorij za glasbo in balet Ljubljana\, Ižanska cesta 12\, Ljubljana\, 1000\, Slovenia
CATEGORIES:Koncerti in projekti zborov,Ljudska glasba
ATTACH;FMTTYPE=image/jpeg:https://www.nasizbori.si/wp-content/uploads/2024/05/vabilo-mopz-barje-maj-2024.jpg
ORGANIZER;CN="KPD Barje%2C Kulturno prosvetno dru%C5%A1tvo Barje":MAILTO:kpdbarje@gmail.com
GEO:46.0388467;14.5126065
X-APPLE-STRUCTURED-LOCATION;VALUE=URI;X-ADDRESS=Konservatorij za glasbo in balet Ljubljana Ižanska cesta 12 Ljubljana 1000 Slovenia;X-APPLE-RADIUS=500;X-TITLE=Ižanska cesta 12:geo:14.5126065,46.0388467
END:VEVENT
BEGIN:VEVENT
DTSTART;TZID=Europe/Ljubljana:20220527T190000
DTEND;TZID=Europe/Ljubljana:20220527T220000
DTSTAMP:20260421T132851
CREATED:20220519T233943Z
LAST-MODIFIED:20220519T233943Z
UID:10006916-1653678000-1653688800@www.nasizbori.si
SUMMARY:Koncert Moškega Pevskega zbora Barje
DESCRIPTION:Koncert MOPZ Tam kjer pisana so polja z gosti\nKonzervatorij za glasbo in balet 27.5.2022 ob 19 .uri \nTAM KJER PISANA SO POLJA V.Markič\, priredil Danilo Bučar\nKO V JUTRANJEM SONCU priredil Robert Markovič\nZELENICA Svetlana Makarovič\, Marko Perko\, priredil V.Zelnik\, solist Jože Kastelic\nZ MANO SE OZRI Slavko in Vilko Avsenik\, priredba Logar\, Tozon \n1.gosti\nŽPZ Barje\, predsednica Breda Kapelj\, zborovodja Klemen Jerinc\nNOCOJ SE MI JE SANJALO\, Gabrijel Čemernik\nBELI CVET-pesem iz filma Moje pesmi\, moje sanje\, priredil Jože Leskovar\nPOMLADNA\, Ciril Cvetko\, besedilo Stanislav Petruša \n2.gosti\nBarjanski kvartet\, vodja Janez Sterle\n(Amalija Sterle\, Selan Minka\, Vlado Bukovič in Janez Sterle)\nTIHI VEČER Jože Tovšek\, priredba Jože Grabnar\nENA TIČKA PRILETELA ljudska\nVSAKO LETO LE EN MAJ IMA Franc Potočar in Podlipniški fantje \n3.gosti\nAnsambel MOTIV\, vodja David Tomc (Aljaž Nagode 1.bas\, Vid Rozman 2.tenor\, Gregor Končan 1.tenor\, Tim Majer bas kitara\, Tomaž Stopar ritem kitara/1.bas\, David Tomc\, harmonika\, bariton)\nŠE ENKRAT Lojze Slak\nEJ PRIJATELJ Lojze Slak\nInstrumentalna ZA DOBRO VOLJO\, ans.bratov Avsenik \n4.gosta\nDuo MAT NA KVADRAT\nMatjaž Zadravec in Matej Primožič \nDrugi del MOPZ Barje \nNA TRGU Dragotin Kette\, priredil Vasilij Mirk\nBLEDA LUNA narodna\, priredil Jože Gregorc\nPOGLED V NEDOLŽNO OKO Simon Gregorčič\, priredil Hugolin Sattner\nROŽMARIN Anton Vračko\nLAHKO NOČ\, priredil V.Fabiani
URL:https://www.nasizbori.si/dogodek/koncert-moskega-pevskega-zbora-barje/
LOCATION:Konservatorij za glasbo in balet Ljubljana\, Ižanska cesta 12\, Ljubljana\, 1000\, Slovenia
CATEGORIES:Koncerti in projekti zborov,Ljudska glasba
ATTACH;FMTTYPE=image/jpeg:https://www.nasizbori.si/wp-content/uploads/2022/05/plakat-koncni-2022jpg.jpg
ORGANIZER;CN="KPD Barje%2C Kulturno prosvetno dru%C5%A1tvo Barje":MAILTO:kpdbarje@gmail.com
GEO:46.0388467;14.5126065
X-APPLE-STRUCTURED-LOCATION;VALUE=URI;X-ADDRESS=Konservatorij za glasbo in balet Ljubljana Ižanska cesta 12 Ljubljana 1000 Slovenia;X-APPLE-RADIUS=500;X-TITLE=Ižanska cesta 12:geo:14.5126065,46.0388467
END:VEVENT
BEGIN:VEVENT
DTSTART;TZID=Europe/Ljubljana:20180518T200000
DTEND;TZID=Europe/Ljubljana:20180518T200000
DTSTAMP:20260421T132851
CREATED:20181030T111518Z
LAST-MODIFIED:20181109T170908Z
UID:10006488-1526673600-1526673600@www.nasizbori.si
SUMMARY:Zelena Ljubljana o Barjanski ravnici
DESCRIPTION:Celovečerni koncert Moškega pevskega zbora Barje
URL:https://www.nasizbori.si/dogodek/zelena-ljubljana-o-barjanski-ravnici/
LOCATION:Konservatorij za glasbo in balet Ljubljana\, Ižanska cesta 12\, Ljubljana\, 1000\, Slovenia
CATEGORIES:Koncerti in projekti zborov
ATTACH;FMTTYPE=image/jpeg:https://www.nasizbori.si/wp-content/uploads/2018/10/IMG_0463-2.jpg
ORGANIZER;CN="KPD Barje%2C Kulturno prosvetno dru%C5%A1tvo Barje":MAILTO:kpdbarje@gmail.com
GEO:46.0388467;14.5126065
X-APPLE-STRUCTURED-LOCATION;VALUE=URI;X-ADDRESS=Konservatorij za glasbo in balet Ljubljana Ižanska cesta 12 Ljubljana 1000 Slovenia;X-APPLE-RADIUS=500;X-TITLE=Ižanska cesta 12:geo:14.5126065,46.0388467
END:VEVENT
END:VCALENDAR