BEGIN:VCALENDAR
VERSION:2.0
PRODID:-//Naši zbori - ECPv6.15.13//NONSGML v1.0//EN
CALSCALE:GREGORIAN
METHOD:PUBLISH
X-ORIGINAL-URL:https://www.nasizbori.si
X-WR-CALDESC:Dogodki za Naši zbori
REFRESH-INTERVAL;VALUE=DURATION:PT1H
X-Robots-Tag:noindex
X-PUBLISHED-TTL:PT1H
BEGIN:VTIMEZONE
TZID:Europe/Ljubljana
BEGIN:DAYLIGHT
TZOFFSETFROM:+0100
TZOFFSETTO:+0200
TZNAME:CEST
DTSTART:20250330T010000
END:DAYLIGHT
BEGIN:STANDARD
TZOFFSETFROM:+0200
TZOFFSETTO:+0100
TZNAME:CET
DTSTART:20251026T010000
END:STANDARD
BEGIN:DAYLIGHT
TZOFFSETFROM:+0100
TZOFFSETTO:+0200
TZNAME:CEST
DTSTART:20260329T010000
END:DAYLIGHT
BEGIN:STANDARD
TZOFFSETFROM:+0200
TZOFFSETTO:+0100
TZNAME:CET
DTSTART:20261025T010000
END:STANDARD
BEGIN:DAYLIGHT
TZOFFSETFROM:+0100
TZOFFSETTO:+0200
TZNAME:CEST
DTSTART:20270328T010000
END:DAYLIGHT
BEGIN:STANDARD
TZOFFSETFROM:+0200
TZOFFSETTO:+0100
TZNAME:CET
DTSTART:20271031T010000
END:STANDARD
END:VTIMEZONE
BEGIN:VEVENT
DTSTART;TZID=Europe/Ljubljana:20260424T190000
DTEND;TZID=Europe/Ljubljana:20260424T210000
DTSTAMP:20260421T121525
CREATED:20260420T064759Z
LAST-MODIFIED:20260420T064759Z
UID:10007634-1777057200-1777064400@www.nasizbori.si
SUMMARY:Letni koncert Ženskega pevskega zbora Barje
DESCRIPTION:Spoštovani! \nVljudno vas vabimo na letni koncert Ženskega pevskega zbora Barje z gosti\, ki bo v petek\, 24. aprila 2026\, ob 19.00 v Glasbeni šoli Rakovnik (Rakovniška 6\, Ljubljana). \nVeselimo se vaše prisotnosti! \nPrijazen pozdrav. \nPika Trpin\, ŽPZ Barje
URL:https://www.nasizbori.si/dogodek/letni-koncert-zenskega-pevskega-zbora-barje/
LOCATION:Glasbena šola Rakovnik\, Rakovniška ulica 6\, LJUBLJANA\, Rakovnik\, 1000\, Slovenia
ATTACH;FMTTYPE=image/jpeg:https://www.nasizbori.si/wp-content/uploads/2026/04/ZePZ-Barje.jpg
ORGANIZER;CN="KPD Barje%2C Kulturno prosvetno dru%C5%A1tvo Barje":MAILTO:kpdbarje@gmail.com
END:VEVENT
BEGIN:VEVENT
DTSTART;TZID=Europe/Ljubljana:20260515T200000
DTEND;TZID=Europe/Ljubljana:20260515T220000
DTSTAMP:20260421T121525
CREATED:20260420T064739Z
LAST-MODIFIED:20260420T064739Z
UID:10007633-1778875200-1778882400@www.nasizbori.si
SUMMARY:Celovečerni koncert Moškega pevskega zbora Barje
DESCRIPTION:Moški pevski zbor Barje vabi v okviru Festivala ljubiteljske kulture 2026 na celovečerni koncert z gosti. \nVstop je prost. \nVabljeni !
URL:https://www.nasizbori.si/dogodek/celovecerni-koncert-moskega-pevskega-zbora-barje/
LOCATION:ZAVOD SALESIANUM\, Glasbeni šoli Rakovnik\, Rakovniška ulica 6\, LJUBLJANA\, Rakovnik\, 1000\, Slovenia
ATTACH;FMTTYPE=image/jpeg:https://www.nasizbori.si/wp-content/uploads/2026/04/Moski-pevski-zbor-Barje.jpg
ORGANIZER;CN="KPD Barje%2C Kulturno prosvetno dru%C5%A1tvo Barje":MAILTO:kpdbarje@gmail.com
END:VEVENT
END:VCALENDAR