BEGIN:VCALENDAR
VERSION:2.0
PRODID:-//Naši zbori - ECPv6.15.13//NONSGML v1.0//EN
CALSCALE:GREGORIAN
METHOD:PUBLISH
X-ORIGINAL-URL:https://www.nasizbori.si
X-WR-CALDESC:Dogodki za Naši zbori
REFRESH-INTERVAL;VALUE=DURATION:PT1H
X-Robots-Tag:noindex
X-PUBLISHED-TTL:PT1H
BEGIN:VTIMEZONE
TZID:Europe/Ljubljana
BEGIN:DAYLIGHT
TZOFFSETFROM:+0100
TZOFFSETTO:+0200
TZNAME:CEST
DTSTART:20220327T010000
END:DAYLIGHT
BEGIN:STANDARD
TZOFFSETFROM:+0200
TZOFFSETTO:+0100
TZNAME:CET
DTSTART:20221030T010000
END:STANDARD
BEGIN:DAYLIGHT
TZOFFSETFROM:+0100
TZOFFSETTO:+0200
TZNAME:CEST
DTSTART:20230326T010000
END:DAYLIGHT
BEGIN:STANDARD
TZOFFSETFROM:+0200
TZOFFSETTO:+0100
TZNAME:CET
DTSTART:20231029T010000
END:STANDARD
BEGIN:DAYLIGHT
TZOFFSETFROM:+0100
TZOFFSETTO:+0200
TZNAME:CEST
DTSTART:20240331T010000
END:DAYLIGHT
BEGIN:STANDARD
TZOFFSETFROM:+0200
TZOFFSETTO:+0100
TZNAME:CET
DTSTART:20241027T010000
END:STANDARD
END:VTIMEZONE
BEGIN:VEVENT
DTSTART;TZID=Europe/Ljubljana:20230420T193000
DTEND;TZID=Europe/Ljubljana:20230420T210000
DTSTAMP:20260420T022840
CREATED:20230403T175430Z
LAST-MODIFIED:20230403T175550Z
UID:10007077-1682019000-1682024400@www.nasizbori.si
SUMMARY:Koncert zbora Zero8
DESCRIPTION:Kulturno društvo Gimnazije Kranj 20. aprila 2023\, ob 19.30\, prireja prav poseben koncertni dogodek v šolski dvorani. Gostili bomo odlični švedski moški zbor iz Stockholma – Zero8\, ki se bo v Kranju ustavil na svoji poti na mednarodno tekmovanje Gallus v Mariboru. Na koncertu pa se bosta predstavila še dva zbora pod vodstvom našega profesorja glasbe\, Erika Šmida. Dekliški pevski zbor Gimnazije Kranj se je pravkar vrnil z mednarodnega tekmovanja v Bratislavi z zlatim priznanjem\, Akademski pevski zbor France Prešeren Kranj pa je pred več kot petdesetimi leti nastal prav iz zbora Gimnazije Kranj in spada med vidnejše slovenske zborovske sestave. Obeta se nam torej zelo lep glasbeni večer. Vstopnice na Moje karte\, povezava: https://www.mojekarte.si/si/koncert-zbora-zero8/vstopnice-1166162.html . Lepo povabljeni.
URL:https://www.nasizbori.si/dogodek/koncert-zbora-zero8/
LOCATION:Dvorana Gimnazije Kranj\, Koroška cesta 13\,  Kranj\, Gorenjska\, 4000\, Slovenia
CATEGORIES:Gostovanja tujih dirigentov in zasedb
ATTACH;FMTTYPE=image/jpeg:https://www.nasizbori.si/wp-content/uploads/2023/04/objava-nz.jpg
ORGANIZER;CN="Kulturno dru%C5%A1tvo Gimnazije Kranj":MAILTO:barbara.kusar@gimkr.si
END:VEVENT
END:VCALENDAR