BEGIN:VCALENDAR
VERSION:2.0
PRODID:-//Naši zbori - ECPv6.15.13//NONSGML v1.0//EN
CALSCALE:GREGORIAN
METHOD:PUBLISH
X-ORIGINAL-URL:https://www.nasizbori.si
X-WR-CALDESC:Dogodki za Naši zbori
REFRESH-INTERVAL;VALUE=DURATION:PT1H
X-Robots-Tag:noindex
X-PUBLISHED-TTL:PT1H
BEGIN:VTIMEZONE
TZID:Europe/Ljubljana
BEGIN:DAYLIGHT
TZOFFSETFROM:+0100
TZOFFSETTO:+0200
TZNAME:CEST
DTSTART:20170326T010000
END:DAYLIGHT
BEGIN:STANDARD
TZOFFSETFROM:+0200
TZOFFSETTO:+0100
TZNAME:CET
DTSTART:20171029T010000
END:STANDARD
BEGIN:DAYLIGHT
TZOFFSETFROM:+0100
TZOFFSETTO:+0200
TZNAME:CEST
DTSTART:20180325T010000
END:DAYLIGHT
BEGIN:STANDARD
TZOFFSETFROM:+0200
TZOFFSETTO:+0100
TZNAME:CET
DTSTART:20181028T010000
END:STANDARD
BEGIN:DAYLIGHT
TZOFFSETFROM:+0100
TZOFFSETTO:+0200
TZNAME:CEST
DTSTART:20190331T010000
END:DAYLIGHT
BEGIN:STANDARD
TZOFFSETFROM:+0200
TZOFFSETTO:+0100
TZNAME:CET
DTSTART:20191027T010000
END:STANDARD
END:VTIMEZONE
BEGIN:VEVENT
DTSTART;TZID=Europe/Ljubljana:20181117T170000
DTEND;TZID=Europe/Ljubljana:20181117T170000
DTSTAMP:20260424T134725
CREATED:20181107T160908Z
LAST-MODIFIED:20181107T160908Z
UID:10006492-1542474000-1542474000@www.nasizbori.si
SUMMARY:30-obletna maša z revijo
DESCRIPTION:REVIJA GAČNIKOVIH NAPEVOV ob 30-letnici njegove smrti
URL:https://www.nasizbori.si/dogodek/30-obletna-masa-z-revijo/
LOCATION:Cerkev Marijinega vnebovzetja Mekinje\, Polčeva 11\, Kamnik\, Osrednjeslovenska\, 1240\, Slovenia
CATEGORIES:Slovenske revije, abonmaji in festivali
ATTACH;FMTTYPE=image/jpeg:https://www.nasizbori.si/wp-content/uploads/2018/11/GACNIKOVA-REVIJA-PLAKAT-2018_1.jpg
ORGANIZER;CN="Cerkveni me%C5%A1ani pevski zbor France Ga%C4%8Dnik Stranje / Dominik Krt":MAILTO:dominik.krt@gmail.com
END:VEVENT
BEGIN:VEVENT
DTSTART;VALUE=DATE:20180209
DTEND;VALUE=DATE:20180212
DTSTAMP:20260424T134725
CREATED:20171207T161106Z
LAST-MODIFIED:20171207T161106Z
UID:10006286-1518141600-1518314399@www.nasizbori.si
SUMMARY:MISSA SERAPHICA
DESCRIPTION:Ponovitev ene najlepših slovenskih maš p. Hugolina Sattnerja s simfoničnim orkestrom in 80 članskim zborom bo še dvakrat: 9. februarja 2018 ob 18. uri v cerkvi Marijinega vnebovzetja v Domžalah in 10. februarja 2018 ob 18. uri v cerkvi Marijinega vnebovzetja v Mekinjah. Vse skupaj se bo odvilo ob praznovanju 30-letnice poimenovanja cerkvenega mešanega pevskega zbora po župniku Francetu Gačniku iz Stranj pri Kamniku in vodenju zbora s strani zborovodje\, organista in skladatelja Dominika Krta. Poleg maše bo izvedenih še nekaj znanih del iz zakladnice svetovne literature in počastitev Slovenskega dneva kulture. Prisrčno vabljeni !
URL:https://www.nasizbori.si/dogodek/missa-seraphica-2/
LOCATION:Cerkvi Marijinega vnebovzetja Domžale in Mekinje\, Domžale - Kamnik\, Slovenia
CATEGORIES:Koncerti in projekti zborov
ATTACH;FMTTYPE=image/jpeg:https://www.nasizbori.si/wp-content/uploads/2017/12/MS_GG2-1.jpg
ORGANIZER;CN="Cerkveni me%C5%A1ani pevski zbor France Ga%C4%8Dnik Stranje / Dominik Krt":MAILTO:dominik.krt@gmail.com
END:VEVENT
END:VCALENDAR