BEGIN:VCALENDAR
VERSION:2.0
PRODID:-//Naši zbori - ECPv6.15.13//NONSGML v1.0//EN
CALSCALE:GREGORIAN
METHOD:PUBLISH
X-WR-CALNAME:Naši zbori
X-ORIGINAL-URL:https://www.nasizbori.si
X-WR-CALDESC:Dogodki za Naši zbori
REFRESH-INTERVAL;VALUE=DURATION:PT1H
X-Robots-Tag:noindex
X-PUBLISHED-TTL:PT1H
BEGIN:VTIMEZONE
TZID:Europe/Ljubljana
BEGIN:DAYLIGHT
TZOFFSETFROM:+0100
TZOFFSETTO:+0200
TZNAME:CEST
DTSTART:20170326T010000
END:DAYLIGHT
BEGIN:STANDARD
TZOFFSETFROM:+0200
TZOFFSETTO:+0100
TZNAME:CET
DTSTART:20171029T010000
END:STANDARD
BEGIN:DAYLIGHT
TZOFFSETFROM:+0100
TZOFFSETTO:+0200
TZNAME:CEST
DTSTART:20180325T010000
END:DAYLIGHT
BEGIN:STANDARD
TZOFFSETFROM:+0200
TZOFFSETTO:+0100
TZNAME:CET
DTSTART:20181028T010000
END:STANDARD
BEGIN:DAYLIGHT
TZOFFSETFROM:+0100
TZOFFSETTO:+0200
TZNAME:CEST
DTSTART:20190331T010000
END:DAYLIGHT
BEGIN:STANDARD
TZOFFSETFROM:+0200
TZOFFSETTO:+0100
TZNAME:CET
DTSTART:20191027T010000
END:STANDARD
BEGIN:DAYLIGHT
TZOFFSETFROM:+0100
TZOFFSETTO:+0200
TZNAME:CEST
DTSTART:20200329T010000
END:DAYLIGHT
BEGIN:STANDARD
TZOFFSETFROM:+0200
TZOFFSETTO:+0100
TZNAME:CET
DTSTART:20201025T010000
END:STANDARD
BEGIN:DAYLIGHT
TZOFFSETFROM:+0100
TZOFFSETTO:+0200
TZNAME:CEST
DTSTART:20210328T010000
END:DAYLIGHT
BEGIN:STANDARD
TZOFFSETFROM:+0200
TZOFFSETTO:+0100
TZNAME:CET
DTSTART:20211031T010000
END:STANDARD
BEGIN:DAYLIGHT
TZOFFSETFROM:+0100
TZOFFSETTO:+0200
TZNAME:CEST
DTSTART:20220327T010000
END:DAYLIGHT
BEGIN:STANDARD
TZOFFSETFROM:+0200
TZOFFSETTO:+0100
TZNAME:CET
DTSTART:20221030T010000
END:STANDARD
BEGIN:DAYLIGHT
TZOFFSETFROM:+0100
TZOFFSETTO:+0200
TZNAME:CEST
DTSTART:20230326T010000
END:DAYLIGHT
BEGIN:STANDARD
TZOFFSETFROM:+0200
TZOFFSETTO:+0100
TZNAME:CET
DTSTART:20231029T010000
END:STANDARD
BEGIN:DAYLIGHT
TZOFFSETFROM:+0100
TZOFFSETTO:+0200
TZNAME:CEST
DTSTART:20240331T010000
END:DAYLIGHT
BEGIN:STANDARD
TZOFFSETFROM:+0200
TZOFFSETTO:+0100
TZNAME:CET
DTSTART:20241027T010000
END:STANDARD
END:VTIMEZONE
BEGIN:VEVENT
DTSTART;TZID=Europe/Ljubljana:20230609T193000
DTEND;TZID=Europe/Ljubljana:20230609T210000
DTSTAMP:20260419T163110
CREATED:20230522T175010Z
LAST-MODIFIED:20230522T175026Z
UID:10007102-1686339000-1686344400@www.nasizbori.si
SUMMARY:LETNI KONCERT
DESCRIPTION:PSPD Lira Kamnik vabi na LETNI KONCERT
URL:https://www.nasizbori.si/dogodek/letni-koncert-2/
LOCATION:Samostan Mekinje\, POLČEVA POT 10\, MEKINJE\, Kamnik\, Slovenia
CATEGORIES:Drugo
ATTACH;FMTTYPE=image/jpeg:https://www.nasizbori.si/wp-content/uploads/2023/05/lira-plakat-2023-05.jpg
ORGANIZER;CN="PSPD Lira Kamnik":MAILTO:alojz.hancic@gmail.com
END:VEVENT
BEGIN:VEVENT
DTSTART;TZID=Europe/Ljubljana:20191230T170000
DTEND;TZID=Europe/Ljubljana:20191230T170000
DTSTAMP:20260419T163110
CREATED:20191203T221644Z
LAST-MODIFIED:20191203T221644Z
UID:10006309-1577725200-1577725200@www.nasizbori.si
SUMMARY:PEVSKE JASLICE
DESCRIPTION:V decembru\, tako kot vsako leto tudi letos ob zaključku koledarskega leta poslušalce vabimo k Sv. Primožu nad Kamnikom na našo že 17. tradicionalno prireditev “PEVSKE JASLICE”!\nTudi letos vas bodmo skupaj z našimi gosti popeljali z božičnimi napevi v čarobnost božiča in prav lepo povabljeni\, da se nam pridružite v tej prelepi romarski cerkvi! \nhttps://4d.rtvslo.si/arhiv/kulturni-vrhovi/153217877?jwsource=cl
URL:https://www.nasizbori.si/dogodek/pevske-jaslice/
LOCATION:Unnamed Venue\, Črna pri Kamniku 26\, Stahovica\, --\, 1242\, Slovenia
CATEGORIES:Koncerti in projekti zborov
ATTACH;FMTTYPE=image/jpeg:https://www.nasizbori.si/wp-content/uploads/2019/12/20191203_222152.jpg
ORGANIZER;CN="PSPD Lira Kamnik":MAILTO:alojz.hancic@gmail.com
END:VEVENT
BEGIN:VEVENT
DTSTART;TZID=Europe/Ljubljana:20191221T180000
DTEND;TZID=Europe/Ljubljana:20191221T180000
DTSTAMP:20260419T163110
CREATED:20191203T184521Z
LAST-MODIFIED:20191203T223733Z
UID:10006698-1576951200-1576951200@www.nasizbori.si
SUMMARY:Večer stanovskih pesmi
DESCRIPTION:Posebno mesto v vokalni glasbi imajo stanovske pesmi. Besedo stan lahko razumemo v najširšem pomenu in tako med stanovske pesmi uvrstimo vse\, kar je povezano z raznimi skupinami ljudi\, ki jih karkoli povezuje. Največkrat so to dejavnosti\, poklici\, stroka in družbeno mesto\, npr. samskost\, vdovstvo\, starost …\nEna takšnih pesmi\, ki povezuje široko razumljene stanove\, je ljudska Pesem raznih stanov\, ki jo je zapela Neža Ahčin\, priredil pa Franc Kramar. V njej so kmetič\, fantič kot kosec\, dekle kot žanjica in starček.\nLjudje istih poklicev so se že davno bolj ali manj radi povezovali. V srednjem veku so se združevali v cehe. V škofjeloškem pasijonu so omenjeni lončarji\, peki\, krojači\, mesarji\, kovači\, kolarji\, tkalci idr. Mimogrede – v Londonu je bil leta 1472 ustanovljen tudi ceh glasbenikov. Sicer pa so združenja sorodnih poklicev že zelo stara. Pri starih Rimljanih je bilo znano združenje ladijskih prevoznikov corpus naviculariorum.\nTem tradicionalnim »cehovskim« poklicem smo dodali še pesmi drugih\, nekdaj razširjenih poklicev ali dejavnosti\, npr. mlinar in pastir\, dodali pa smo tudi nekaj sodobnih\, bolj »obrtniških« poklicev kapitana\, šoferja in gasilca. Na koncu pa bomo skupaj z Janijem Kovačičem zapeli njegovo priljubljeno pesem o problemu dela z naslovom Delam. \nAndrej Misson\, Škofja Loka 2019
URL:https://www.nasizbori.si/dogodek/vecer-stanovskih-pesmi/
LOCATION:Stari grad nad Kamnikom\, Novi trg 6\, 1241 Kamnik\, Kamnik\, 1242\, Slovenia
CATEGORIES:Koncerti in projekti zborov
ATTACH;FMTTYPE=image/jpeg:https://www.nasizbori.si/wp-content/uploads/2019/12/inbound9020424701803882001.jpg
ORGANIZER;CN="PSPD Lira Kamnik":MAILTO:alojz.hancic@gmail.com
END:VEVENT
BEGIN:VEVENT
DTSTART;TZID=Europe/Ljubljana:20181124T180000
DTEND;TZID=Europe/Ljubljana:20181124T180000
DTSTAMP:20260419T163110
CREATED:20181115T180908Z
LAST-MODIFIED:20181115T180908Z
UID:10006139-1543082400-1543082400@www.nasizbori.si
SUMMARY:Spominska maša
DESCRIPTION:Vabimo vas na Spominsko mašo s krajšim programom za preminule pevce Lire in vse pokojne prijatelje\, ki so nam pomagali uresničevati naše poslanstvo.
URL:https://www.nasizbori.si/dogodek/spominska-masa/
LOCATION:Župnijska cerkev Marije brezmadežne na Šutni\, Raspov prehod 2\, 1241 Kamnik\, Kamnik\, Osrednje Slovenska\, 1240\, Slovenia
CATEGORIES:Drugo
ATTACH;FMTTYPE=image/jpeg:https://www.nasizbori.si/wp-content/uploads/2018/11/20181115_181250-1.jpg
ORGANIZER;CN="PSPD Lira Kamnik":MAILTO:alojz.hancic@gmail.com
END:VEVENT
BEGIN:VEVENT
DTSTART;TZID=Europe/Ljubljana:20180519T190000
DTEND;TZID=Europe/Ljubljana:20180519T190000
DTSTAMP:20260419T163110
CREATED:20180516T075238Z
LAST-MODIFIED:20180516T075238Z
UID:10006411-1526756400-1526756400@www.nasizbori.si
SUMMARY:Letni koncert PSPD Lira Kamnik
DESCRIPTION:Prvo slovensko pevsko društvo Lira Kamnik vabi na letni koncert\, ki ga je poimenovala GRAJSKI VEČERI in ga tradicionalno že vrsto let prireja za grajskimi zidovi na kamniškem\, tokrat na Starem gradu nad Kamnikom.\nProgram je pester od priredb slovenskih narodnih do slovenskih popevk\, ki jih je za moški zbor priredil umetniški vodja PSPD Lira prof. dr. Andrej Misson.
URL:https://www.nasizbori.si/dogodek/letni-koncert-pspd-lira-kamnik/
LOCATION:Stari grad nad Kamnikom\, Slovenia
CATEGORIES:Koncerti in projekti zborov
ATTACH;FMTTYPE=image/jpeg:https://www.nasizbori.si/wp-content/uploads/2018/05/Lira-ob-130-letnici.jpg
ORGANIZER;CN="PSPD Lira Kamnik":MAILTO:alojz.hancic@gmail.com
END:VEVENT
END:VCALENDAR