BEGIN:VCALENDAR
VERSION:2.0
PRODID:-//Naši zbori - ECPv6.15.13//NONSGML v1.0//EN
CALSCALE:GREGORIAN
METHOD:PUBLISH
X-WR-CALNAME:Naši zbori
X-ORIGINAL-URL:https://www.nasizbori.si
X-WR-CALDESC:Dogodki za Naši zbori
REFRESH-INTERVAL;VALUE=DURATION:PT1H
X-Robots-Tag:noindex
X-PUBLISHED-TTL:PT1H
BEGIN:VTIMEZONE
TZID:Europe/Ljubljana
BEGIN:DAYLIGHT
TZOFFSETFROM:+0100
TZOFFSETTO:+0200
TZNAME:CEST
DTSTART:20250330T010000
END:DAYLIGHT
BEGIN:STANDARD
TZOFFSETFROM:+0200
TZOFFSETTO:+0100
TZNAME:CET
DTSTART:20251026T010000
END:STANDARD
BEGIN:DAYLIGHT
TZOFFSETFROM:+0100
TZOFFSETTO:+0200
TZNAME:CEST
DTSTART:20260329T010000
END:DAYLIGHT
BEGIN:STANDARD
TZOFFSETFROM:+0200
TZOFFSETTO:+0100
TZNAME:CET
DTSTART:20261025T010000
END:STANDARD
BEGIN:DAYLIGHT
TZOFFSETFROM:+0100
TZOFFSETTO:+0200
TZNAME:CEST
DTSTART:20270328T010000
END:DAYLIGHT
BEGIN:STANDARD
TZOFFSETFROM:+0200
TZOFFSETTO:+0100
TZNAME:CET
DTSTART:20271031T010000
END:STANDARD
END:VTIMEZONE
BEGIN:VEVENT
DTSTART;TZID=Europe/Ljubljana:20260418T193000
DTEND;TZID=Europe/Ljubljana:20260418T203000
DTSTAMP:20260420T180014
CREATED:20260420T064815Z
LAST-MODIFIED:20260420T064815Z
UID:10007632-1776540600-1776544200@www.nasizbori.si
SUMMARY:Koncert duhovnih in velikonočnih pesmi zbora RunBySingers
DESCRIPTION:V soboto\, 18. aprila\, bo pri sveti maši ob 18.30 v cerkvi sv. Jakoba v Ljubljani sodeloval mešani pevski zbor RunBySingers pod vodstvom Davida Ogdna. Po maši bo ob 19.30 sledil koncert duhovnih in velikonočnih pesmi. Vstop prost. \nhttps://www.runbysingers.org
URL:https://www.nasizbori.si/dogodek/koncert-duhovnih-in-velikonocnih-pesmi-zbora-runbysingers/
LOCATION:Cerkev Sv. Jakoba\, Ljubljana\, Slovenia
ATTACH;FMTTYPE=image/png:https://www.nasizbori.si/wp-content/uploads/2017/06/logo_NZ.png
ORGANIZER;CN="RunBySingers":MAILTO:info@runbysingers.org
END:VEVENT
END:VCALENDAR