BEGIN:VCALENDAR
VERSION:2.0
PRODID:-//Naši zbori - ECPv6.15.13//NONSGML v1.0//EN
CALSCALE:GREGORIAN
METHOD:PUBLISH
X-ORIGINAL-URL:https://www.nasizbori.si
X-WR-CALDESC:Dogodki za Naši zbori
REFRESH-INTERVAL;VALUE=DURATION:PT1H
X-Robots-Tag:noindex
X-PUBLISHED-TTL:PT1H
BEGIN:VTIMEZONE
TZID:Europe/Ljubljana
BEGIN:DAYLIGHT
TZOFFSETFROM:+0100
TZOFFSETTO:+0200
TZNAME:CEST
DTSTART:20220327T010000
END:DAYLIGHT
BEGIN:STANDARD
TZOFFSETFROM:+0200
TZOFFSETTO:+0100
TZNAME:CET
DTSTART:20221030T010000
END:STANDARD
BEGIN:DAYLIGHT
TZOFFSETFROM:+0100
TZOFFSETTO:+0200
TZNAME:CEST
DTSTART:20230326T010000
END:DAYLIGHT
BEGIN:STANDARD
TZOFFSETFROM:+0200
TZOFFSETTO:+0100
TZNAME:CET
DTSTART:20231029T010000
END:STANDARD
BEGIN:DAYLIGHT
TZOFFSETFROM:+0100
TZOFFSETTO:+0200
TZNAME:CEST
DTSTART:20240331T010000
END:DAYLIGHT
BEGIN:STANDARD
TZOFFSETFROM:+0200
TZOFFSETTO:+0100
TZNAME:CET
DTSTART:20241027T010000
END:STANDARD
END:VTIMEZONE
BEGIN:VEVENT
DTSTART;TZID=Europe/Ljubljana:20230505T190000
DTEND;TZID=Europe/Ljubljana:20230505T210000
DTSTAMP:20260421T142156
CREATED:20230505T124338Z
LAST-MODIFIED:20230505T124338Z
UID:10007090-1683313200-1683320400@www.nasizbori.si
SUMMARY:Srečanje pevskih zborov
DESCRIPTION:Koncert treh zborovskih zasedb\, ki delujejo na območju občine Brežice in se bodo predstavile s programom za območno revijo Pesem Posavja 2023
URL:https://www.nasizbori.si/dogodek/srecanje-pevskih-zborov/
LOCATION:Gasilski dom Kapele\, Kapele\, Slovenia
CATEGORIES:Koncerti in projekti zborov
ATTACH;FMTTYPE=image/jpeg:https://www.nasizbori.si/wp-content/uploads/2023/05/letak-a5-srecanje-pevskih-zborov-custom.jpg
ORGANIZER;CN="KD KAPELE":MAILTO:kdkapele@gmail.com
END:VEVENT
END:VCALENDAR