BEGIN:VCALENDAR
VERSION:2.0
PRODID:-//Naši zbori - ECPv6.15.13//NONSGML v1.0//EN
CALSCALE:GREGORIAN
METHOD:PUBLISH
X-ORIGINAL-URL:https://www.nasizbori.si
X-WR-CALDESC:Dogodki za Naši zbori
REFRESH-INTERVAL;VALUE=DURATION:PT1H
X-Robots-Tag:noindex
X-PUBLISHED-TTL:PT1H
BEGIN:VTIMEZONE
TZID:Europe/Ljubljana
BEGIN:DAYLIGHT
TZOFFSETFROM:+0100
TZOFFSETTO:+0200
TZNAME:CEST
DTSTART:20220327T010000
END:DAYLIGHT
BEGIN:STANDARD
TZOFFSETFROM:+0200
TZOFFSETTO:+0100
TZNAME:CET
DTSTART:20221030T010000
END:STANDARD
BEGIN:DAYLIGHT
TZOFFSETFROM:+0100
TZOFFSETTO:+0200
TZNAME:CEST
DTSTART:20230326T010000
END:DAYLIGHT
BEGIN:STANDARD
TZOFFSETFROM:+0200
TZOFFSETTO:+0100
TZNAME:CET
DTSTART:20231029T010000
END:STANDARD
BEGIN:DAYLIGHT
TZOFFSETFROM:+0100
TZOFFSETTO:+0200
TZNAME:CEST
DTSTART:20240331T010000
END:DAYLIGHT
BEGIN:STANDARD
TZOFFSETFROM:+0200
TZOFFSETTO:+0100
TZNAME:CET
DTSTART:20241027T010000
END:STANDARD
BEGIN:DAYLIGHT
TZOFFSETFROM:+0100
TZOFFSETTO:+0200
TZNAME:CEST
DTSTART:20250330T010000
END:DAYLIGHT
BEGIN:STANDARD
TZOFFSETFROM:+0200
TZOFFSETTO:+0100
TZNAME:CET
DTSTART:20251026T010000
END:STANDARD
END:VTIMEZONE
BEGIN:VEVENT
DTSTART;TZID=Europe/Ljubljana:20241116T193000
DTEND;TZID=Europe/Ljubljana:20241116T193000
DTSTAMP:20260421T130957
CREATED:20241108T151051Z
LAST-MODIFIED:20241108T151051Z
UID:10007349-1731785400-1731785400@www.nasizbori.si
SUMMARY:im Einklang - v sozvočju
DESCRIPTION:Mešani pevski zbor Artphonica iz Celovca bo v soboto\, 16. novembra gostoval v Ljubljani\, dan navrh pa v Škofji Loki. Zbor sestavljajo mladi in odlični nekdanji pevci iz Koroškega deželnega zbora\, ki so že prekoračili 26. leto starosti in so morali zato nehati peti tam.\nZborovski navdušenci iz obeh narodnih skupnosti na Koroškem so zato ustanovili zbor Artphonica. Redna zborovodkinja je Alina Pribernig. Zbor si vsako leto izbere vrhunskega umetniškega vodjo za letno delo. Za 2024 je to odlični Sebastjan Vrhovnik.
URL:https://www.nasizbori.si/dogodek/im-einklang-v-sozvocju/
LOCATION:Akademija za glasbo UL\, Kongresni trg 1\, Ljubljana\, Slovenia
CATEGORIES:Gostovanja tujih dirigentov in zasedb,Koncerti in projekti zborov,Slovenski zbori v sosednjih državah in po svetu
ATTACH;FMTTYPE=image/jpeg:https://www.nasizbori.si/wp-content/uploads/2024/11/artphonica-ljubljana-2024.jpg
ORGANIZER;CN="Artphonica":MAILTO:alina@loka.at
END:VEVENT
BEGIN:VEVENT
DTSTART;TZID=Europe/Ljubljana:20231021T190000
DTEND;TZID=Europe/Ljubljana:20231021T203000
DTSTAMP:20260421T130957
CREATED:20230926T110115Z
LAST-MODIFIED:20231001T082540Z
UID:10007154-1697914800-1697920200@www.nasizbori.si
SUMMARY:BELE NOČI: Med domovino in domom – razlike in podobnosti v naravi in človeku
DESCRIPTION:Komorni zbor DEKOR in dirigentka Kristina Bogataj \nBELE NOČI | DE VITA NÄTTERNA | VALKOISET YÖT\nMed domovino in domom – razlike in podobnosti v naravi in človeku  \nTokratna dirigentka KZ DEKOR Kristina Bogataj\, drugonagrajena na zadnjem državnem tekmovanju za slovenske zborovodje Zvok mojih rok\, z izborom slovenskih in finskih zborovskih del\, naslovljenim Bele noči\, ustvarja večplastno svojevrstno sožitje med finskim in slovenskim\, povezuje nasprotja: letni časi\, romantično in sodobno skladateljstvo\, tujina in domovina\, selitev in udomačevanje\, veselje do življenja in minevanje\, umetno in ljudsko. Koncert bo poleg primerjanja zvočnosti in skladateljskih odlik izbranih zborovskih skladb tako različnih dežel\, oddaljenosti in zanimivosti jezikov ponudil možnost vživeti se v skladbe in podoživeti njihovo vsebinsko rdečo nit. Poslušalca bo ponesel na kolo letnih časov\, da bo občutil dolgo\, trpko finsko zimo (Komulainen)\, vznemirjenje prihajajoče slovenske zelene pomladi (Lebič)\, toplega melanholičnega poletja v deželi tisočerih jezer (Damström) in radodarne domače jeseni s slutnjo konca\, smrti (Kastelec). Kolo naravnega cikla ga bo pognalo na pot\, v odhod\, smelo in upajoče proti svetlobi (Rautavaara)\, prignalo pa za kruhom v v dim odeta mesta\, sanjajoč domače loge (Srebotnjak). V novem domu bo miril dušo in iskal svoj zatrti glas (Ijas) ter tuje okolje počasi spoznaval in se v njem udomačeval (Whittall)\, želeč si\, da bi novice o tragedijah dnevnih delovnih migrantov (Mäntyjärvi)\, kot je sam\, srečnež samo poslušal v poročilih. V glasbi bo\, na svoj način\, našel pomirjujočo vez med toliko nasprotji\, razlikami\, med »trenutnim domom in večno domovino«. Program tako iz na prvi pogled osebnega prehaja v občečloveškega in vedno aktualnega – uglasbuje življenjski krog človeka-selivca in večnega iskalca\, ki hrepeni\, da mu vsakršno tuje (vsaj malo) postane domače\, da se temna noč s svojimi strahovi in zastrtimi upanji (vsaj malo) razjasni.
URL:https://www.nasizbori.si/dogodek/bele-noci-de-vita-natterna-i-valkoiset-yot/
LOCATION:Akademija za glasbo UL\, Kongresni trg 1\, Ljubljana\, Slovenia
CATEGORIES:Koncerti in projekti zborov,Prva izvedba del v Sloveniji
ATTACH;FMTTYPE=image/jpeg:https://www.nasizbori.si/wp-content/uploads/2023/09/plakat-web-bele-noci-dekor-25-09-23-01.jpeg
ORGANIZER;CN="Komorni zbor DEKOR":MAILTO:kzdekor.info@gmail.com
END:VEVENT
BEGIN:VEVENT
DTSTART;TZID=Europe/Ljubljana:20230321T133000
DTEND;TZID=Europe/Ljubljana:20230321T150000
DTSTAMP:20260421T130957
CREATED:20230317T230447Z
LAST-MODIFIED:20230317T230535Z
UID:10007065-1679405400-1679410800@www.nasizbori.si
SUMMARY:Predavanje dr. Briana Stevensa: Nove meje: sodobne zborovske skladateljice
DESCRIPTION:Torek\, 21. marec 2023\, ob 13.30  \nAkademija za glasbo v Ljubljani\, Predavalnica dr. Brede Oblak \n\n\n\n \n\n\n\nBrian Stevens je končal doktorski študij zborovskega dirigiranja na Univerzi v Connecticutu. Diplomiral je iz zborovskega dirigiranja in zborovske glasbene vzgoje na univerzah Houghton in Buffalo\, na univerzi SUNY Geneseo pa je diplomiral iz glasbene kompozicije in teorije. V zadnjem času je bil direktor zborovskih dejavnosti na Nazareth Collegeu\, kjer je vodil mednarodno nagrajene Nazareth Chamber Singers in Treble Choir. Je ustanovitelj in umetniški vodja Vox Eius\, profesionalnega komornega zbora za visoke glasove\, ki se posveča sodobnemu repertoarju skladateljic za visoke glasove. Pred začetkom študijske kariere je več kot desetletje vodil srednješolske zbore v Zvezni državi New York. \n\n\n\nSodeloval je z mednarodnimi zasedbami\, kot so Komorni zbor sv. Jakoba in Vokalni ansambel sv. Jakoba na Švedskem\, Zbor Univerze Šandong na Kitajskem\, Ženski zbor Adelisia in Voces Borealis v Kanadi ter Komorni zbor Visoke šole za glasbo v Mannheimu v Nemčiji. \n\n\n\nBrian Stevens je globoko predan sodobni zborovski glasbi. Pogosto je naročnik novih skladb in s svojimi zbori rad raziskuje nova dela uveljavljajočih se skladateljev. Zelo si prizadeva za promocijo skladb sodobnih zborovskih skladateljic po vsem svetu. Kot avtor sodeluje pri pripravi besedila o zborovski glasbi skladateljic\, pri čemer bo pisal o skladateljicah iz skandinavskih in baltskih regij.
URL:https://www.nasizbori.si/dogodek/predavanje-dr-briana-stevensa-nove-meje-sodobne-zborovske-skladateljice/
LOCATION:Akademija za glasbo UL\, Kongresni trg 1\, Ljubljana\, Slovenia
CATEGORIES:Drugo,Gostovanja tujih dirigentov in zasedb,Izobraževanja
ATTACH;FMTTYPE=image/jpeg:https://www.nasizbori.si/wp-content/uploads/2023/03/2023-03-17-ag-predavanje-1b.jpg
ORGANIZER;CN="Akademija za glasbo":MAILTO:dogodki@ag.uni-lj.si
END:VEVENT
END:VCALENDAR