BEGIN:VCALENDAR
VERSION:2.0
PRODID:-//Naši zbori - ECPv6.15.13//NONSGML v1.0//EN
CALSCALE:GREGORIAN
METHOD:PUBLISH
X-ORIGINAL-URL:https://www.nasizbori.si
X-WR-CALDESC:Dogodki za Naši zbori
REFRESH-INTERVAL;VALUE=DURATION:PT1H
X-Robots-Tag:noindex
X-PUBLISHED-TTL:PT1H
BEGIN:VTIMEZONE
TZID:Europe/Ljubljana
BEGIN:DAYLIGHT
TZOFFSETFROM:+0100
TZOFFSETTO:+0200
TZNAME:CEST
DTSTART:20150329T010000
END:DAYLIGHT
BEGIN:STANDARD
TZOFFSETFROM:+0200
TZOFFSETTO:+0100
TZNAME:CET
DTSTART:20151025T010000
END:STANDARD
BEGIN:DAYLIGHT
TZOFFSETFROM:+0100
TZOFFSETTO:+0200
TZNAME:CEST
DTSTART:20160327T010000
END:DAYLIGHT
BEGIN:STANDARD
TZOFFSETFROM:+0200
TZOFFSETTO:+0100
TZNAME:CET
DTSTART:20161030T010000
END:STANDARD
BEGIN:DAYLIGHT
TZOFFSETFROM:+0100
TZOFFSETTO:+0200
TZNAME:CEST
DTSTART:20170326T010000
END:DAYLIGHT
BEGIN:STANDARD
TZOFFSETFROM:+0200
TZOFFSETTO:+0100
TZNAME:CET
DTSTART:20171029T010000
END:STANDARD
BEGIN:DAYLIGHT
TZOFFSETFROM:+0100
TZOFFSETTO:+0200
TZNAME:CEST
DTSTART:20180325T010000
END:DAYLIGHT
BEGIN:STANDARD
TZOFFSETFROM:+0200
TZOFFSETTO:+0100
TZNAME:CET
DTSTART:20181028T010000
END:STANDARD
BEGIN:DAYLIGHT
TZOFFSETFROM:+0100
TZOFFSETTO:+0200
TZNAME:CEST
DTSTART:20190331T010000
END:DAYLIGHT
BEGIN:STANDARD
TZOFFSETFROM:+0200
TZOFFSETTO:+0100
TZNAME:CET
DTSTART:20191027T010000
END:STANDARD
END:VTIMEZONE
BEGIN:VEVENT
DTSTART;TZID=Europe/Ljubljana:20180906T170000
DTEND;TZID=Europe/Ljubljana:20180906T170000
DTSTAMP:20260424T171058
CREATED:20180812T164039Z
LAST-MODIFIED:20180903T101942Z
UID:10006105-1536253200-1536253200@www.nasizbori.si
SUMMARY:Avdicija – Otroški pevski zbor RTV Slovenija
DESCRIPTION:Radi pojete? Otroški in mladinski pevski zbor RTV Slovenija vabita mlade pevce v svoje vrste. \nAvdicija za otroke\, od 7 do 12 let bo v četrtek\, 6. septembra\, ob 17. uri. \nAvdicija za Mladinski pevski zbor pa dan prej\, v sredo\, 5. septembra\, ob 18. uri. \nPevci naj pripravijo eno pesem v slovenščini. \nDobimo se v avli Radia Slovenija. \nRedne vaje MPZ RTV SLO potekajo ob ponedeljkih in sredah\, od 17. do 18.15. ure. \nSodelovanje otrok v zborih RTV SLO ni obremenjeno s plačilom kakršnihkoli stroškov.
URL:https://www.nasizbori.si/dogodek/avdicija-otroski-pevski-zbor-rtv-slovenija/
LOCATION:Radio Slovenija\, Studio 26\, Kolodvorska 17\, Ljubljana\, 1000\, Slovenia
CATEGORIES:Drugo,Otroški in mladinski zbori
ATTACH;FMTTYPE=image/jpeg:https://www.nasizbori.si/wp-content/uploads/2018/08/KKK_0732.jpg
ORGANIZER;CN="Glasbena produkcija RTV Slovenija":MAILTO:gprtv@rtvslo.si
GEO:46.0569258;14.5098708
X-APPLE-STRUCTURED-LOCATION;VALUE=URI;X-ADDRESS=Radio Slovenija Studio 26 Kolodvorska 17 Ljubljana 1000 Slovenia;X-APPLE-RADIUS=500;X-TITLE=Kolodvorska 17:geo:14.5098708,46.0569258
END:VEVENT
BEGIN:VEVENT
DTSTART;TZID=Europe/Ljubljana:20180905T180000
DTEND;TZID=Europe/Ljubljana:20180905T180000
DTSTAMP:20260424T171058
CREATED:20180812T163737Z
LAST-MODIFIED:20180903T101814Z
UID:10006103-1536170400-1536170400@www.nasizbori.si
SUMMARY:AVDICIJA – Mladinski pevski zbor RTV Slovenija
DESCRIPTION:Radi pojete? Otroški in mladinski pevski zbor RTV Slovenija vabita mlade pevce v svoje vrste. \nAvdicija za Mladinski pevski zbor (od 13 – 17 let) bo v sredo\, 5. septembra\, ob 18. uri. \nAvdicija za Otroški pevski zbor (od 7 – 12 let) pa bo dan kasneje\, v četrtek\, 6. septembra\, ob 17. uri. \nPevci naj pripravijo eno pesem v slovenščini. \nDobimo se v avli Radia Slovenija. \nRedne vaje MPZ RTV SLO potekajo ob ponedeljkih in sredah\, od 18.30 do 20.45. ure. \nSodelovanje otrok v zborih RTV SLO ni obremenjeno s plačilom kakršnihkoli stroškov.
URL:https://www.nasizbori.si/dogodek/avdicija-mladinski-pevski-zbor-rtv-slovenija/
LOCATION:Radio Slovenija\, Studio 26\, Kolodvorska 17\, Ljubljana\, 1000\, Slovenia
CATEGORIES:Drugo,Otroški in mladinski zbori
ATTACH;FMTTYPE=image/jpeg:https://www.nasizbori.si/wp-content/uploads/2018/08/KKK_0846.jpg
ORGANIZER;CN="Glasbena produkcija RTV Slovenija":MAILTO:gprtv@rtvslo.si
GEO:46.0569258;14.5098708
X-APPLE-STRUCTURED-LOCATION;VALUE=URI;X-ADDRESS=Radio Slovenija Studio 26 Kolodvorska 17 Ljubljana 1000 Slovenia;X-APPLE-RADIUS=500;X-TITLE=Kolodvorska 17:geo:14.5098708,46.0569258
END:VEVENT
BEGIN:VEVENT
DTSTART;VALUE=DATE:20160906
DTEND;VALUE=DATE:20160909
DTSTAMP:20260424T171058
CREATED:20160906T083335Z
LAST-MODIFIED:20160906T083335Z
UID:10005835-1473127200-1473299999@www.nasizbori.si
SUMMARY:Avdicija za Otroški in Mladinski pevski zbor RTV Slovenija
DESCRIPTION:Vse mlade in nadebudne pevce vabimo na avdicijo za Otroški in Mladinski pevski zbor RTV Slovenija. Razpored avdicij je sledeč: \nOtroški pevski zbor RTV Slovenija (7–12 let): 6. september 2016 ob 17. uri\nMladinski pevski zbor RTV Slovenija (13–17 let): 7. september 2016 ob 18. uri \nVsi kandidati naj pripravijo eno pesem v slovenskem jeziku. \nDobimo se v avli Radia Slovenija!
URL:https://www.nasizbori.si/dogodek/avdicija-za-otroski-mladinski-pevski-zbor-rtv-slovenija/
LOCATION:Radio Slovenija\, Studio 26\, Kolodvorska 17\, Ljubljana\, 1000\, Slovenia
CATEGORIES:Drugo,Otroški in mladinski zbori
ATTACH;FMTTYPE=image/jpeg:https://www.nasizbori.si/wp-content/uploads/2016/09/OPZ-3_Miklavžev-koncert-2014-foto-Željko-Stevanić_LR.jpg
ORGANIZER;CN="Glasbena produkcija RTV Slovenija":MAILTO:gprtv@rtvslo.si
GEO:46.0569258;14.5098708
X-APPLE-STRUCTURED-LOCATION;VALUE=URI;X-ADDRESS=Radio Slovenija Studio 26 Kolodvorska 17 Ljubljana 1000 Slovenia;X-APPLE-RADIUS=500;X-TITLE=Kolodvorska 17:geo:14.5098708,46.0569258
END:VEVENT
END:VCALENDAR