BEGIN:VCALENDAR
VERSION:2.0
PRODID:-//Naši zbori - ECPv6.15.13//NONSGML v1.0//EN
CALSCALE:GREGORIAN
METHOD:PUBLISH
X-WR-CALNAME:Naši zbori
X-ORIGINAL-URL:https://www.nasizbori.si
X-WR-CALDESC:Dogodki za Naši zbori
REFRESH-INTERVAL;VALUE=DURATION:PT1H
X-Robots-Tag:noindex
X-PUBLISHED-TTL:PT1H
BEGIN:VTIMEZONE
TZID:Europe/Ljubljana
BEGIN:DAYLIGHT
TZOFFSETFROM:+0100
TZOFFSETTO:+0200
TZNAME:CEST
DTSTART:20150329T010000
END:DAYLIGHT
BEGIN:STANDARD
TZOFFSETFROM:+0200
TZOFFSETTO:+0100
TZNAME:CET
DTSTART:20151025T010000
END:STANDARD
BEGIN:DAYLIGHT
TZOFFSETFROM:+0100
TZOFFSETTO:+0200
TZNAME:CEST
DTSTART:20160327T010000
END:DAYLIGHT
BEGIN:STANDARD
TZOFFSETFROM:+0200
TZOFFSETTO:+0100
TZNAME:CET
DTSTART:20161030T010000
END:STANDARD
BEGIN:DAYLIGHT
TZOFFSETFROM:+0100
TZOFFSETTO:+0200
TZNAME:CEST
DTSTART:20170326T010000
END:DAYLIGHT
BEGIN:STANDARD
TZOFFSETFROM:+0200
TZOFFSETTO:+0100
TZNAME:CET
DTSTART:20171029T010000
END:STANDARD
END:VTIMEZONE
BEGIN:VEVENT
DTSTART;TZID=Europe/Ljubljana:20160906T190000
DTEND;TZID=Europe/Ljubljana:20160906T190000
DTSTAMP:20260424T233627
CREATED:20160902T102956Z
LAST-MODIFIED:20160906T072721Z
UID:10005829-1473188400-1473188400@www.nasizbori.si
SUMMARY:Avdicija zbora ArtVoicess
DESCRIPTION:Obveščamo vse zainteresirane\, da zbor Artvoicess pod vodstvom prof. Irene Vidic išče nove pevce (sopran\, alt\, predvsem tenor in bas). V ta namen bosta v prostorih Glasbene šole Grosuplje\, na OŠ Louis Adamiča\, Adamičeva 29\, II nadstropje\, učilnica št. 18\, potekali dve avdiciji\, in sicer 6. 9. ter 13. 9. 2016\, ob 19. uri. Program zbora obsega gospel\, sakral\, jazz\, pop\, klasično in ljudsko glasbo. Potek avdicije obsega: petje najmanj dveh pesmi po lastni izbiri\, posnemanje ritmičnih in melodičnih motivov\, razvitost glasbenega spomina\, primernost fizičnih predispozicij in zdravstvenega stanja. Več informacij na FB strani https://www.facebook.com/ArtVoicess/\, kamor lahko posredujete dodatna vprašanja.
URL:https://www.nasizbori.si/dogodek/avdicija-zbora-artvoicess/
LOCATION:Glasbena šola Grosuplje\, Osnovna šola Louisa Adamiča\, Adamičeva cesta 29\, Grosuplje\, Slovenia
CATEGORIES:Drugo
ATTACH;FMTTYPE=image/jpeg:https://www.nasizbori.si/wp-content/uploads/2016/09/ArtVoicess.jpg
ORGANIZER;CN="Glasbena %C5%A1ola Grosuplje":MAILTO:artvoicess@gmail.com
GEO:45.9569995;14.658662
X-APPLE-STRUCTURED-LOCATION;VALUE=URI;X-ADDRESS=Glasbena šola Grosuplje Osnovna šola Louisa Adamiča Adamičeva cesta 29 Grosuplje Slovenia;X-APPLE-RADIUS=500;X-TITLE=Adamičeva cesta 29:geo:14.658662,45.9569995
END:VEVENT
END:VCALENDAR