BEGIN:VCALENDAR
VERSION:2.0
PRODID:-//Naši zbori - ECPv6.15.13//NONSGML v1.0//EN
CALSCALE:GREGORIAN
METHOD:PUBLISH
X-WR-CALNAME:Naši zbori
X-ORIGINAL-URL:https://www.nasizbori.si
X-WR-CALDESC:Dogodki za Naši zbori
REFRESH-INTERVAL;VALUE=DURATION:PT1H
X-Robots-Tag:noindex
X-PUBLISHED-TTL:PT1H
BEGIN:VTIMEZONE
TZID:Europe/Ljubljana
BEGIN:DAYLIGHT
TZOFFSETFROM:+0100
TZOFFSETTO:+0200
TZNAME:CEST
DTSTART:20190331T010000
END:DAYLIGHT
BEGIN:STANDARD
TZOFFSETFROM:+0200
TZOFFSETTO:+0100
TZNAME:CET
DTSTART:20191027T010000
END:STANDARD
BEGIN:DAYLIGHT
TZOFFSETFROM:+0100
TZOFFSETTO:+0200
TZNAME:CEST
DTSTART:20200329T010000
END:DAYLIGHT
BEGIN:STANDARD
TZOFFSETFROM:+0200
TZOFFSETTO:+0100
TZNAME:CET
DTSTART:20201025T010000
END:STANDARD
BEGIN:DAYLIGHT
TZOFFSETFROM:+0100
TZOFFSETTO:+0200
TZNAME:CEST
DTSTART:20210328T010000
END:DAYLIGHT
BEGIN:STANDARD
TZOFFSETFROM:+0200
TZOFFSETTO:+0100
TZNAME:CET
DTSTART:20211031T010000
END:STANDARD
END:VTIMEZONE
BEGIN:VEVENT
DTSTART;TZID=Europe/Ljubljana:20200316T180000
DTEND;TZID=Europe/Ljubljana:20200316T180000
DTSTAMP:20260424T104720
CREATED:20200219T120029Z
LAST-MODIFIED:20200219T120029Z
UID:10006723-1584381600-1584381600@www.nasizbori.si
SUMMARY:	pogovor z ustvarjalci choregie projekta Threnos (za grlo)
DESCRIPTION:V produkciji Carmine Slovenice je nastal choregie projekt – svetovna praizvedba dela Threnos (za grlo)\, ameriškega skladatelja Jacoba Cooperja\, ki smo ga skupaj z izjemno pesnico Doro Malech razvijali štiri leta. Izvedba je zaupana 16 članski solistični vokalni zasedbi novoglasbenega gledališča Choregie in Sidra Bell Dance Company iz New Yorka. Projekt pripravlja mednarodna umetniška ekipa\, ki z delom skuša ponuditi prostor za premislek o tem\, kar se običajno skriva ali prikriva. Ideja za skladbo izhaja iz starogrške žalostinke in svojevrstna oblika paraliturgične službe ter spominja na mašo za mrtve živali. Ukvarja se z živalskostjo in človeškostjo kot političnima kategorijama. Delo je na prvi pogled usmerjeno v skrb za živali. V resnici pa gre za ljudi\, za nas\, in za naš občutek krivde. Živali so kot marginaliziran subjekt izhodišče\, metafora.
URL:https://www.nasizbori.si/dogodek/%ef%82%a7pogovor-z-ustvarjalci-choregie-projekta-threnos-za-grlo/
LOCATION:CS Loža\, Partizanska 5\, maribor\, 2000\, Slovenia
CATEGORIES:Drugo,Izvedba novitet,Koncerti in projekti zborov
ATTACH;FMTTYPE=image/png:https://www.nasizbori.si/wp-content/uploads/2017/06/logo_NZ.png
END:VEVENT
END:VCALENDAR