BEGIN:VCALENDAR
VERSION:2.0
PRODID:-//Naši zbori - ECPv6.15.13//NONSGML v1.0//EN
CALSCALE:GREGORIAN
METHOD:PUBLISH
X-ORIGINAL-URL:https://www.nasizbori.si
X-WR-CALDESC:Dogodki za Naši zbori
REFRESH-INTERVAL;VALUE=DURATION:PT1H
X-Robots-Tag:noindex
X-PUBLISHED-TTL:PT1H
BEGIN:VTIMEZONE
TZID:Europe/Ljubljana
BEGIN:DAYLIGHT
TZOFFSETFROM:+0100
TZOFFSETTO:+0200
TZNAME:CEST
DTSTART:20180325T010000
END:DAYLIGHT
BEGIN:STANDARD
TZOFFSETFROM:+0200
TZOFFSETTO:+0100
TZNAME:CET
DTSTART:20181028T010000
END:STANDARD
BEGIN:DAYLIGHT
TZOFFSETFROM:+0100
TZOFFSETTO:+0200
TZNAME:CEST
DTSTART:20190331T010000
END:DAYLIGHT
BEGIN:STANDARD
TZOFFSETFROM:+0200
TZOFFSETTO:+0100
TZNAME:CET
DTSTART:20191027T010000
END:STANDARD
BEGIN:DAYLIGHT
TZOFFSETFROM:+0100
TZOFFSETTO:+0200
TZNAME:CEST
DTSTART:20200329T010000
END:DAYLIGHT
BEGIN:STANDARD
TZOFFSETFROM:+0200
TZOFFSETTO:+0100
TZNAME:CET
DTSTART:20201025T010000
END:STANDARD
BEGIN:DAYLIGHT
TZOFFSETFROM:+0100
TZOFFSETTO:+0200
TZNAME:CEST
DTSTART:20210328T010000
END:DAYLIGHT
BEGIN:STANDARD
TZOFFSETFROM:+0200
TZOFFSETTO:+0100
TZNAME:CET
DTSTART:20211031T010000
END:STANDARD
BEGIN:DAYLIGHT
TZOFFSETFROM:+0100
TZOFFSETTO:+0200
TZNAME:CEST
DTSTART:20220327T010000
END:DAYLIGHT
BEGIN:STANDARD
TZOFFSETFROM:+0200
TZOFFSETTO:+0100
TZNAME:CET
DTSTART:20221030T010000
END:STANDARD
END:VTIMEZONE
BEGIN:VEVENT
DTSTART;TZID=Europe/Ljubljana:20211219T170000
DTEND;TZID=Europe/Ljubljana:20211219T180000
DTSTAMP:20260419T193037
CREATED:20211210T214959Z
LAST-MODIFIED:20211210T214959Z
UID:10006849-1639933200-1639936800@www.nasizbori.si
SUMMARY:Adventni koncert štirih zborov
DESCRIPTION:19. december 2021 ob 17.00 \nDom II. slovenskega tabora Žalec \n  \nMePZ Risto Savin \nMePZ A Cappella Petrovče \nMešani planinski pevski zbor Žalec \nŽenski pevski zbor Gotovlje \n  \nPrevzem brezplačnih vstopnic v TIC Žalec.
URL:https://www.nasizbori.si/dogodek/adventni-koncert-stirih-zborov/
LOCATION:Dvorana 2. slovenskega tabora Žalec\, Žalec\, Slovenia
CATEGORIES:Koncerti in projekti zborov
ATTACH;FMTTYPE=image/jpeg:https://www.nasizbori.si/wp-content/uploads/2021/12/2021-12-10-mepz-risto-savin-1.jpg
GEO:46.251984;15.1650282
END:VEVENT
BEGIN:VEVENT
DTSTART;VALUE=DATE:20190518
DTEND;VALUE=DATE:20190520
DTSTAMP:20260419T193037
CREATED:20181001T135034Z
LAST-MODIFIED:20190516T112714Z
UID:10006470-1558144800-1558231199@www.nasizbori.si
SUMMARY:15. festival Sredi zvezd 2019
DESCRIPTION:V Žalcu bodo tudi letos organizirali Festival vokalne glasbe Sredi zvezd 2019. Kljub lanskoletnim govoricam o bienalnem poteku festivala\, so se organizatorji z OI JSKD Žalec na čelu po tehtnem premisleku odločili\, da ga organizirajo tudi letos\, a z nekaterimi spremembami. \nLetošnji festival bo potekal v SOBOTO\, 18. MAJA 2019 ob 19.30 uri v Domu II. slovenskega tabora Žalec. Uvodoma bosta nastopili dve obetavni skupini in sicer Tona vokala z Ljubnega ob Savinji ter Vokalna skupina Muze z Radomelj. Večer se bo nadaljeval z nastopom štirih uveljavljenih skupin\, ki se bodo potegovale za privlačne nagrade. O njih bo odločala strokovna komisija v sestavi Zala Hribernik\, Nina Strnad ter Samo Ivačič\, nagrado pa bo eni od skupin dodelila tudi publika s svojimi glasovi. Da bo mera dobre glasbe resnično polna pa bo s svojim samostojnim nastopom poskrbela Nina Strnad\, ki bo prav gotovo prižgala močno zvezdo na žalsko glasbeno ozvezdje. \nLetošnja novost je tudi delavnica vokalne tehnike s Samom Ivačičem\, ki bo potekal med 14. in 17. uro. K prijavi vabimo vse zainteresirane vokalne skupine\, ne glede na velikost in izkušnje\, ter posameznike\, ki pojejo v vokalnih skupinah\, a se skupina delavnice ne more udeležiti. Vabljeni seveda tudi drugi navdušenci nad vokalno glasbo. Na voljo so štiri mesta za aktivno udeležbo na delavnici ter neomejeno število pasivnih udeležencev. \nRAZPIS ZA DELAVNICO >> \nPRIJAVNICA NA DELAVNICO >> \n 
URL:https://www.nasizbori.si/dogodek/15-festival-sredi-zvezd-2019/
LOCATION:Dvorana 2. slovenskega tabora Žalec\, Žalec\, Slovenia
CATEGORIES:Prireditve JSKD in drugi večji dogodki,Vokalni pop in jazz
ATTACH;FMTTYPE=image/png:https://www.nasizbori.si/wp-content/uploads/2018/10/2019_05_10_Sredi_zvezd_plakat.png
ORGANIZER;CN="JSKD":MAILTO:info@jskd.si
GEO:46.251984;15.1650282
END:VEVENT
BEGIN:VEVENT
DTSTART;VALUE=DATE:20190415
DTEND;VALUE=DATE:20190417
DTSTAMP:20260419T193037
CREATED:20181001T132816Z
LAST-MODIFIED:20190405T155235Z
UID:10006469-1555293600-1555379999@www.nasizbori.si
SUMMARY:Rok prijave na 15. festival Sredi zvezd 2019
DESCRIPTION:Festival\, na katerem se predstavijo male pevske skupine\, ki izvajajo popularno džezovsko vokalno glasbo. Njihove nastope ocenjuje tričlanska žirija\, ki podeli nagrade in posebna\npriznanja. Festival bo potekal v dveh zaporednih dnevih\, v petek  17. maja 2019 ob 20.00 in v soboto 18. maja 2019 ob 19.30. \nRok prijave: 15. april 2019 \nBesedilo razpisa in prijavnico najdete TUKAJ. \n 
URL:https://www.nasizbori.si/dogodek/rok-prijave-na-15-festival-sredi-zvezd-2019/
LOCATION:Dvorana 2. slovenskega tabora Žalec\, Žalec\, Slovenia
CATEGORIES:Prireditve JSKD in drugi večji dogodki,Vokalni pop in jazz
ATTACH;FMTTYPE=image/jpeg:https://www.nasizbori.si/wp-content/uploads/2019/04/2019_04_04_sredizvezd19-2.jpg
ORGANIZER;CN="JSKD":MAILTO:info@jskd.si
GEO:46.251984;15.1650282
END:VEVENT
END:VCALENDAR