BEGIN:VCALENDAR
VERSION:2.0
PRODID:-//Naši zbori - ECPv6.15.13//NONSGML v1.0//EN
CALSCALE:GREGORIAN
METHOD:PUBLISH
X-WR-CALNAME:Naši zbori
X-ORIGINAL-URL:https://www.nasizbori.si
X-WR-CALDESC:Dogodki za Naši zbori
REFRESH-INTERVAL;VALUE=DURATION:PT1H
X-Robots-Tag:noindex
X-PUBLISHED-TTL:PT1H
BEGIN:VTIMEZONE
TZID:Europe/Ljubljana
BEGIN:DAYLIGHT
TZOFFSETFROM:+0100
TZOFFSETTO:+0200
TZNAME:CEST
DTSTART:20220327T010000
END:DAYLIGHT
BEGIN:STANDARD
TZOFFSETFROM:+0200
TZOFFSETTO:+0100
TZNAME:CET
DTSTART:20221030T010000
END:STANDARD
BEGIN:DAYLIGHT
TZOFFSETFROM:+0100
TZOFFSETTO:+0200
TZNAME:CEST
DTSTART:20230326T010000
END:DAYLIGHT
BEGIN:STANDARD
TZOFFSETFROM:+0200
TZOFFSETTO:+0100
TZNAME:CET
DTSTART:20231029T010000
END:STANDARD
BEGIN:DAYLIGHT
TZOFFSETFROM:+0100
TZOFFSETTO:+0200
TZNAME:CEST
DTSTART:20240331T010000
END:DAYLIGHT
BEGIN:STANDARD
TZOFFSETFROM:+0200
TZOFFSETTO:+0100
TZNAME:CET
DTSTART:20241027T010000
END:STANDARD
END:VTIMEZONE
BEGIN:VEVENT
DTSTART;TZID=Europe/Ljubljana:20231214T193000
DTEND;TZID=Europe/Ljubljana:20231214T210000
DTSTAMP:20260419T215806
CREATED:20231208T234746Z
LAST-MODIFIED:20231208T234746Z
UID:10007202-1702582200-1702587600@www.nasizbori.si
SUMMARY:Dobrodelni koncert Srčna UL
DESCRIPTION:Srčna UL je dobrodelna akcija\, ki jo Univerza v Ljubljani v sodelovanju z Zvezo prijateljev mladine Slovenije izvaja z namenom zbiranja finančnih sredstev za študentke in študente\, ki so se zaradi posebnih osebnih okoliščin znašli v finančni stiski in posledično brez sredstev za preživetje. Z zbranimi finančnimi sredstvi ogroženim študentkam in študentom Univerze v Ljubljani pomagamo pri premostitvi stisk\, in sicer s sofinanciranjem najemnine in bivanjskih stroškov\, nakupa živil in obleke\, študijskega materiala ali študiju namenjene računalniške opreme.  \nDobrodelni koncert Srčna UL bo potekal v četrtek\, 14. decembra 2023\, ob 19.30 v dvorani Julija Betetta na Akademiji za glasbo (Kongresni trg 1). Na koncertu bodo nastopili študentski simfonični orkester Grex Symphoniacorum Univerze v Ljubljani\, Akademski pevski zbor Tone Tomšič in Combo band Akademije za glasbo Univerze v Ljubljani.  Vstopnico za koncert si zagotovite s posredovanim potrdilom o nakazilu 30 EUR ali več na e-naslov srcnaul@uni-lj.si (posnetek zaslona SMS donacij/potrdilo o plačilu). Vsa zbrana sredstva v sklopu Dobrodelnega koncerta Srčna UL bodo v celoti namenjena študentkam in študentom Univerze v Ljubljani. \nPrispevajte z nakazilom\nZveza prijateljev mladine Slovenije\nDimičeva 9\, 1000 Ljubljana\nTRR DH: SI56 6100 0000 3512 232\nSklic: SI00 07-245104\nNamen: POMOČ ŠTUDENTOM\nKoda namena: CHAR
URL:https://www.nasizbori.si/dogodek/dobrodelni-koncert-srcna-ul/
LOCATION:Dvorana Julija Betetta\, Akademija za glasbo\, Kongresni trg 1\, Ljubljana\, 1000\, Slovenia
CATEGORIES:Koncerti in projekti zborov
ATTACH;FMTTYPE=image/jpeg:https://www.nasizbori.si/wp-content/uploads/2023/12/ul22-srcnaul-koncert-840x440-ul-web.jpg
ORGANIZER;CN="Akademski pevski zbor Tone Tom%C5%A1i%C4%8D Univerze v Ljubljani":MAILTO:info@apz-tt.si
END:VEVENT
BEGIN:VEVENT
DTSTART;TZID=Europe/Ljubljana:20230609T180000
DTEND;TZID=Europe/Ljubljana:20230609T191500
DTSTAMP:20260419T215806
CREATED:20230522T142156Z
LAST-MODIFIED:20230608T215438Z
UID:10007101-1686333600-1686338100@www.nasizbori.si
SUMMARY:Koncert Svetovnega zbora mladih
DESCRIPTION:Petek\, 9. junija 2023\, 18.00–19.15\nDvorana Julija Betetta\, Akademija za glasbo \nDirigenta: Zoltán Pad (HU)\nGostujoči dirigent: Sebastjan Vrhovnik (SI) \n  \nVSTOPNICE: \nna dan dogodka pred Dvorano Julija Betetta  \n(prek spletnega portala mojekarte.si 9. 6. niso več na voljo!) \n  \nSvetovni zbor mladih (WYC – World Youth Choir) je projekt Mednarodne zveze za zborovsko glasbo (IFCM). Ustanovljen je bil leta 1989 z namenom\, da vsako leto za izvedbo koncertne turneje združi izjemne mlade talente z vsega sveta. \nLetošnjo zasedbo Svetovnega zbora mladih sestavljajo njegovi alumni – pevke in pevci\, ki so v njem že sodelovali med letoma 2016 in 2019. Sestali se bodo na začetku junija in nato po intenzivnih vajah izvedli koncertno turnejo z nastopi v Grožnjanu na Hrvaškem\, Budimpešti in Veszpremu na Madžarskem ter Ljubljani (več o letošnji zasedbi). \nNa koncertu v Dvorani Julija Betetta na Akademiji za glasbo se bo zbor\, sestavljen iz izbranih pevk in pevcev z vsega sveta\, predstavil z mešanim repertoarjem s posebnim poudarkom na glasbi hrvaških\, madžarskih\, pa tudi slovenskih skladateljev (Mateja Kastelica\, Tadeje Vulc in Sama Vovka). Poleg tega bo na koncertu prvič v Sloveniji zazvenela tudi noviteta Nane Forte\, ki jo je skladateljica napisala prav za letošnjo edicijo Svetovnega zbora mladih. \nZbor bosta vodila madžarski dirigent Zoltán Pad\, umetniški vodja Madžarskega radijskega zbora\, in gostujoči dirigent Sebastjan Vrhovnik\, izredni profesor za zborovsko dirigiranje na Akademiji za glasbo v Ljubljani\, ki ga poznamo po odličnem vodenju najvidnejših slovenskih zborov\, med njimi so Komorni zbor Akademije za glasbo UL\, MePZ Glasbene matice Ljubljana in Zbor Slovenske filharmonije\, v preteklosti pa tudi Komorni zbor RTV Slovenija\, APZ Tone Tomšič Univerze v Ljubljani\, Mešani pevski zbor Obala Koper in drugi. \nLepo vabljeni! \nOrganizatorji:\nJeunesses Musicales International\, International Federation for Choral Music\, European Choral Association v sodelovanju z JM Croatia\, JSKD\, JM Hungary\, Ministry of Culture and Media of Croatia\, Veszprém-Balaton 2023 in European Music Council
URL:https://www.nasizbori.si/dogodek/koncert-svetovnega-zbora-mladih/
LOCATION:Dvorana Julija Betetta\, Akademija za glasbo\, Kongresni trg 1\, Ljubljana\, 1000\, Slovenia
CATEGORIES:Gostovanja tujih dirigentov in zasedb,Koncerti in projekti zborov
ATTACH;FMTTYPE=image/jpeg:https://www.nasizbori.si/wp-content/uploads/2023/06/2023-05-22-wyc-3b.jpg
ORGANIZER;CN="JSKD":MAILTO:info@jskd.si
END:VEVENT
END:VCALENDAR