BEGIN:VCALENDAR
VERSION:2.0
PRODID:-//Naši zbori - ECPv6.15.13//NONSGML v1.0//EN
CALSCALE:GREGORIAN
METHOD:PUBLISH
X-ORIGINAL-URL:https://www.nasizbori.si
X-WR-CALDESC:Dogodki za Naši zbori
REFRESH-INTERVAL;VALUE=DURATION:PT1H
X-Robots-Tag:noindex
X-PUBLISHED-TTL:PT1H
BEGIN:VTIMEZONE
TZID:Europe/Ljubljana
BEGIN:DAYLIGHT
TZOFFSETFROM:+0100
TZOFFSETTO:+0200
TZNAME:CEST
DTSTART:20220327T010000
END:DAYLIGHT
BEGIN:STANDARD
TZOFFSETFROM:+0200
TZOFFSETTO:+0100
TZNAME:CET
DTSTART:20221030T010000
END:STANDARD
BEGIN:DAYLIGHT
TZOFFSETFROM:+0100
TZOFFSETTO:+0200
TZNAME:CEST
DTSTART:20230326T010000
END:DAYLIGHT
BEGIN:STANDARD
TZOFFSETFROM:+0200
TZOFFSETTO:+0100
TZNAME:CET
DTSTART:20231029T010000
END:STANDARD
BEGIN:DAYLIGHT
TZOFFSETFROM:+0100
TZOFFSETTO:+0200
TZNAME:CEST
DTSTART:20240331T010000
END:DAYLIGHT
BEGIN:STANDARD
TZOFFSETFROM:+0200
TZOFFSETTO:+0100
TZNAME:CET
DTSTART:20241027T010000
END:STANDARD
END:VTIMEZONE
BEGIN:VEVENT
DTSTART;TZID=Europe/Ljubljana:20230224T090000
DTEND;TZID=Europe/Ljubljana:20230225T200000
DTSTAMP:20260421T113631
CREATED:20230126T202819Z
LAST-MODIFIED:20230126T202819Z
UID:10007053-1677229200-1677355200@www.nasizbori.si
SUMMARY:Mojstrski tečaj Garyja Gradna
DESCRIPTION:Z izvedbo mojstrskega tečaja Garyja Gradna želimo udeležencem ponuditi nova in poglobljena znanja ter s tem prispevati k razvoju in rasti kakovosti pevskega poustvarjanja. \nIzobraževanje je zasnovano kot kombinacija predavanj\, prikaza praktičnega dela predavatelja z zborom in analize. Udeležbo priporočamo umetniškim vodjem in pevcem\, ki želijo poglobiti svoja znanja in nadgraditi pristop k interpretaciji zborovske glasbe\, izboljšati svojo tehniko dirigiranja ter pridobiti dodatna znanja na področju zborovske vokalne tehnike in oblikovanja zvoka pevskega sestava. \nLiteratura je izbrana tako\, da zagotavlja pridobivanje novih znanj izkušenim in manj izkušenim vodjem pevskih skupin in zborovskim pevcem. Udeležbo priporočamo tako vodjem skupin\, ki se ukvarjajo z manj zahtevno literaturo\, kot tistim\, ki izvajajo najzahtevnejše\, tudi tekmovalne zborovske skladbe.
URL:https://www.nasizbori.si/dogodek/mojstrski-tecaj-garyja-gradna/
LOCATION:Glasbena šola Slavka Osterca Ljutomer\, Prešernova ulica 8\, Ljutomer\, 9240\, Slovenia
CATEGORIES:Gostovanja tujih dirigentov in zasedb,Izobraževanja
ATTACH;FMTTYPE=image/jpeg:https://www.nasizbori.si/wp-content/uploads/2023/01/orfej-ljutomer-gary-graden.jpg
ORGANIZER;CN="Komorni zbor Orfej Ljutomer":MAILTO:info@orfej.si
END:VEVENT
END:VCALENDAR