BEGIN:VCALENDAR
VERSION:2.0
PRODID:-//Naši zbori - ECPv6.15.13//NONSGML v1.0//EN
CALSCALE:GREGORIAN
METHOD:PUBLISH
X-ORIGINAL-URL:https://www.nasizbori.si
X-WR-CALDESC:Dogodki za Naši zbori
REFRESH-INTERVAL;VALUE=DURATION:PT1H
X-Robots-Tag:noindex
X-PUBLISHED-TTL:PT1H
BEGIN:VTIMEZONE
TZID:Europe/Ljubljana
BEGIN:DAYLIGHT
TZOFFSETFROM:+0100
TZOFFSETTO:+0200
TZNAME:CEST
DTSTART:20150329T010000
END:DAYLIGHT
BEGIN:STANDARD
TZOFFSETFROM:+0200
TZOFFSETTO:+0100
TZNAME:CET
DTSTART:20151025T010000
END:STANDARD
BEGIN:DAYLIGHT
TZOFFSETFROM:+0100
TZOFFSETTO:+0200
TZNAME:CEST
DTSTART:20160327T010000
END:DAYLIGHT
BEGIN:STANDARD
TZOFFSETFROM:+0200
TZOFFSETTO:+0100
TZNAME:CET
DTSTART:20161030T010000
END:STANDARD
BEGIN:DAYLIGHT
TZOFFSETFROM:+0100
TZOFFSETTO:+0200
TZNAME:CEST
DTSTART:20170326T010000
END:DAYLIGHT
BEGIN:STANDARD
TZOFFSETFROM:+0200
TZOFFSETTO:+0100
TZNAME:CET
DTSTART:20171029T010000
END:STANDARD
END:VTIMEZONE
BEGIN:VEVENT
DTSTART;TZID=Europe/Ljubljana:20160731T173000
DTEND;TZID=Europe/Ljubljana:20160731T173000
DTSTAMP:20260419T162253
CREATED:20160726T064247Z
LAST-MODIFIED:20160726T064247Z
UID:10005692-1469986200-1469986200@www.nasizbori.si
SUMMARY:Koncert gostujočega ansambla Gruppo Vocale Euphoné – Predjamski grad
DESCRIPTION:Vabimo vas na ciklus koncertov renesančne glasbe v izvedbi gostujočega ansambla s Sicilije \nGruppo Vocale Euphoné\nmaestro Vincenzo Marino \npetek\, 29. julij 2016\, ob 20h\nPavšlarjeva hiša v Kranju \nsobota\, 30. julij 2016\, ob 19h\nŽupnijska cerkev Sv. Jakoba v Ljubljani \nnedelja\, 31. julij 2016\, ob 17.30\nPredjamski grad v Postojni \nProgram:\nLudovico Grossi da Viadana\, Tomás Luis de Victoria\, Cristóbal de Morales\, Giovanni Pierluigi da Palestrina\, Josquin des Prés\, John Bennet\, Orazio Vecchi\, Jacques Arcadelt\, Thomas Tomkins\, Antonio Il Verso\, Severin Cornet\, Orlando di Lasso\, John Dowland\, Pierre Passereau\, Baldisarre Donato. \nVSTOP PROST \nVokalna skupina Euphoné je bila ustanovljena leta 2009 v Palermu na Siciliji in se posveča izvedbam a cappella renesančne in baročne glasbe. Deluje v okviru zborovske organizacije Coro Polifonico Regina Pacis\, ki že 10 let pripravlja slavnostne dogodke v cerkvi Madonna della Milicia v Palermu\, pogosto pa z glasbenimi izvedbami gostuje v drugih cerkvah v Palermu. \nEuphoné se je javnosti premierno predstavila z izvedbo maše italijanskega baročnega skladatelja Cristofora Caresana na Konservatoriju Vincenzo Bellini v Palermu\, leto kasneje je izvedla koncert v sklopu simpozija Od knjige do e- knjige in sodelovala na festivalu zborovske glasbe. Strast do glasbe in petja je pevke in pevce l. 2011 in 2012 popeljala na tekmovalni oder državnega tekmovanja sakralne glasbe v Alessandrii della Rocca\, kjer so obakrat osvojili nagrado za najboljšo tehnično pripravljenost zbora ter zborovodja za izvedbo celotnega sporeda. Na državnem tekmovanju Antonio Guanti v Materi so l. 2012 prejeli 3. mesto in posebno priznanje za interpretacijo renesančnega posvetnega programa. Zanimanje in preučevanje posvetne glasbe jih je poneslo v nove okvire izražanja. V Palermu so sodelovali v projektu Patos – prikaz duše in telesa\, za posnetek zgoščenke so osvojili prvo mesto in prejeli umetniško priznanje na 17. državnem tekmovanju za mlade glasbenike v Caccamu. Sledili so koncerti na priznanih prizoriščih v Palatinski kapeli\, katedrali Monreale\, v antični palači Steri ter diplomski koncert iz zborovskega dirigiranja maestra Vincenza Marina na Konservatoriju Vincenzo Bellini v Palermu. S koncertom gregorijanskih koralov in sakralne renesančne polifonije so otvorili koncertno sezono A.Gi.Mus Sicilia ter Trabia 2012 Music v Trabiji. V letu 2013 so se predstavili v San Giovanni Gemini\, v avditoriju italijanskega radia in televizije v Palermu in sodelovali na festivalu zborovske glasbe v Templju sozvočij v Agrigentu. L. 2014 so osvojili prvo mesto na državnem zborovskem tekmovanju Eliodoro Sollima v Enni\, lani pa so v sodelovanju z drugimi umetniki snemali za zgoščenko La Cattedrale\, ki vključuje filmsko\, sakralno in božično glasbo. \nVincenzo Marino skupaj s svojimi pevci izvaja številne pevske delavnice\, katerih vsebinski poudarek je na pevski tehniki\, ki omogoča užitek pri petju brez napora glasu\, radosti skupnega muziciranja ter izpostavlja pomen delovanja posameznika v zbora v širšem kontekstu. \nVokalna skupina Euphoné v Sloveniji gostuje na povabilo Komornega zbora De profundis Kranj.
URL:https://www.nasizbori.si/dogodek/koncert-gostujocega-ansambla-gruppo-vocale-euphone-predjamski-grad/
LOCATION:Predjamski grad v Postojni\, Predjama 1\, Postojna\, 6230\, Slovenia
CATEGORIES:Gostovanja tujih dirigentov in zasedb,Koncerti in projekti zborov,Stara glasba
ATTACH;FMTTYPE=image/jpeg:https://www.nasizbori.si/wp-content/uploads/2016/07/CRP_06742.jpg
ORGANIZER;CN="Komorni zbor De profundis%2C Kranj":MAILTO:komorni.zbor@drustvo-deprofundis.si
GEO:45.8157646;14.1268815
X-APPLE-STRUCTURED-LOCATION;VALUE=URI;X-ADDRESS=Predjamski grad v Postojni Predjama 1 Postojna 6230 Slovenia;X-APPLE-RADIUS=500;X-TITLE=Predjama 1:geo:14.1268815,45.8157646
END:VEVENT
END:VCALENDAR