BEGIN:VCALENDAR
VERSION:2.0
PRODID:-//Naši zbori - ECPv6.15.13//NONSGML v1.0//EN
CALSCALE:GREGORIAN
METHOD:PUBLISH
X-ORIGINAL-URL:https://www.nasizbori.si
X-WR-CALDESC:Dogodki za Naši zbori
REFRESH-INTERVAL;VALUE=DURATION:PT1H
X-Robots-Tag:noindex
X-PUBLISHED-TTL:PT1H
BEGIN:VTIMEZONE
TZID:Europe/Ljubljana
BEGIN:DAYLIGHT
TZOFFSETFROM:+0100
TZOFFSETTO:+0200
TZNAME:CEST
DTSTART:20160327T010000
END:DAYLIGHT
BEGIN:STANDARD
TZOFFSETFROM:+0200
TZOFFSETTO:+0100
TZNAME:CET
DTSTART:20161030T010000
END:STANDARD
BEGIN:DAYLIGHT
TZOFFSETFROM:+0100
TZOFFSETTO:+0200
TZNAME:CEST
DTSTART:20170326T010000
END:DAYLIGHT
BEGIN:STANDARD
TZOFFSETFROM:+0200
TZOFFSETTO:+0100
TZNAME:CET
DTSTART:20171029T010000
END:STANDARD
BEGIN:DAYLIGHT
TZOFFSETFROM:+0100
TZOFFSETTO:+0200
TZNAME:CEST
DTSTART:20180325T010000
END:DAYLIGHT
BEGIN:STANDARD
TZOFFSETFROM:+0200
TZOFFSETTO:+0100
TZNAME:CET
DTSTART:20181028T010000
END:STANDARD
END:VTIMEZONE
BEGIN:VEVENT
DTSTART;TZID=Europe/Ljubljana:20171216T190000
DTEND;TZID=Europe/Ljubljana:20171216T190000
DTSTAMP:20260421T101746
CREATED:20171214T085626Z
LAST-MODIFIED:20171214T085626Z
UID:10006292-1513450800-1513450800@www.nasizbori.si
SUMMARY:Koncert Komornega zbora DEKOR in Komornega zbora ORFEJ
DESCRIPTION:Na skupnem koncertu se bosta predstavila Komorni zbor DEKOR pod vodstvom Petre Grassi in Komorni zbor Orfej pod vodstvom Andraža Hauptmana. Program: di Lasso\, Monteverdi\, Grieg\, Wolf\, Lipovšek\, Krek\, Donati\, Makor …
URL:https://www.nasizbori.si/dogodek/koncert-komornega-zbora-dekor-komornega-zbora-orfej/
LOCATION:Župnijska cerkev povišanja sv. Križa\, Križevci pri Ljutomeru\, Križevci pri Ljutomeru 4\, Križevci pri Ljutomeru\, Prlekija\, 9242\, Slovenia
CATEGORIES:Koncerti in projekti zborov
ATTACH;FMTTYPE=image/jpeg:https://www.nasizbori.si/wp-content/uploads/2017/12/dekor-orfej-nasi_zbori.jpg
ORGANIZER;CN="Komorni zbor Orfej Ljutomer":MAILTO:info@orfej.si
END:VEVENT
END:VCALENDAR