BEGIN:VCALENDAR
VERSION:2.0
PRODID:-//Naši zbori - ECPv6.15.13//NONSGML v1.0//EN
CALSCALE:GREGORIAN
METHOD:PUBLISH
X-ORIGINAL-URL:https://www.nasizbori.si
X-WR-CALDESC:Dogodki za Naši zbori
REFRESH-INTERVAL;VALUE=DURATION:PT1H
X-Robots-Tag:noindex
X-PUBLISHED-TTL:PT1H
BEGIN:VTIMEZONE
TZID:Europe/Ljubljana
BEGIN:DAYLIGHT
TZOFFSETFROM:+0100
TZOFFSETTO:+0200
TZNAME:CEST
DTSTART:20150329T010000
END:DAYLIGHT
BEGIN:STANDARD
TZOFFSETFROM:+0200
TZOFFSETTO:+0100
TZNAME:CET
DTSTART:20151025T010000
END:STANDARD
BEGIN:DAYLIGHT
TZOFFSETFROM:+0100
TZOFFSETTO:+0200
TZNAME:CEST
DTSTART:20160327T010000
END:DAYLIGHT
BEGIN:STANDARD
TZOFFSETFROM:+0200
TZOFFSETTO:+0100
TZNAME:CET
DTSTART:20161030T010000
END:STANDARD
BEGIN:DAYLIGHT
TZOFFSETFROM:+0100
TZOFFSETTO:+0200
TZNAME:CEST
DTSTART:20170326T010000
END:DAYLIGHT
BEGIN:STANDARD
TZOFFSETFROM:+0200
TZOFFSETTO:+0100
TZNAME:CET
DTSTART:20171029T010000
END:STANDARD
BEGIN:DAYLIGHT
TZOFFSETFROM:+0100
TZOFFSETTO:+0200
TZNAME:CEST
DTSTART:20180325T010000
END:DAYLIGHT
BEGIN:STANDARD
TZOFFSETFROM:+0200
TZOFFSETTO:+0100
TZNAME:CET
DTSTART:20181028T010000
END:STANDARD
BEGIN:DAYLIGHT
TZOFFSETFROM:+0100
TZOFFSETTO:+0200
TZNAME:CEST
DTSTART:20190331T010000
END:DAYLIGHT
BEGIN:STANDARD
TZOFFSETFROM:+0200
TZOFFSETTO:+0100
TZNAME:CET
DTSTART:20191027T010000
END:STANDARD
BEGIN:DAYLIGHT
TZOFFSETFROM:+0100
TZOFFSETTO:+0200
TZNAME:CEST
DTSTART:20200329T010000
END:DAYLIGHT
BEGIN:STANDARD
TZOFFSETFROM:+0200
TZOFFSETTO:+0100
TZNAME:CET
DTSTART:20201025T010000
END:STANDARD
BEGIN:DAYLIGHT
TZOFFSETFROM:+0100
TZOFFSETTO:+0200
TZNAME:CEST
DTSTART:20210328T010000
END:DAYLIGHT
BEGIN:STANDARD
TZOFFSETFROM:+0200
TZOFFSETTO:+0100
TZNAME:CET
DTSTART:20211031T010000
END:STANDARD
BEGIN:DAYLIGHT
TZOFFSETFROM:+0100
TZOFFSETTO:+0200
TZNAME:CEST
DTSTART:20220327T010000
END:DAYLIGHT
BEGIN:STANDARD
TZOFFSETFROM:+0200
TZOFFSETTO:+0100
TZNAME:CET
DTSTART:20221030T010000
END:STANDARD
BEGIN:DAYLIGHT
TZOFFSETFROM:+0100
TZOFFSETTO:+0200
TZNAME:CEST
DTSTART:20230326T010000
END:DAYLIGHT
BEGIN:STANDARD
TZOFFSETFROM:+0200
TZOFFSETTO:+0100
TZNAME:CET
DTSTART:20231029T010000
END:STANDARD
BEGIN:DAYLIGHT
TZOFFSETFROM:+0100
TZOFFSETTO:+0200
TZNAME:CEST
DTSTART:20240331T010000
END:DAYLIGHT
BEGIN:STANDARD
TZOFFSETFROM:+0200
TZOFFSETTO:+0100
TZNAME:CET
DTSTART:20241027T010000
END:STANDARD
BEGIN:DAYLIGHT
TZOFFSETFROM:+0100
TZOFFSETTO:+0200
TZNAME:CEST
DTSTART:20250330T010000
END:DAYLIGHT
BEGIN:STANDARD
TZOFFSETFROM:+0200
TZOFFSETTO:+0100
TZNAME:CET
DTSTART:20251026T010000
END:STANDARD
BEGIN:DAYLIGHT
TZOFFSETFROM:+0100
TZOFFSETTO:+0200
TZNAME:CEST
DTSTART:20260329T010000
END:DAYLIGHT
BEGIN:STANDARD
TZOFFSETFROM:+0200
TZOFFSETTO:+0100
TZNAME:CET
DTSTART:20261025T010000
END:STANDARD
END:VTIMEZONE
BEGIN:VEVENT
DTSTART;TZID=Europe/Ljubljana:20250924T203000
DTEND;TZID=Europe/Ljubljana:20250924T220000
DTSTAMP:20260421T142541
CREATED:20250425T172414Z
LAST-MODIFIED:20251031T223209Z
UID:10007433-1758745800-1758751200@www.nasizbori.si
SUMMARY:Plečnik in a-cappella 2025: KVARTET AS -  4. koncert
DESCRIPTION:Sreda\, 24. septembra 2025\, ob 20.30\nNarodna in univerzitetna knjižnica\, Velika čitalnica (Turjaška 1\, 1000 Ljubljana) \nKVARTET AS \nŽiga Čopi\, prvi tenor\nBlaž Strmole\, drugi tenor\nMatjaž Strmole\, bariton\nRok Oblak\, bas \nKvartet As je pevski sestav\, ki izhaja iz izročila slovenskega moškega zborovskega petja in ki je bil ustanovljen na pobudo bratov Blaža in Matjaža Strmoleta že pred več kot 17 leti. Oba sta uveljavljena pevca in člana več vokalnih zasedb (Ingenium Ensemble\, Kvartet Strmole). Poleg slovenske narodne in umetne pesmi preteklih dveh stoletij se zasedba pogosto spogleduje tudi z zimzelenimi uspešnicami\, ki jih izvaja v lastnih priredbah. Zasedba je prepoznavna po svojem raznolikem in kakovostnem glasbenem programu ter navdušujočih in dovršenih izvedbah.
URL:https://www.nasizbori.si/dogodek/plecnik-in-a-cappella-2025-kvartet-as-4-koncert/
LOCATION:NUK – Narodna in univerzitetna knjižnica v Ljubljani\, Turjaška ulica 1\, Ljubljana\, Slovenia
CATEGORIES:Drugo,Koncerti in projekti zborov
ATTACH;FMTTYPE=image/jpeg:https://www.nasizbori.si/wp-content/uploads/2025/04/kvartet-as-slika-kolaz.jpg
ORGANIZER;CN="im.puls art":MAILTO:houska@siol.net
GEO:46.0476013;14.5037201
X-APPLE-STRUCTURED-LOCATION;VALUE=URI;X-ADDRESS=NUK – Narodna in univerzitetna knjižnica v Ljubljani Turjaška ulica 1 Ljubljana Slovenia;X-APPLE-RADIUS=500;X-TITLE=Turjaška ulica 1:geo:14.5037201,46.0476013
END:VEVENT
BEGIN:VEVENT
DTSTART;TZID=Europe/Ljubljana:20241002T203000
DTEND;TZID=Europe/Ljubljana:20241002T220000
DTSTAMP:20260421T142541
CREATED:20240913T034028Z
LAST-MODIFIED:20240913T034028Z
UID:10007320-1727901000-1727906400@www.nasizbori.si
SUMMARY:Plečnik in a-cappella 2024: Vokalni ansambel ELINOR -  3. koncert
DESCRIPTION:PLEČNIK IN A-CAPPELLA 2024 \nMed 22. septembrom in 16. oktobrom bo v Ljubljani že petič potekal tradicionalni koncertni cikel PLEČNIK IN A-CAPPELLA\, v katerem se dopolnjujeta vokalna glasba in arhitektura mojstra Plečnika\, ki je bila pred kratkim vpisana na Unescov seznam svetovne naravne in kulturne dediščine. Na petih slikovitih Plečnikovih lokacijah po mestu bo znova nastopilo pet atraktivnih vokalnih zasedb. Koncerti so edinstvena priložnost\, da prisluhnete izbrani a-cappella glasbi v čudovitih Plečnikovih interjerjih in tako prisostvujete umetniškemu doživetju za oko in uho. \nSreda\, 2. oktobra 2024\, ob 20.30\nVelika čitalnica NUK (Turjaška 1\, 1000 Ljubljana)\nVokalni ansambel ELINOR\nUmetniški vodja: Robert Feguš \nVokalni ansambel Elinor velja za enega vidnejših slovenskih vokalnih sestavov. Pevci in pevke poustvarjajo renesančno\, baročno\, klasično\, romantično in sodobno zborovsko literaturo. Beseda Elinor izvira iz hebrejske besede Eleanor\, ki je sestavljena iz dveh elementov: ‘el’\, kar pomeni bog in ‘or’\, kar pomeni luč. Elinor torej pomeni ‘Bog je moja luč’. V grščini ime Elinor pomeni ‘Sijoča svetloba’. Na koncertu v Veliki čitalnici Narodne in univerzitetne knjižnice bo zasedba predstavila program Triptih\, ki so ga zasnovali posebej za to priložnost in bo združeval tri tematske dele\, ki tvorijo čutno in estetsko celoto: Trenutek\, Mati in Očetnjava.
URL:https://www.nasizbori.si/dogodek/plecnik-in-a-cappella-2024-vokalni-ansambel-elinor-3-koncert/
LOCATION:NUK – Narodna in univerzitetna knjižnica v Ljubljani\, Turjaška ulica 1\, Ljubljana\, Slovenia
CATEGORIES:Koncerti in projekti zborov
ATTACH;FMTTYPE=image/jpeg:https://www.nasizbori.si/wp-content/uploads/2024/09/elinor-1-nova-copyjpg-final.jpg
ORGANIZER;CN="im.puls art":MAILTO:houska@siol.net
GEO:46.0476013;14.5037201
X-APPLE-STRUCTURED-LOCATION;VALUE=URI;X-ADDRESS=NUK – Narodna in univerzitetna knjižnica v Ljubljani Turjaška ulica 1 Ljubljana Slovenia;X-APPLE-RADIUS=500;X-TITLE=Turjaška ulica 1:geo:14.5037201,46.0476013
END:VEVENT
BEGIN:VEVENT
DTSTART;TZID=Europe/Ljubljana:20231018T203000
DTEND;TZID=Europe/Ljubljana:20231018T220000
DTSTAMP:20260421T142541
CREATED:20230917T211721Z
LAST-MODIFIED:20230917T211721Z
UID:10007142-1697661000-1697666400@www.nasizbori.si
SUMMARY:Plečnik in a-cappella 2023: Komorni zbor Ave
DESCRIPTION:Sreda\, 18. oktobra 2023\, ob 20.30\nVelika čitalnica NUK (Turjaška 1\, 1000 Ljubljana)\nKOMORNI ZBOR AVE\nUmetniški vodja: Gregor Klančič \nKomorni zbor Ave je bil ustanovljen leta 1984 v župniji Ljubljana-Vič kot Vokalna skupina Ave. Pod umetniškim vodstvom ustanovitelja Andraža Hauptmana je skupina kmalu prestopila prag domače župnije in s kakovostnim poustvarjanjem raznovrstne zborovske glasbe osvojila poslušalstvo doma in v tujini. Obenem se je razširila v komorni zbor\, v katerem danes prepevajo pevci iz celotne Slovenije. V preteklih sezonah so ga vodili Branka Potočnik Krajnik\, Jerica Bukovec\, Marko Vatovec in Alenka Podpečan. Leta 2019 je umetniško vodenje prevzel Gregor Klančič. Komorni zbor Ave se redno udeležuje zborovskih tekmovanj doma in po svetu\, kjer vselej posega po najvišjih priznanjih. Zadnja leta se intenzivno posveča tudi izvajanju vokalno-inštrumentalnih del. Pri tem je sodeloval z orkestri\, kot sta orkester Slovenske filharmonije in Simfoniki RTV Slovenija ter z dirigenti\, kot so Charles Dutoit\, Uroš Lajovic in Matej Šarc.
URL:https://www.nasizbori.si/dogodek/plecnik-in-a-cappella-2023-komorni-zbor-ave/
LOCATION:NUK – Narodna in univerzitetna knjižnica v Ljubljani\, Turjaška ulica 1\, Ljubljana\, Slovenia
CATEGORIES:Slovenske revije, abonmaji in festivali
ATTACH;FMTTYPE=image/jpeg:https://www.nasizbori.si/wp-content/uploads/2023/09/kz-ave-2.jpg
ORGANIZER;CN="im.puls art":MAILTO:houska@siol.net
GEO:46.0476013;14.5037201
X-APPLE-STRUCTURED-LOCATION;VALUE=URI;X-ADDRESS=NUK – Narodna in univerzitetna knjižnica v Ljubljani Turjaška ulica 1 Ljubljana Slovenia;X-APPLE-RADIUS=500;X-TITLE=Turjaška ulica 1:geo:14.5037201,46.0476013
END:VEVENT
BEGIN:VEVENT
DTSTART;TZID=Europe/Ljubljana:20230927T203000
DTEND;TZID=Europe/Ljubljana:20230927T220000
DTSTAMP:20260421T142541
CREATED:20230917T211624Z
LAST-MODIFIED:20230917T211624Z
UID:10007140-1695846600-1695852000@www.nasizbori.si
SUMMARY:Plečnik in a-cappella 2023: Mešani pevski zbor Obala Koper
DESCRIPTION:Sreda\, 27. septembra 2023\, ob 20.30\nAtrij NUK (Turjaška 1\, 1000 Ljubljana)\nMEŠANI PEVSKI ZBOR OBALA KOPER\nDirigent: Andrej Makor \nMešani pevski zbor Obala Koper je nastal na pobudo zborovodje Mirka Slosarja leta 1977 ter združil mlade primorske pevce v novo\, ambiciozno zasedbo. Zbor je od takrat vodilo več zborovodij (Walter Lo Nigro\, Ambrož Čopi\, Maja Cilenšek\, Sebastjan Vrhovnik)\, v svoje peto desetletje pa se je odpravil skupaj z novim umetniškim vodjo\, priznanim skladateljem in zborovodjem Andrejem Makorjem. Zbor je dobitnik 12 zlatih plaket z državnega zborovskega tekmovanja Naša pesem v Mariboru in številnih nagrad ter priznanj z mednarodnih tekmovanj (mdr. 1. nagrade tekmovanja CorAmare v Italiji leta 2019\, velike nagrade in treh zlatih plaket z mednarodnega tekmovanja Musica Eterna Roma leta 2023). Mešani pevski zbor Obala Koper je pomemben promotor kulturnega utripa na Primorskem\, saj z organizacijo številnih koncertov\, natečajev za zborovske skladbe ter mojstrskih tečajev dirigiranja s priznanimi dirigenti krepi in poglablja vlogo zborovskega petja. Je tudi gostitelj Mednarodnega zborovskega festivala Koper\, ki že tradicionalno poteka v Kopru.
URL:https://www.nasizbori.si/dogodek/plecnik-in-a-cappella-2023-mesani-pevski-zbor-obala-koper/
LOCATION:NUK – Narodna in univerzitetna knjižnica v Ljubljani\, Turjaška ulica 1\, Ljubljana\, Slovenia
CATEGORIES:Slovenske revije, abonmaji in festivali
ATTACH;FMTTYPE=image/jpeg:https://www.nasizbori.si/wp-content/uploads/2023/09/mpz-obala-1.jpg
ORGANIZER;CN="im.puls art":MAILTO:houska@siol.net
GEO:46.0476013;14.5037201
X-APPLE-STRUCTURED-LOCATION;VALUE=URI;X-ADDRESS=NUK – Narodna in univerzitetna knjižnica v Ljubljani Turjaška ulica 1 Ljubljana Slovenia;X-APPLE-RADIUS=500;X-TITLE=Turjaška ulica 1:geo:14.5037201,46.0476013
END:VEVENT
BEGIN:VEVENT
DTSTART;TZID=Europe/Ljubljana:20220922T203000
DTEND;TZID=Europe/Ljubljana:20220922T220000
DTSTAMP:20260421T142541
CREATED:20220817T091913Z
LAST-MODIFIED:20220817T091913Z
UID:10006957-1663878600-1663884000@www.nasizbori.si
SUMMARY:PLEČNIK IN A-CAPPELLA: VOKALNI ANSAMBEL ELINOR (3. koncert)
DESCRIPTION:VOKALNI ANSAMBEL ELINOR\n»Zgovornost tišine«\nUmetniški vodja: Robert Feguš \nVokalni ansambel Elinor je v zadnjih nekaj letih opozoril nase s profesionalnim pristopom in številnimi kakovostnimi produkcijami. Zasedba prihaja iz Maribora in deluje pod okriljem bazilike Matere Usmiljenja. Umetniško jo vodi izkušeni zborovodja in učitelj petja Robert Feguš\, ki je v poldrugem desetletju umetniške prisotnosti z različnimi vokalnimi zasedbami poustvaril več kot 500 koncertnih dogodkov. Zasedba deluje v sestavu: Elizabeta Tkalec – sopran\, Aldina Clarisa Ban – mezzosopran\, Sandra Lenaršič – alt\, Kristjan Furman – bariton\, Robert Feguš – tenor in Marko Žagar – bas.
URL:https://www.nasizbori.si/dogodek/plecnik-in-a-cappella-vokalni-ansambel-elinor-3-koncert/
LOCATION:NUK – Narodna in univerzitetna knjižnica v Ljubljani\, Turjaška ulica 1\, Ljubljana\, Slovenia
CATEGORIES:Koncerti in projekti zborov,Slovenske revije, abonmaji in festivali
ATTACH;FMTTYPE=image/jpeg:https://www.nasizbori.si/wp-content/uploads/2022/08/elinor-uradna-fotografija-2022-1.jpg
ORGANIZER;CN="im.puls art":MAILTO:houska@siol.net
GEO:46.0476013;14.5037201
X-APPLE-STRUCTURED-LOCATION;VALUE=URI;X-ADDRESS=NUK – Narodna in univerzitetna knjižnica v Ljubljani Turjaška ulica 1 Ljubljana Slovenia;X-APPLE-RADIUS=500;X-TITLE=Turjaška ulica 1:geo:14.5037201,46.0476013
END:VEVENT
BEGIN:VEVENT
DTSTART;TZID=Europe/Ljubljana:20220915T203000
DTEND;TZID=Europe/Ljubljana:20220915T220000
DTSTAMP:20260421T142541
CREATED:20220817T091524Z
LAST-MODIFIED:20220817T091750Z
UID:10006956-1663273800-1663279200@www.nasizbori.si
SUMMARY:PLEČNIK IN A-CAPPELLA: KOMORNI ZBOR ORFEJ (2. koncert)
DESCRIPTION:KOMORNI ZBOR ORFEJ\n»Na nebu zvezde…«\nDirigent: Andraž Hauptman \nKomorni zbor Orfej iz Ljutomera deluje od leta 1989. Od leta 1994\, ko je zbor k sodelovanju povabil priznani slovenski zborovodja profesor Janez Bole\, umetniški vodja nekaj najvidnejših vokalnih zasedb v Sloveniji (Slovenski oktet\, APZ Tone Tomšič\, Slovenski madrigalisti)\, je zbor nastopal tudi pod imenoma Slovenski madrigalisti in Gallus Singers. Prva stalna umetniška vodja Orfeja je bila Romana Rek. Od jeseni leta 2017 zbor deluje pod umetniškim vodstvom Andraža Hauptmana in njegovega asistenta Vita Žerdina. Je prejemnik številnih nagrad in priznanj. V letu 2022 je na državnem tekmovanju Naša pesem v Mariboru prejel zlato plaketo in zasedel tretje mesto\, na tekmovanju International Choral Competition Ave Verum v Badnu v Avstriji pa istega leta še zlato plaketo in nagrado publike.
URL:https://www.nasizbori.si/dogodek/plecnik-in-a-cappella-komorni-zbor-orfej-2-koncert/
LOCATION:NUK – Narodna in univerzitetna knjižnica v Ljubljani\, Turjaška ulica 1\, Ljubljana\, Slovenia
CATEGORIES:Koncerti in projekti zborov,Slovenske revije, abonmaji in festivali
ATTACH;FMTTYPE=image/jpeg:https://www.nasizbori.si/wp-content/uploads/2022/08/komorni-zbor-orfej-foto-janez-erzen.jpg
ORGANIZER;CN="im.puls art":MAILTO:houska@siol.net
GEO:46.0476013;14.5037201
X-APPLE-STRUCTURED-LOCATION;VALUE=URI;X-ADDRESS=NUK – Narodna in univerzitetna knjižnica v Ljubljani Turjaška ulica 1 Ljubljana Slovenia;X-APPLE-RADIUS=500;X-TITLE=Turjaška ulica 1:geo:14.5037201,46.0476013
END:VEVENT
BEGIN:VEVENT
DTSTART;TZID=Europe/Ljubljana:20210923T203000
DTEND;TZID=Europe/Ljubljana:20210923T203000
DTSTAMP:20260421T142541
CREATED:20210817T144158Z
LAST-MODIFIED:20210818T080327Z
UID:10006819-1632429000-1632429000@www.nasizbori.si
SUMMARY:PLEČNIK & A-CAPPELLA: CARMEN MANET (3. koncert)
DESCRIPTION:“Pesem ostane”\nCARMEN MANET\nUmetniški vodja: Primož Kerštanj \nCarmen manet je 35-članski ženski pevski zbor iz Kranja\, ki ga vse od ustanovitve leta 2011 vodi dirigent in glasbeni pedagog Primož Kerštanj. Skupaj poskrbijo\, da njihove pesmi še dolgo odzvanjajo v ušesih in ostanejo zapisane v spominu navzočih poslušalcev. Carmen manet namreč v latinščini pomeni “pesem ostane”. Zbor je na domačih in tujih tekmovanjih prejel številne nagrade\, leta 2017 pa je v Rigi v Latviji na tekmovanju za Evrovizijski zbor leta postal »Evrovizijski zbor leta 2017«. Od takrat člani intenzivno nastopajo na domačih in tujih odrih. Leta 2018 so posneli svoj prvi studijski album Apollo 18\, avgusta istega leta pa so med drugim i na slovitem belgijskem festivalu Nuit des Choeurs pred več kot 15.000 poslušalci.
URL:https://www.nasizbori.si/dogodek/plecnik-a-cappella-carmen-manet-3-koncert/
LOCATION:NUK – Narodna in univerzitetna knjižnica v Ljubljani\, Turjaška ulica 1\, Ljubljana\, Slovenia
CATEGORIES:Koncerti in projekti zborov,Slovenske revije, abonmaji in festivali
ATTACH;FMTTYPE=image/jpeg:https://www.nasizbori.si/wp-content/uploads/2021/08/carmen-manet-1.jpg
ORGANIZER;CN="im.puls art":MAILTO:houska@siol.net
GEO:46.0476013;14.5037201
X-APPLE-STRUCTURED-LOCATION;VALUE=URI;X-ADDRESS=NUK – Narodna in univerzitetna knjižnica v Ljubljani Turjaška ulica 1 Ljubljana Slovenia;X-APPLE-RADIUS=500;X-TITLE=Turjaška ulica 1:geo:14.5037201,46.0476013
END:VEVENT
BEGIN:VEVENT
DTSTART;TZID=Europe/Ljubljana:20210916T203000
DTEND;TZID=Europe/Ljubljana:20210916T203000
DTSTAMP:20260421T142541
CREATED:20210817T144139Z
LAST-MODIFIED:20210818T080233Z
UID:10006818-1631824200-1631824200@www.nasizbori.si
SUMMARY:PLEČNIK & A-CAPPELLA: INGENIUM ENSEMBLE (2. koncert)
DESCRIPTION:INGENIUM ENSEMBLE\n“V kraljestvu knjig”\nUmetniški vodja: Blaž Strmole \nIngenium Ensemble je mednarodno uveljavljena pevska zasedba iz Slovenije\, ki se posveča tako izvajanju klasične zborovske glasbe kot tudi sodobnim stvaritvam. Skupina najpogosteje nastopa na tujih glasbenih festivalih\, kjer ponosno zastopa bogato slovensko zborovsko izročilo. Med najvidnejšimi dosežki zasedbe naj omenimo uspehe na zborovskih tekmovanjih v Leipzigu\, Arezzu in Tolosi\, kjer je leta 2014 poleg zmage v obeh kategorijah za vokalne skupine prejela tudi nagrado občinstva. Za svoje mednarodne dosežke je zasedba leta 2015 prejela zlati znak Javnega sklada Republike Slovenije za kulturne dejavnosti. Njihov tokratni nastop bo potekal v “kraljestvu knjig”\, v Veliki čitalnici Narodne in univerzitetne knjižnice.
URL:https://www.nasizbori.si/dogodek/plecnik-a-cappella-ingenium-ensemble-2-koncert/
LOCATION:NUK – Narodna in univerzitetna knjižnica v Ljubljani\, Turjaška ulica 1\, Ljubljana\, Slovenia
CATEGORIES:Koncerti in projekti zborov,Slovenske revije, abonmaji in festivali
ATTACH;FMTTYPE=image/jpeg:https://www.nasizbori.si/wp-content/uploads/2021/08/ingenium2bensemble2b2-1500.jpg
ORGANIZER;CN="im.puls art":MAILTO:houska@siol.net
GEO:46.0476013;14.5037201
X-APPLE-STRUCTURED-LOCATION;VALUE=URI;X-ADDRESS=NUK – Narodna in univerzitetna knjižnica v Ljubljani Turjaška ulica 1 Ljubljana Slovenia;X-APPLE-RADIUS=500;X-TITLE=Turjaška ulica 1:geo:14.5037201,46.0476013
END:VEVENT
BEGIN:VEVENT
DTSTART;TZID=Europe/Ljubljana:20171126T190000
DTEND;TZID=Europe/Ljubljana:20171126T190000
DTSTAMP:20260421T142541
CREATED:20171122T181421Z
LAST-MODIFIED:20171122T181421Z
UID:10005995-1511722800-1511722800@www.nasizbori.si
SUMMARY:Koncert Gallina deLux
DESCRIPTION:Koncerti Gallina deLux arhitekturno in akustično atraktivne prostore s pomočjo oblikovanja svetlobe povezujejo z glasbenim vzdušjem posameznih skladb raznolikega programa\, s poudarkom na ustvarjalnosti slovenskih avtorjev. Svetloba iz arhitekture izpostavi posamezne detajle\, hkrati pa podpira vzdušje in atmosfero posameznih skladb\, s čemer deluje kot povezovalni element med arhitekturo in glasbo.\nS koncerti Gallina deLux\, v sklopu projekta Izrazi štirih\, se Gallina v letošnjem letu predstavlja na različnih atraktivnih lokacijah Mestne občine Ljubljana in drugod po Sloveniji. Naslov projekta Izrazi štirih se nanaša na štiridelno zasnovan program v katerem Gallina slovensko ljudsko glasbo povezuje s tujimi ljudskimi in slovensko sodobno glasbo s slovenskimi popularnimi skladbami. S tem slovensko ljudsko glasbo umeščamo v širši kontekst svetovne glasbe\, slovensko glasbo sodobnih avtorjev pa povezujemo z glasbo slovenske popevke\, saj so avtorji obeh področij posegali ali še posegajo po besedilih istih avtorjev. Na koncertih bodo izvedene prav za to priložnost napisane novitete slovenskih skladateljev Alda Kumarja in Andreja Makorja.
URL:https://www.nasizbori.si/dogodek/koncert-gallina-delux-4/
LOCATION:NUK – Narodna in univerzitetna knjižnica v Ljubljani\, Turjaška ulica 1\, Ljubljana\, Slovenia
CATEGORIES:Izvedba novitet,Koncerti in projekti zborov,Ljudska glasba,Prva izvedba del v Sloveniji
ATTACH;FMTTYPE=image/jpeg:https://www.nasizbori.si/wp-content/uploads/2017/11/Gallinaobjava-1.jpg
GEO:46.0476013;14.5037201
X-APPLE-STRUCTURED-LOCATION;VALUE=URI;X-ADDRESS=NUK – Narodna in univerzitetna knjižnica v Ljubljani Turjaška ulica 1 Ljubljana Slovenia;X-APPLE-RADIUS=500;X-TITLE=Turjaška ulica 1:geo:14.5037201,46.0476013
END:VEVENT
BEGIN:VEVENT
DTSTART;TZID=Europe/Ljubljana:20161116T170000
DTEND;TZID=Europe/Ljubljana:20161116T170000
DTSTAMP:20260421T142541
CREATED:20161111T150618Z
LAST-MODIFIED:20161111T150618Z
UID:10005749-1479315600-1479315600@www.nasizbori.si
SUMMARY:Kaj je potrebno vedeti ob izdaji glasbenega albuma v fizični obliki in na spletu?
DESCRIPTION:Predavanja in pogovor o pravilih pri izdajanju glasbenih albumov ter o izkušnjah pri objavi in promociji v samozaložbi so namenjena glasbenikom in skupinam\, ki sami izdajajo svoja dela. Sodelovali bodo Alenka Bagarič\, Pavla Meglič\, Katja Rapuš in Irena Sešek (vse sodelavke NUK)\, Karmen Nagode (SAZAS) in glasbenik Dominik Bagola\, http://www.balladero.com/.Veseli bomo vašega obiska! Prijavnica http://www.nuk.uni-lj.si/objavljam-v-nuk.
URL:https://www.nasizbori.si/dogodek/kaj-je-potrebno-vedeti-ob-izdaji-glasbenega-albuma-v-fizicni-obliki-na-spletu/
LOCATION:NUK – Narodna in univerzitetna knjižnica v Ljubljani\, Turjaška ulica 1\, Ljubljana\, Slovenia
CATEGORIES:Izobraževanja
ATTACH;FMTTYPE=image/jpeg:https://www.nasizbori.si/wp-content/uploads/2016/11/10.jpg
GEO:46.0476013;14.5037201
X-APPLE-STRUCTURED-LOCATION;VALUE=URI;X-ADDRESS=NUK – Narodna in univerzitetna knjižnica v Ljubljani Turjaška ulica 1 Ljubljana Slovenia;X-APPLE-RADIUS=500;X-TITLE=Turjaška ulica 1:geo:14.5037201,46.0476013
END:VEVENT
END:VCALENDAR