BEGIN:VCALENDAR
VERSION:2.0
PRODID:-//Naši zbori - ECPv6.15.13//NONSGML v1.0//EN
CALSCALE:GREGORIAN
METHOD:PUBLISH
X-WR-CALNAME:Naši zbori
X-ORIGINAL-URL:https://www.nasizbori.si
X-WR-CALDESC:Dogodki za Naši zbori
REFRESH-INTERVAL;VALUE=DURATION:PT1H
X-Robots-Tag:noindex
X-PUBLISHED-TTL:PT1H
BEGIN:VTIMEZONE
TZID:Europe/Ljubljana
BEGIN:DAYLIGHT
TZOFFSETFROM:+0100
TZOFFSETTO:+0200
TZNAME:CEST
DTSTART:20200329T010000
END:DAYLIGHT
BEGIN:STANDARD
TZOFFSETFROM:+0200
TZOFFSETTO:+0100
TZNAME:CET
DTSTART:20201025T010000
END:STANDARD
BEGIN:DAYLIGHT
TZOFFSETFROM:+0100
TZOFFSETTO:+0200
TZNAME:CEST
DTSTART:20210328T010000
END:DAYLIGHT
BEGIN:STANDARD
TZOFFSETFROM:+0200
TZOFFSETTO:+0100
TZNAME:CET
DTSTART:20211031T010000
END:STANDARD
BEGIN:DAYLIGHT
TZOFFSETFROM:+0100
TZOFFSETTO:+0200
TZNAME:CEST
DTSTART:20220327T010000
END:DAYLIGHT
BEGIN:STANDARD
TZOFFSETFROM:+0200
TZOFFSETTO:+0100
TZNAME:CET
DTSTART:20221030T010000
END:STANDARD
END:VTIMEZONE
BEGIN:VEVENT
DTSTART;TZID=Europe/Ljubljana:20211220T180000
DTEND;TZID=Europe/Ljubljana:20211220T200000
DTSTAMP:20260419T222103
CREATED:20211220T161452Z
LAST-MODIFIED:20211220T184641Z
UID:10006475-1640023200-1640030400@www.nasizbori.si
SUMMARY:S PESMIJO V BOŽIČNO NOVOLETNI ČAS
DESCRIPTION:Vabimo vas na spletni koncert: S PESMIJO V BOŽIČNO NOVOLETNI ČAS. \nPremiera v ponedeljek\, 20. decembra 2021\, ob 18. uri. \nVklopite zvočnike\, kliknite na povezavo in uživajte: https://youtu.be/cPq_fhwGZCk \n  \nPrepevajo:\n• • Mešani pevski zbor Zvon\n• • Ženski pevski zbor Dominica nova\n• • Vokalna skupina Remšnik in\n• • Dekliški pevski zbor Aglaja.
URL:https://www.nasizbori.si/dogodek/s-pesmijo-v-bozicno-novoletni-cas/
LOCATION:Splet\, splet\, 2360\, SI-2360\, 2360\, Slovenia
CATEGORIES:Koncerti in projekti zborov
ATTACH;FMTTYPE=image/png:https://www.nasizbori.si/wp-content/uploads/2021/12/2021-12-20-oi-radlje-1.png
ORGANIZER;CN="JSKD OI Radlje ob Dravi":MAILTO:cvetka.miklavc@jskd.si
END:VEVENT
END:VCALENDAR