BEGIN:VCALENDAR
VERSION:2.0
PRODID:-//Naši zbori - ECPv6.15.13//NONSGML v1.0//EN
CALSCALE:GREGORIAN
METHOD:PUBLISH
X-ORIGINAL-URL:https://www.nasizbori.si
X-WR-CALDESC:Dogodki za Naši zbori
REFRESH-INTERVAL;VALUE=DURATION:PT1H
X-Robots-Tag:noindex
X-PUBLISHED-TTL:PT1H
BEGIN:VTIMEZONE
TZID:Europe/Ljubljana
BEGIN:DAYLIGHT
TZOFFSETFROM:+0100
TZOFFSETTO:+0200
TZNAME:CEST
DTSTART:20150329T010000
END:DAYLIGHT
BEGIN:STANDARD
TZOFFSETFROM:+0200
TZOFFSETTO:+0100
TZNAME:CET
DTSTART:20151025T010000
END:STANDARD
BEGIN:DAYLIGHT
TZOFFSETFROM:+0100
TZOFFSETTO:+0200
TZNAME:CEST
DTSTART:20160327T010000
END:DAYLIGHT
BEGIN:STANDARD
TZOFFSETFROM:+0200
TZOFFSETTO:+0100
TZNAME:CET
DTSTART:20161030T010000
END:STANDARD
BEGIN:DAYLIGHT
TZOFFSETFROM:+0100
TZOFFSETTO:+0200
TZNAME:CEST
DTSTART:20170326T010000
END:DAYLIGHT
BEGIN:STANDARD
TZOFFSETFROM:+0200
TZOFFSETTO:+0100
TZNAME:CET
DTSTART:20171029T010000
END:STANDARD
END:VTIMEZONE
BEGIN:VEVENT
DTSTART;TZID=Europe/Ljubljana:20161125T200000
DTEND;TZID=Europe/Ljubljana:20161125T200000
DTSTAMP:20260424T122456
CREATED:20160512T073221Z
LAST-MODIFIED:20161109T104745Z
UID:10005664-1480104000-1480104000@www.nasizbori.si
SUMMARY:Sozvočenja 2016 – Primorska
DESCRIPTION:7. regijski tematski koncerti srednješolskih in odraslih pevskih zasedb Sozvočenja 2016 \nPRIMORSKA \nPETEK 25. NOVEMBRA ob 20.00 \nDobrovo v Goriških Brdih\, Viteška dvorana na Gradu Dobrovo \nStrokovni spremljevalec: Ambrož Čopi \n  \nVSI KONCERTI REGIJSKIH SOZVOČENJ 2016: \n  \nNEDELJA 13. NOVEMBRA ob 16.30 in 19.00 \nOSREDNJA SLOVENIJA \nLjubljana\, Konservatorij za glasbo in balet Ljubljana \nStrokovni spremljevalec: Sebastjan Vrhovnik \n  \nSOBOTA 19. NOVEMBRA ob 17.00 \nŠTAJERSKA IN POMURJE \nLjutomer\, Dom kulture Ljutomer \nStrokovna spremljevalka: Danica Pirečnik \n  \nNEDELJA 20. NOVEMBRA ob 16.00 in 18.30 \nGORENJSKA \nRadovljica\, Baročna dvorana Radovljiške graščine \nStrokovni spremljevalec: Marko Vatovec \n  \nNEDELJA 20. NOVEMBRA ob 16.00 \nOD CELJA DO KOROŠKE \nMežica\, Narodni dom Mežica \nStrokovni spremljevalec: Ambrož Čopi \n  \nPETEK 25. NOVEMBRA ob 20.00 \nPRIMORSKA \nDobrovo v Goriških Brdih\, Viteška dvorana na Gradu Dobrovo \nStrokovni spremljevalec: Ambrož Čopi \n  \nSOBOTA 26. NOVEMBRA ob 18.00 \nDOLENJSKA\, BELA KRAJINA IN POSAVJE \nBrežice\, Viteška dvorana Posavskega muzeja Brežice \nStrokovna spremljevalka: Danica Pirečnik \n  \nSKLEPNI KONCERT IZBRANIH NAJBOLJŠIH ZBOROV IZ VSEH REGIJ \nLjubljana\, sobota\, 10. decembra 2016 \nSlovenska filharmonija\, Dvorana Marjana Kozine (velika dvorana) \nv počastitev svetovnega dneva zborovskega petja – druge nedelje v decembru\nPo en zbor\, ki bo na regijskem koncertu kakovostno izvedel zanimiv zaokrožen spored\, se bo uvrstil na sklepni koncert\, ki bo posvečen obeležitvi svetovnega dneva zborovskega petja v Slovenski filharmoniji v Ljubljani\, skupaj z zbori\, ki bodo izbrani v ostalih regijah. \n  \n 
URL:https://www.nasizbori.si/dogodek/sozvocenja-2016-primorska/
LOCATION:Grad  Dobrovo\, Grajska cesta 10\, Dobrovo\, Brda\, 5212\, Slovenia
CATEGORIES:Slovenske revije, abonmaji in festivali
ATTACH;FMTTYPE=image/jpeg:https://www.nasizbori.si/wp-content/uploads/2016/05/sozvocenja2016a_2.jpg
GEO:45.9967466;13.5235208
X-APPLE-STRUCTURED-LOCATION;VALUE=URI;X-ADDRESS=Grad  Dobrovo Grajska cesta 10 Dobrovo Brda 5212 Slovenia;X-APPLE-RADIUS=500;X-TITLE=Grajska cesta 10:geo:13.5235208,45.9967466
END:VEVENT
END:VCALENDAR