BEGIN:VCALENDAR
VERSION:2.0
PRODID:-//Naši zbori - ECPv6.15.13//NONSGML v1.0//EN
CALSCALE:GREGORIAN
METHOD:PUBLISH
X-ORIGINAL-URL:https://www.nasizbori.si
X-WR-CALDESC:Dogodki za Naši zbori
REFRESH-INTERVAL;VALUE=DURATION:PT1H
X-Robots-Tag:noindex
X-PUBLISHED-TTL:PT1H
BEGIN:VTIMEZONE
TZID:Europe/Ljubljana
BEGIN:DAYLIGHT
TZOFFSETFROM:+0100
TZOFFSETTO:+0200
TZNAME:CEST
DTSTART:20170326T010000
END:DAYLIGHT
BEGIN:STANDARD
TZOFFSETFROM:+0200
TZOFFSETTO:+0100
TZNAME:CET
DTSTART:20171029T010000
END:STANDARD
BEGIN:DAYLIGHT
TZOFFSETFROM:+0100
TZOFFSETTO:+0200
TZNAME:CEST
DTSTART:20180325T010000
END:DAYLIGHT
BEGIN:STANDARD
TZOFFSETFROM:+0200
TZOFFSETTO:+0100
TZNAME:CET
DTSTART:20181028T010000
END:STANDARD
BEGIN:DAYLIGHT
TZOFFSETFROM:+0100
TZOFFSETTO:+0200
TZNAME:CEST
DTSTART:20190331T010000
END:DAYLIGHT
BEGIN:STANDARD
TZOFFSETFROM:+0200
TZOFFSETTO:+0100
TZNAME:CET
DTSTART:20191027T010000
END:STANDARD
BEGIN:DAYLIGHT
TZOFFSETFROM:+0100
TZOFFSETTO:+0200
TZNAME:CEST
DTSTART:20200329T010000
END:DAYLIGHT
BEGIN:STANDARD
TZOFFSETFROM:+0200
TZOFFSETTO:+0100
TZNAME:CET
DTSTART:20201025T010000
END:STANDARD
BEGIN:DAYLIGHT
TZOFFSETFROM:+0100
TZOFFSETTO:+0200
TZNAME:CEST
DTSTART:20210328T010000
END:DAYLIGHT
BEGIN:STANDARD
TZOFFSETFROM:+0200
TZOFFSETTO:+0100
TZNAME:CET
DTSTART:20211031T010000
END:STANDARD
END:VTIMEZONE
BEGIN:VEVENT
DTSTART;TZID=Europe/Ljubljana:20200430T133500
DTEND;TZID=Europe/Ljubljana:20200501T175000
DTSTAMP:20260419T215806
CREATED:20200429T161137Z
LAST-MODIFIED:20200429T161137Z
UID:10006728-1588253700-1588355400@www.nasizbori.si
SUMMARY:Multimedijski koncert Shiva šiva Ženskega pevskega zbora Rož iz Šentjakoba v Rožu
DESCRIPTION:Shiva-šiva je multimedijski koncert Ženskega pevskega zbora SPD “Rož” iz Šentjakoba v Rožu\, pod vodstvom Žige Kerta\, ki predstavlja 17 različnih pesmi o delu iz prav toliko različnih koncev sveta.\nS pesmimi predstavlja različne kulture\, glasbene tradicije in poglede na delo. Gre za multimedijski dogodek\, ki opeva občutja\, odnose in dojemanje dela\, kot vrednote\, ki zaznamujejo in osmišljujejo življenje na vseh celinah sveta. Celotno predstavo je režiral Marjan Štikar.\nKoncert je posnela RTV Slovenija in ga bo v celoti v dolžini 1.18.55 min. preddvajala v naslednjih dveh terminih:\n– TV SLO 2\, v četrtek\, 30. 4. 2020 ob 13.35 in\n– TV MB\, v petek\, 1. 5. 2020 ob 16.30.
URL:https://www.nasizbori.si/dogodek/multimedijski-koncert-shiva-siva-zenskega-pevskega-zbora-roz-iz-sentjakoba-v-rozu/
LOCATION:TV SLO 2\, Ljubljana\, Slovenia
CATEGORIES:Dogodki v tujini,Radijske in TV-oddaje o zborovski glasbi,Slovenski zbori v sosednjih državah in po svetu
ATTACH;FMTTYPE=image/jpeg:https://www.nasizbori.si/wp-content/uploads/2020/04/ŽZ-Rož-Shiva-šiva1.jpg
END:VEVENT
BEGIN:VEVENT
DTSTART;TZID=Europe/Ljubljana:20191229T082000
DTEND;TZID=Europe/Ljubljana:20191229T082000
DTSTAMP:20260419T215806
CREATED:20191227T104830Z
LAST-MODIFIED:20191227T105042Z
UID:10006701-1577607600-1577607600@www.nasizbori.si
SUMMARY:Potujoča muzika 2019 na TV SLO 2
DESCRIPTION:Ob izvedbi množične mladinske zborovske prireditve v Cankarjevem domu je ekipa TV Slovenija spremljala potek priprav in vzdušje med mladimi pevci pri skupnem poustvarjanju ter večerni koncert. Prireditev pripravlja Javni sklad RS za kulturne dejavnosti v počastitev svetovnega dneva zborovske glasbe. Na odru je pod vodstvom Damijana Močnika in Rahele Durič glasove združilo okrog 500 mladih pevcev. Raznolik koncertni spored je med drugim prispeval slovensko noviteto Mateja Kastelica in nove priredbe slovenskih ljudskih pesmi. \nVabljeni k ogledu! \nhttps://4d.rtvslo.si/zivo/tvs2 
URL:https://www.nasizbori.si/dogodek/potujoca-muzika-2019-na-tv-slo-2/
LOCATION:TV SLO 2\, Ljubljana\, Slovenia
CATEGORIES:Otroški in mladinski zbori,Prireditve JSKD in drugi večji dogodki,Radijske in TV-oddaje o zborovski glasbi,Slovenske revije, abonmaji in festivali
ATTACH;FMTTYPE=image/jpeg:https://www.nasizbori.si/wp-content/uploads/2019/12/Potujoca_muzika_2019_2b.jpg
ORGANIZER;CN="JSKD":MAILTO:info@jskd.si
END:VEVENT
BEGIN:VEVENT
DTSTART;TZID=Europe/Ljubljana:20180101T100500
DTEND;TZID=Europe/Ljubljana:20180101T100500
DTSTAMP:20260419T215806
CREATED:20171222T082511Z
LAST-MODIFIED:20171222T084126Z
UID:10006306-1514801100-1514801100@www.nasizbori.si
SUMMARY:Potujoča muzika 2017 na TV SLO 2
DESCRIPTION:1. januarja 2018 ob 10.05 si na TV SLO 2 lahko ogledate posnetek letošnje Potujoče muzike. Več o prireditvi\, programu\, sodelujočih si lahko preberete v tem prispevku: \nhttps://www.nasizbori.si/najboljsi-slovenski-mladinski-zbori-bodo-napolnili-gallusovo-dvorano/. \n  \nhttps://www.facebook.com/mihela.jagodic.5/videos/10155206818976915/ \n  \n  \n  \n 
URL:https://www.nasizbori.si/dogodek/potujoca-muzika-2017-na-tv-slo-2/
LOCATION:TV SLO 2\, Ljubljana\, Slovenia
CATEGORIES:Otroški in mladinski zbori,Radijske in TV-oddaje o zborovski glasbi
ATTACH;FMTTYPE=image/jpeg:https://www.nasizbori.si/wp-content/uploads/2017/12/2017_12_22_Potujoca_muzika_TV.jpg
END:VEVENT
END:VCALENDAR