BEGIN:VCALENDAR
VERSION:2.0
PRODID:-//Naši zbori - ECPv6.15.13//NONSGML v1.0//EN
CALSCALE:GREGORIAN
METHOD:PUBLISH
X-ORIGINAL-URL:https://www.nasizbori.si
X-WR-CALDESC:Dogodki za Naši zbori
REFRESH-INTERVAL;VALUE=DURATION:PT1H
X-Robots-Tag:noindex
X-PUBLISHED-TTL:PT1H
BEGIN:VTIMEZONE
TZID:Europe/Ljubljana
BEGIN:DAYLIGHT
TZOFFSETFROM:+0100
TZOFFSETTO:+0200
TZNAME:CEST
DTSTART:20190331T010000
END:DAYLIGHT
BEGIN:STANDARD
TZOFFSETFROM:+0200
TZOFFSETTO:+0100
TZNAME:CET
DTSTART:20191027T010000
END:STANDARD
BEGIN:DAYLIGHT
TZOFFSETFROM:+0100
TZOFFSETTO:+0200
TZNAME:CEST
DTSTART:20200329T010000
END:DAYLIGHT
BEGIN:STANDARD
TZOFFSETFROM:+0200
TZOFFSETTO:+0100
TZNAME:CET
DTSTART:20201025T010000
END:STANDARD
BEGIN:DAYLIGHT
TZOFFSETFROM:+0100
TZOFFSETTO:+0200
TZNAME:CEST
DTSTART:20210328T010000
END:DAYLIGHT
BEGIN:STANDARD
TZOFFSETFROM:+0200
TZOFFSETTO:+0100
TZNAME:CET
DTSTART:20211031T010000
END:STANDARD
BEGIN:DAYLIGHT
TZOFFSETFROM:+0100
TZOFFSETTO:+0200
TZNAME:CEST
DTSTART:20220327T010000
END:DAYLIGHT
BEGIN:STANDARD
TZOFFSETFROM:+0200
TZOFFSETTO:+0100
TZNAME:CET
DTSTART:20221030T010000
END:STANDARD
BEGIN:DAYLIGHT
TZOFFSETFROM:+0100
TZOFFSETTO:+0200
TZNAME:CEST
DTSTART:20230326T010000
END:DAYLIGHT
BEGIN:STANDARD
TZOFFSETFROM:+0200
TZOFFSETTO:+0100
TZNAME:CET
DTSTART:20231029T010000
END:STANDARD
END:VTIMEZONE
BEGIN:VEVENT
DTSTART;VALUE=DATE:20220831
DTEND;VALUE=DATE:20220902
DTSTAMP:20260420T190320
CREATED:20220610T215525Z
LAST-MODIFIED:20220610T215525Z
UID:10006935-1661911200-1661997599@www.nasizbori.si
SUMMARY:NATEČAJ ZA SKLADATELJE »DARILA IZROČILA« - rok prijave
DESCRIPTION:Akademski pevski zbor Tone Tomšič Univerze v Ljubljani združuje študentke in študente fakultet Univerze v Ljubljani\, ki sta jim skupna velika ljubezen do petja in želja po vrhunskem umetniškem ustvarjanju. Poleg tega APZ Tone Tomšič z natečaji vseskozi spodbuja nastanek novih skladb tako mladih kot tudi že uveljavljenih slovenskih skladateljev ter z njihovimi prvimi izvedbami veča prepoznavnost slovenske zborovske ustvarjalnosti v domovini in po svetu. \nOd oktobra 2021 dalje zbor vodi Rahela Durič Barić\, ki je z zasedbo maja 2022 na 27. slovenskem zborovskem tekmovanju Naša pesem 2022 že osvojila zlato plaketo. Ob načrtovanju nadaljnjega uspešnega udejstvovanja tako APZ Tone Tomšič objavlja naslednji natečaj: \nO NATEČAJU \nAPZ Tone Tomšič Univerze v Ljubljani pod pokroviteljstvom Javnega slada Republike Slovenije za kulturne dejavnosti razpisuje natečaj z naslovom »Darila izročila« za zborovske skladbe za mešani zbor a-capella. Natečaj je namenjen slovenskim in tujim skladateljem. Vsak udeleženec lahko na njem sodeluje z eno ali več skladbami. Prijavljene skladbe ne smejo biti izvedene ali posnete pred natečajem. Do krstne izvedbe skladatelj ne sme posredovati nagrajenih in priporočenih skladb drugim zborom brez soglasja organizatorja razpisa. \nSMERNICE NATEČAJA \n• Skladba mora biti napisana za mešani zbor a-cappella\, ki se deli na največ osem glasov in lahko traja največ šest minut.\n• Skladba naj izhaja iz motivično-tematskega raziskovanja ene ali več slovenskih ljudskih skladb\, ki so bile redko ali še nikoli prirejene.\n• Skladatelji naj obstoječe gradivo ljudskih skladb inovativno obdelujejo predvsem z melodičnih\, ritmičnih oz. harmonskih vidikov\, ki naj jim bodo v navdih in v izziv\, pri tem pa naj se čim manj poslužujejo modernejših kompozicijsko-tehničnih prijemov.\n• Besedilo skladbe mora biti v slovenščini. \nKOMISIJA \nTričlansko komisijo bodo sestavljali prof. dr. Matjaž Barbo\, Tadeja Vulc in Rahela Durič Barić. \nPOMEMBNI DATUMI \nRazpis za natečaj je bil uradno objavljen 9. junija 2022\, rok za oddajo skladb pa se bo iztekel 31. avgusta 2022 z možnostjo podaljšanja. Komisija bo rezultate natečaja razglasila najpozneje do 30. septembra 2022. Rezultati bodo objavljeni na spletni strani: http://www.apz-tt.si\, skladatelji prijavljenih skladb pa bodo o rezultatih natečaja obveščeni tudi preko elektronske pošte. Nagrajene skladbe in skladbe\, priporočene v izvedbo\, bodo izvedene in v sodelovanju z založbo Astrum izdane v sezoni 2022/23. \nNAGRADE \nKomisija lahko skladbam podeli prvo in drugo denarno nagrado oz. skladbe priporoči v izvedbo. Komisija ima pravico\, da ne podeli (vseh) nagrad. Vse odločitve komisije so dokončne in nepreklicne. \nVrednost denarnih nagrad:\n• nagrada: 600\,00 EUR\n• nagrada: 400\,00 EUR \nPRIJAVA \nVse prijavljene skladbe morajo biti oddane do 31. avgusta 2022 (velja poštni žig) ter s potrebno dokumentacijo v štirih izvodih poslana na naslov: \nAPZ Tone Tomšič Univerze v Ljubljani\nKongresni trg 12\n1000 Ljubljana\ns pripisom »ZA NATEČAJ« \nPartiture naj bodo nepodpisane\, vsaka naj ima svoje geslo. To naj bo izpisano na zunanjo stran priložene ovojnice\, ki naj poleg skladbe vsebuje jasno vidno označene »PODATKE O AVTORJU«: ime in priimek\, datum rojstva\, naslov\, telefonsko številko\, elektronski naslov ter sledečo podpisano izjavo: \n»Spodaj podpisani/-a izjavljam\, da je skladba še neizvedena in neobjavljena. Zavezujem se\, da je ne bom predstavil/-a na drugih natečajih (do 31. 1. 2022) ali založnikom (revijam) za objavo\, če bo med nagrajenimi ali priporočenimi.« \nKršenje te izjave lahko privede do izključitve iz natečaja in do obveznega povračila morebitnega odkupa skladbe. \nPLAČILO PRIJAVNINE: \nSkladatelji morajo ob poslani prijavi (ne glede na oddano število skladb) poravnati prijavnino v vrednosti 20 EUR. \nPodatki za nakazilo: \nTRR.: SI56 0201 7005 0918 997\nSklic: 00 2022\nNamen: Za natečaj \nPotrdilo o plačani prijavnini priložite k notam\, ki jih boste poslali po pošti. Sodelujoči na natečaju so brez izjeme dolžni sprejeti določila tega razpisa. APZ Tone Tomšič si pridržuje pravico\, da iz tehničnih\, organizacijskih ali umetniških razlogov spremeni ta pravila. O tem bodo sodelujoči pravočasno obveščeni. \nZ oddajo prijave na natečaj šteje\, da prijavitelj posredno soglaša z obdelavo osebnih podatkov v skladu z GDPR (splošno uredbo o varovanju osebnih podatkov) in z uporabo posredovanih osebnih podatkov v namene promocije in izvedbe natečaja. APZ Tone Tomšič UL spoštuje vašo pravico do zasebnosti in pregleda nad oddanimi osebnimi podatki skladno z veljavno zakonodajo na področju varstva osebnih podatkov (Splošna uredba o varstvu osebnih podatkov (Uredba (EU) 2016/679) in področnim zakonom o varstvu osebnih podatkov). Preko vašega e-naslova vas bomo obveščali glede aktivnosti\, povezanih z natečajem. Z vašimi podatki bomo ravnali skrbno in jih varovali. Kadarkoli lahko zahtevate popravek posredovanih podatkov ali njihov izbris. To lahko storite s sporočilom na e-poštni naslov predsednik@apz-tt.si. \nMorebitna vprašanja lahko naslovite na elektronski naslov predsednik@apz-tt.si ali na tel. št.: 040 624 387. \nAPZ Tone Tomšič Univerze v Ljubljani
URL:https://www.nasizbori.si/dogodek/natecaj-za-skladatelje-darila-izrocila-rok-prijave/
LOCATION:APZ Tone Tomšič Univerze v Ljubljani\, Kongresni trg 12\, Ljubljana\, Ljubljana\, Slovenia
CATEGORIES:Drugo,Izvedba novitet,Ljudska glasba,Prva izvedba del v Sloveniji
ATTACH;FMTTYPE=image/jpeg:https://www.nasizbori.si/wp-content/uploads/2022/06/foto-aleksandar-domitrica-3285.jpg
ORGANIZER;CN="Akademski pevski zbor Tone Tom%C5%A1i%C4%8D Univerze v Ljubljani":MAILTO:info@apz-tt.si
GEO:46.0491938;14.5041552
X-APPLE-STRUCTURED-LOCATION;VALUE=URI;X-ADDRESS=APZ Tone Tomšič Univerze v Ljubljani Kongresni trg 12 Ljubljana Ljubljana Slovenia;X-APPLE-RADIUS=500;X-TITLE=Kongresni trg 12\, Ljubljana:geo:14.5041552,46.0491938
END:VEVENT
BEGIN:VEVENT
DTSTART;VALUE=DATE:20201229
DTEND;VALUE=DATE:20210127
DTSTAMP:20260420T190320
CREATED:20201229T175732Z
LAST-MODIFIED:20201229T175732Z
UID:10006771-1609207200-1611626399@www.nasizbori.si
SUMMARY:Javni razpis za delovno mesto dirigenta/dirigentke
DESCRIPTION:Akademski pevski zbor Tone Tomšič Univerze v Ljubljani objavlja javni razpis za delovno mesto dirigenta/dirigentke. \nNa razpisano delovno mesto bo imenovan kandidat\, ki izpolnjuje sledeče pogoje:\n– univerzitetna izobrazba\,\n– večletne delovne izkušnje z umetniškim vodenjem zbora\,\n– vodstvene in organizacijske sposobnosti\,\n– usposobljenost za uspešno in samostojno vodenje zborovske in vokalno-instrumentalne dejavnosti\,\n– aktivno znanje slovenskega jezika\,\n– aktivno znanje angleškega jezika. \nNaloge v sklopu delovnega mesta vključujejo:\n– vodenje in odgovornost za strokovno delo zbora\,\n– priprava letnega programa dela in poročila o opravljenem strokovnem delu\,\n– sodelovanje z izvršnimi organi društva pri pripravi programa in njegovi izvedbi\,\n– opravljanje drugih nalog v sklopu umetniškega vodenja zbora\, na primer priprava projektne dokumentacije. \nKandidat mora k prijavi priložiti:\n– izjavo o izpolnjevanju pogoja glede zahtevane izobrazbe\, iz katere morajo biti razvidna vrsta študijskega programa in smer izobrazbe ter leto in ustanova\, na kateri je bila izobrazba pridobljena\,\n– življenjepis\, s poudarkom na zborovodskih izkušnjah\, iz katerega je razvidno izpolnjevanje naslednjih pogojev:\n1. zahtevane delovne izkušnje (opis naj vsebuje navedbo delodajalca oz. druge fizične ali pravne osebe\, za katero je kandidat opravljal delo\, datum začetka in konca opravljanja dela ter opis dela)\n2. vodstvene in organizacijske sposobnosti ter sposobnost oblikovanja in vodenja zahtevnejših umetniških projektov\,\n– okvirni načrt vodenja in programske usmeritve APZ TT UL v prihodnjih štirih letih\, od tega podrobnejši načrt za prvi dve leti\,\n– kontaktne podatke\, ki naj vsebujejo vsaj elektronski naslov in telefonsko številko.\nPrijave bo obravnavala komisija v sledeči sestavi:\n– Jerica Bukovec\, dirigentka APZ Tone Tomšič UL\,\n– Sebastjan Vrhovnik\, dirigent (predstojnik Oddelka za dirigiranje na Akademiji za glasbo UL)\,\n– Tatjana Vasle\, profesorica petja (predstojnica Oddelka za petje na Konservatoriju za glasbo in balet Ljubljana ter strokovna svetnica za področje vokalne tehnike na Akademiji za glasbo UL). \nKomisija bo seznam primernih kandidatov predložila izvršnemu odboru društva\, ki bo opravil končno izbiro. Na predlog komisije bodo kandidati povabljeni na razgovor s komisijo in predstavniki izvršnega odbora društva ter kasneje na pevsko vajo (ožji izbor kandidatov). Izvršni odbor društva bo izbranega kandidata\, po predhodnem mnenju komisije\, imenoval za dirigenta APZ Tone Tomšič Univerze v Ljubljani. Izbrani kandidat bo z društvom sklenil pogodbo za določen čas\, z možnostjo podaljšanja in odpovednim rokom šestih mesecev. Delovno mesto dirigenta stopi v veljavo s 1. 10. 2021. \nO izidu razpisa bodo kandidati obveščeni v roku osmih (8) dni po izdaji odločbe o izbiri.\nRok za oddajo prijave je ponedeljek\, 25. 1. 2021\, ob polnoči (velja poštni žig). \nPrijave naj kandidati pošljejo s priporočeno pošto v zaprti ovojnici s pripisom »Razpis za dirigenta« na spodaj navedeni naslov:\nAPZ Tone Tomšič Univerze v Ljubljani\nKongresni trg 12\n1000 Ljubljana\nter na elektronski naslov: predsednik@apz-tt.si. \nOseba\, pristojna za posredovanje informacij v zvezi z javnim razpisom\, med drugim tudi o delovnih obveznostih dirigenta\, je Urška Fajdiga\, tel. št.: 040 624 387\, elektronski naslov: predsednik@apz-tt.si. \nV besedilu razpisa uporabljeni izrazi\, zapisani v moški slovnični obliki\, so uporabljeni kot nevtralni za ženske in moške.\nV Ljubljani\, 29. 12. 2020\nAkademski pevski zbor Tone Tomšič Univerze v Ljubljani
URL:https://www.nasizbori.si/dogodek/javni-razpis-za-delovno-mesto-dirigenta-dirigentke/
LOCATION:APZ Tone Tomšič Univerze v Ljubljani\, Kongresni trg 12\, Ljubljana\, Ljubljana\, Slovenia
CATEGORIES:Drugo
ATTACH;FMTTYPE=image/jpeg:https://www.nasizbori.si/wp-content/uploads/2020/09/2020_09_08_symbol_icon_dirigent_conductor_2.jpg
ORGANIZER;CN="Akademski pevski zbor Tone Tom%C5%A1i%C4%8D Univerze v Ljubljani":MAILTO:info@apz-tt.si
GEO:46.0491938;14.5041552
X-APPLE-STRUCTURED-LOCATION;VALUE=URI;X-ADDRESS=APZ Tone Tomšič Univerze v Ljubljani Kongresni trg 12 Ljubljana Ljubljana Slovenia;X-APPLE-RADIUS=500;X-TITLE=Kongresni trg 12\, Ljubljana:geo:14.5041552,46.0491938
END:VEVENT
END:VCALENDAR