BEGIN:VCALENDAR
VERSION:2.0
PRODID:-//Naši zbori - ECPv6.15.13//NONSGML v1.0//EN
CALSCALE:GREGORIAN
METHOD:PUBLISH
X-WR-CALNAME:Naši zbori
X-ORIGINAL-URL:https://www.nasizbori.si
X-WR-CALDESC:Dogodki za Naši zbori
REFRESH-INTERVAL;VALUE=DURATION:PT1H
X-Robots-Tag:noindex
X-PUBLISHED-TTL:PT1H
BEGIN:VTIMEZONE
TZID:Europe/Ljubljana
BEGIN:DAYLIGHT
TZOFFSETFROM:+0100
TZOFFSETTO:+0200
TZNAME:CEST
DTSTART:20190331T010000
END:DAYLIGHT
BEGIN:STANDARD
TZOFFSETFROM:+0200
TZOFFSETTO:+0100
TZNAME:CET
DTSTART:20191027T010000
END:STANDARD
BEGIN:DAYLIGHT
TZOFFSETFROM:+0100
TZOFFSETTO:+0200
TZNAME:CEST
DTSTART:20200329T010000
END:DAYLIGHT
BEGIN:STANDARD
TZOFFSETFROM:+0200
TZOFFSETTO:+0100
TZNAME:CET
DTSTART:20201025T010000
END:STANDARD
BEGIN:DAYLIGHT
TZOFFSETFROM:+0100
TZOFFSETTO:+0200
TZNAME:CEST
DTSTART:20210328T010000
END:DAYLIGHT
BEGIN:STANDARD
TZOFFSETFROM:+0200
TZOFFSETTO:+0100
TZNAME:CET
DTSTART:20211031T010000
END:STANDARD
END:VTIMEZONE
BEGIN:VEVENT
DTSTART;TZID=Europe/Ljubljana:20200503T180000
DTEND;TZID=Europe/Ljubljana:20200503T180000
DTSTAMP:20260420T051811
CREATED:20200426T170410Z
LAST-MODIFIED:20200426T170410Z
UID:10006353-1588528800-1588528800@www.nasizbori.si
SUMMARY:GLASBA Z BALKONOV
DESCRIPTION:V negotovih dneh\, ko se zadržujemo doma in z zaskrbljenostjo spremljamo novice o širjenju novega koronavirusa\, se je po vsej Italiji začela oglašati glasba z balkonov\, pridružujejo pa se ji še druge države. Tudi slovenski glasbeniki pozivajo k skupnemu petju in igranju na inštrumente\, ki nas bo povezalo na poseben način. Zato vsako nedeljo ob 18. uri stopimo na balkon ali ob okno\, zapojmo in zaigrajmo vsak s svojega doma\, sosedje v bloku\, v sosednjih hišah\, ulicah\, vaseh in mestih ter se tako pridružimo glasbenemu sporočilu. Glasba združuje\, človeka navda s pozitivni čustvi in upanjem\, zato si lepšajmo te negotove dni in lajšajmo stiske s spontano pesmijo. \n  \nUTRINKI GLASBE Z BALKONOV IN SLOVENSKIH DOMOV IZ PRETEKLIH TEDNOV: \n  \n﻿﻿ \nKomorni zbor Akademije za glasbo v Ljubljani\, dirigent Sebastjan Vrhovnik: himna Republike Slovenije z domov ob 30. obletnici sprejetja zakona o slovenski himni 29. marca 2020 \n  \n \nDružina Pirnat \n  \nhttps://www.nasizbori.si/wp-content/uploads/2020/03/04_Druzina_áijanec-Sveta_Ana_2_small.mp4\nDružina Šijanec \n  \nhttps://www.nasizbori.si/wp-content/uploads/2020/04/06_Samo_Ivacic_familiy_3_small.mp4\nDružina Sama Ivačiča \n  \nhttps://www.nasizbori.si/wp-content/uploads/2020/03/01_GCC_Dijaki_3_a_ostani_doma_David_Preloznik_2_small.mp4\nDijaki 3. a Gimnazije Celje Center\, prof. David Preložnik \n  \nhttps://www.nasizbori.si/wp-content/uploads/2020/04/02_Ernest_Kokot_druzina_3_small.mp4\nDružina Ernesta Kokota \n  \nhttps://www.nasizbori.si/wp-content/uploads/2020/04/pevki_MPZ_La-ti-do_OS_Krizevci.mp4\nSestri Vita in Lara Borovič: Veseli pastir ali Zakrivljeno palico v roki (pevki MPZ LA TI DO OŠ Križevci\, zb. Renata Mikl) \n  \n \nDružina Blaža Rojka \n  \nhttps://www.nasizbori.si/wp-content/uploads/2020/04/07_druzina_Andreja_Rustja.mp4\nDružina Andreje Rustja \n  \nhttps://www.nasizbori.si/wp-content/uploads/2020/04/03_V_hisi_nasprot_sonca_Familija_Mocnik_2_small.mp4\nDružina Damijana Močnika \n  \nhttps://www.nasizbori.si/wp-content/uploads/2020/04/00_vse_Glasba_nas_povezuje_4_small.mp4\nUčitelji glasbe osnovnih\, srednjih in glasbenih šol Slovenije \n  \n \nŠtudentje glasbene pedagogike Pedagoške fakultete v Mariboru \n  \n*** \nŠirjenje novega koronavirusa nas je nenadoma oropalo družbenih in socialnih stikov\, kakršnih smo vajeni vsakodnevno. Strokovnjaki in oblasti priporočajo samoosamitev\, kolikor je le mogoče\, zadržujemo se doma\, stikov med ljudmi je vse manj. V Italiji so ljudje spontano odgovorili na osamitev in osamljenost v svojih domovih. Po družbenih omrežjih krožijo posnetki blokovskih naselij\, kjer ljudje na balkonih skupaj pojejo in muzicirajo. Ideja se je že razširila čez meje Italije\, po družbenih omrežjih se povezujejo tudi slovenski glasbeniki in ljubiteljski ustvarjalci s podobnim pozivom\, Javni sklad RS za kulturne dejavnosti pa se tem pobudam pridružuje. \nKakršnakoli skupinska dejavnost\, četudi ‘na daljavo’ – od ene do druge hiše\, od enega do drugega okna in balkona ali s posnetki prek socialnih omrežij in medijev – nas lahko poveže na poseben način in zmanjša občutek osamljenosti ter nemoči. V času samooosamitve\, povečanega strahu in zaskrbljenosti zaradi širjenja novega koronavirusa\, ko si lahko obetamo dolgotrajne omejitve socialnih stikov\, ima takšna samoorganizirana akcija pozitiven učinek na celotno populacijo. Petje ali drugačno glasbeno ustvarjanje\, kot smo v preteklosti z različnimi objavami in dogodki že večkrat poudarili\, namreč ni le umetniška dejavnost\, temveč ima lahko tudi socialne\, fizične in terapevtske učinke\, kar potrjujejo številne raziskave in primeri dobrih praks na zdravstvenem in socialnem področju po vsem svetu. Da glasba neposredno vpliva na povečanje količine protiteles in zmanjšuje stres\, s tem pa izboljša počutje in krepi imunski sistem\, utemeljujejo številne tuje in domače znanstvene publikacije. Zato je v času ukrepov zaradi širjenja novega koronavirusa dobrodošla\, celo nepogrešljiva. \nGlasba nas združuje\, navdihuje\, navdaja s pozitivni čustvi in prinaša zdravje ter upanje. Zato si lepšajmo te negotove dni in lajšajmo stiske tudi s spontano pesmijo kadarkoli\, glasba z balkonov ali oken\, ki se je lahko v prihodnje še bolj množično nadejamo vsako nedeljo\, pa nas bo povezala tudi kot skupnost. Prav vsi smo namreč vabljeni\, da se pridružimo – če ne pojemo ali igramo\, pa zraven zaplešimo ali preprosto samo prisluhnimo. \nZamuzicirajmo skupaj\, vendar to počnimo varno. Pri tem se ne družimo s sosedi\, pojmo in igrajmo vsak na svojem balkonu ali dvorišču in ne pozabimo na varnostno razdaljo med nami. \nDogodkom lahko sledite tudi na Facebooku s ključnimi besedami #glasbazbalkonov\, #zglasboproticoroni\, #anticoronablues. Vabimo vas\, da v Facebook skupini Zborovska glasba JSKD ali na svojih FB-profilih z navedenimi ključnimi besedami sproti objavljate vse napovedi\, kje se bo glasba z balkonov zgodila\, ali pa delite svoje posnetke in fotografije\, da bodo mediji o tem pripravili tudi kakšen prispevek kot spodbudno in pozitivno sporočilo za širšo javnost.  \n 
URL:https://www.nasizbori.si/dogodek/glasba-z-balkonov-ostajamdoma-2-2-2/2020-05-03/
LOCATION:vsi slovenski domovi
CATEGORIES:Dogodki v tujini,Drugo,Prireditve JSKD in drugi večji dogodki
ATTACH;FMTTYPE=image/jpeg:https://www.nasizbori.si/wp-content/uploads/2020/03/2020_03_15_glasba_z_balkonov_6.jpg
ORGANIZER;CN="JSKD":MAILTO:info@jskd.si
END:VEVENT
BEGIN:VEVENT
DTSTART;TZID=Europe/Ljubljana:20200426T180000
DTEND;TZID=Europe/Ljubljana:20200426T180000
DTSTAMP:20260420T051811
CREATED:20200426T153256Z
LAST-MODIFIED:20200426T165857Z
UID:10006352-1587924000-1587924000@www.nasizbori.si
SUMMARY:GLASBA Z BALKONOV
DESCRIPTION:V negotovih dneh\, ko se zadržujemo doma in z zaskrbljenostjo spremljamo novice o širjenju novega koronavirusa\, se je po vsej Italiji začela oglašati glasba z balkonov\, pridružujejo pa se ji še druge države. Tudi slovenski glasbeniki pozivajo k skupnemu petju in igranju na inštrumente\, ki nas bo povezalo na poseben način. Zato vsako nedeljo ob 18. uri stopimo na balkon ali ob okno\, zapojmo in zaigrajmo vsak s svojega doma\, sosedje v bloku\, v sosednjih hišah\, ulicah\, vaseh in mestih ter se tako pridružimo glasbenemu sporočilu. Glasba združuje\, človeka navda s pozitivni čustvi in upanjem\, zato si lepšajmo te negotove dni in lajšajmo stiske s spontano pesmijo. \n  \nUTRINKI GLASBE Z BALKONOV IN SLOVENSKIH DOMOV IZ PRETEKLIH TEDNOV: \n  \n﻿﻿ \nKomorni zbor Akademije za glasbo v Ljubljani\, dirigent Sebastjan Vrhovnik: himna Republike Slovenije z domov ob 30. obletnici sprejetja zakona o slovenski himni 29. marca 2020 \n  \n \nDružina Pirnat \n  \nhttps://www.nasizbori.si/wp-content/uploads/2020/03/04_Druzina_áijanec-Sveta_Ana_2_small.mp4\nDružina Šijanec \n  \nhttps://www.nasizbori.si/wp-content/uploads/2020/03/01_GCC_Dijaki_3_a_ostani_doma_David_Preloznik_2_small.mp4\nDijaki 3. a Gimnazije Celje Center\, prof. David Preložnik \n  \nhttps://www.nasizbori.si/wp-content/uploads/2020/04/02_Ernest_Kokot_druzina_3_small.mp4\nDružina Ernesta Kokota \n  \nhttps://www.nasizbori.si/wp-content/uploads/2020/04/pevki_MPZ_La-ti-do_OS_Krizevci.mp4\nSestri Vita in Lara Borovič: Veseli pastir ali Zakrivljeno palico v roki (pevki MPZ LA TI DO OŠ Križevci\, zb. Renata Mikl) \n  \n \nDružina Blaža Rojka \n  \nhttps://www.nasizbori.si/wp-content/uploads/2020/04/06_Samo_Ivacic_familiy_3_small.mp4\nDružina Sama Ivačiča \n  \nhttps://www.nasizbori.si/wp-content/uploads/2020/04/07_druzina_Andreja_Rustja.mp4\nDružina Andreje Rustja \n  \nhttps://www.nasizbori.si/wp-content/uploads/2020/04/03_V_hisi_nasprot_sonca_Familija_Mocnik_2_small.mp4\nDružina Damijana Močnika \n  \nhttps://www.nasizbori.si/wp-content/uploads/2020/04/00_vse_Glasba_nas_povezuje_4_small.mp4\nUčitelji glasbe osnovnih\, srednjih in glasbenih šol Slovenije \n  \n \nŠtudentje glasbene pedagogike Pedagoške fakultete v Mariboru \n  \n*** \nŠirjenje novega koronavirusa nas je nenadoma oropalo družbenih in socialnih stikov\, kakršnih smo vajeni vsakodnevno. Strokovnjaki in oblasti priporočajo samoosamitev\, kolikor je le mogoče\, zadržujemo se doma\, stikov med ljudmi je vse manj. V Italiji so ljudje spontano odgovorili na osamitev in osamljenost v svojih domovih. Po družbenih omrežjih krožijo posnetki blokovskih naselij\, kjer ljudje na balkonih skupaj pojejo in muzicirajo. Ideja se je že razširila čez meje Italije\, po družbenih omrežjih se povezujejo tudi slovenski glasbeniki in ljubiteljski ustvarjalci s podobnim pozivom\, Javni sklad RS za kulturne dejavnosti pa se tem pobudam pridružuje. \nKakršnakoli skupinska dejavnost\, četudi ‘na daljavo’ – od ene do druge hiše\, od enega do drugega okna in balkona ali s posnetki prek socialnih omrežij in medijev – nas lahko poveže na poseben način in zmanjša občutek osamljenosti ter nemoči. V času samooosamitve\, povečanega strahu in zaskrbljenosti zaradi širjenja novega koronavirusa\, ko si lahko obetamo dolgotrajne omejitve socialnih stikov\, ima takšna samoorganizirana akcija pozitiven učinek na celotno populacijo. Petje ali drugačno glasbeno ustvarjanje\, kot smo v preteklosti z različnimi objavami in dogodki že večkrat poudarili\, namreč ni le umetniška dejavnost\, temveč ima lahko tudi socialne\, fizične in terapevtske učinke\, kar potrjujejo številne raziskave in primeri dobrih praks na zdravstvenem in socialnem področju po vsem svetu. Da glasba neposredno vpliva na povečanje količine protiteles in zmanjšuje stres\, s tem pa izboljša počutje in krepi imunski sistem\, utemeljujejo številne tuje in domače znanstvene publikacije. Zato je v času ukrepov zaradi širjenja novega koronavirusa dobrodošla\, celo nepogrešljiva. \nGlasba nas združuje\, navdihuje\, navdaja s pozitivni čustvi in prinaša zdravje ter upanje. Zato si lepšajmo te negotove dni in lajšajmo stiske tudi s spontano pesmijo kadarkoli\, glasba z balkonov ali oken\, ki se je lahko v prihodnje še bolj množično nadejamo vsako nedeljo\, pa nas bo povezala tudi kot skupnost. Prav vsi smo namreč vabljeni\, da se pridružimo – če ne pojemo ali igramo\, pa zraven zaplešimo ali preprosto samo prisluhnimo. \nZamuzicirajmo skupaj\, vendar to počnimo varno. Pri tem se ne družimo s sosedi\, pojmo in igrajmo vsak na svojem balkonu ali dvorišču in ne pozabimo na varnostno razdaljo med nami. \nDogodkom lahko sledite tudi na Facebooku s ključnimi besedami #glasbazbalkonov\, #zglasboproticoroni\, #anticoronablues. Vabimo vas\, da v Facebook skupini Zborovska glasba JSKD ali na svojih FB-profilih z navedenimi ključnimi besedami sproti objavljate vse napovedi\, kje se bo glasba z balkonov zgodila\, ali pa delite svoje posnetke in fotografije\, da bodo mediji o tem pripravili tudi kakšen prispevek kot spodbudno in pozitivno sporočilo za širšo javnost.  \n 
URL:https://www.nasizbori.si/dogodek/glasba-z-balkonov-ostajamdoma-2-2/2020-04-26/
LOCATION:vsi slovenski domovi
CATEGORIES:Dogodki v tujini,Drugo,Prireditve JSKD in drugi večji dogodki
ATTACH;FMTTYPE=image/jpeg:https://www.nasizbori.si/wp-content/uploads/2020/03/2020_03_15_glasba_z_balkonov_6.jpg
ORGANIZER;CN="JSKD":MAILTO:info@jskd.si
END:VEVENT
BEGIN:VEVENT
DTSTART;TZID=Europe/Ljubljana:20200329T180000
DTEND;TZID=Europe/Ljubljana:20200329T180000
DTSTAMP:20260420T051811
CREATED:20200329T152126Z
LAST-MODIFIED:20200329T152126Z
UID:10006351-1585504800-1585504800@www.nasizbori.si
SUMMARY:GLASBA Z BALKONOV
DESCRIPTION:V negotovih dneh\, ko se zadržujemo doma in z zaskrbljenostjo spremljamo novice o širjenju novega koronavirusa\, se je po vsej Italiji začela oglašati glasba z balkonov\, pridružujejo pa se ji še druge države. Tudi slovenski glasbeniki pozivajo k skupnemu petju in igranju na inštrumente\, ki nas bo povezalo na poseben način. Zato vsako nedeljo ob 18. uri stopimo na balkon ali ob okno\, zapojmo in zaigrajmo vsak s svojega doma\, sosedje v bloku\, v sosednjih hišah\, ulicah\, vaseh in mestih ter se tako pridružimo glasbenemu sporočilu. Glasba združuje\, človeka navda s pozitivni čustvi in upanjem\, zato si lepšajmo te negotove dni in lajšajmo stiske s spontano pesmijo. \nŠirjenje novega koronavirusa nas je nenadoma oropalo družbenih in socialnih stikov\, kakršnih smo vajeni vsakodnevno. Strokovnjaki in oblasti priporočajo samoosamitev\, kolikor je le mogoče\, zadržujemo se doma\, stikov med ljudmi je vse manj. V Italiji so ljudje spontano odgovorili na osamitev in osamljenost v svojih domovih. Po družbenih omrežjih krožijo posnetki blokovskih naselij\, kjer ljudje na balkonih skupaj pojejo in muzicirajo. Ideja se je že razširila čez meje Italije\, po družbenih omrežjih se povezujejo tudi slovenski glasbeniki in ljubiteljski ustvarjalci s podobnim pozivom\, Javni sklad RS za kulturne dejavnosti pa se tem pobudam pridružuje. \nKakršnakoli skupinska dejavnost\, četudi ‘na daljavo’ – od ene do druge hiše\, od enega do drugega okna in balkona ali s posnetki prek socialnih omrežij in medijev – nas lahko poveže na poseben način in zmanjša občutek osamljenosti ter nemoči. V času samooosamitve\, povečanega strahu in zaskrbljenosti zaradi širjenja novega koronavirusa\, ko si lahko obetamo dolgotrajne omejitve socialnih stikov\, ima takšna samoorganizirana akcija pozitiven učinek na celotno populacijo. Petje ali drugačno glasbeno ustvarjanje\, kot smo v preteklosti z različnimi objavami in dogodki že večkrat poudarili\, namreč ni le umetniška dejavnost\, temveč ima lahko tudi socialne\, fizične in terapevtske učinke\, kar potrjujejo številne raziskave in primeri dobrih praks na zdravstvenem in socialnem področju po vsem svetu. Da glasba neposredno vpliva na povečanje količine protiteles in zmanjšuje stres\, s tem pa izboljša počutje in krepi imunski sistem\, utemeljujejo številne tuje in domače znanstvene publikacije. Zato je v času ukrepov zaradi širjenja novega koronavirusa dobrodošla\, celo nepogrešljiva. \nGlasba nas združuje\, navdihuje\, navdaja s pozitivni čustvi in prinaša zdravje ter upanje. Zato si lepšajmo te negotove dni in lajšajmo stiske tudi s spontano pesmijo kadarkoli\, glasba z balkonov ali oken\, ki se je lahko v prihodnje še bolj množično nadejamo vsako nedeljo\, pa nas bo povezala tudi kot skupnost. Prav vsi smo namreč vabljeni\, da se pridružimo – če ne pojemo ali igramo\, pa zraven zaplešimo ali preprosto samo prisluhnimo. \nZamuzicirajmo skupaj\, vendar to počnimo varno. Pri tem se ne družimo s sosedi\, pojmo in igrajmo vsak na svojem balkonu ali dvorišču in ne pozabimo na varnostno razdaljo med nami. \nDogodkom lahko sledite tudi na Facebooku s ključnimi besedami #glasbazbalkonov\, #zglasboproticoroni\, #anticoronablues. Vabimo vas\, da v Facebook skupini Zborovska glasba JSKD ali na svojih FB-profilih z navedenimi ključnimi besedami sproti objavljate vse napovedi\, kje se bo glasba z balkonov zgodila\, ali pa delite svoje posnetke in fotografije\, da bodo mediji o tem pripravili tudi kakšen prispevek kot spodbudno in pozitivno sporočilo za širšo javnost.  \n  \n  \n 
URL:https://www.nasizbori.si/dogodek/glasba-z-balkonov-ostajamdoma-2/2020-03-29/
LOCATION:vsi slovenski domovi
CATEGORIES:Dogodki v tujini,Drugo,Prireditve JSKD in drugi večji dogodki
ATTACH;FMTTYPE=image/jpeg:https://www.nasizbori.si/wp-content/uploads/2020/03/2020_03_15_glasba_z_balkonov_6.jpg
ORGANIZER;CN="JSKD":MAILTO:info@jskd.si
END:VEVENT
BEGIN:VEVENT
DTSTART;TZID=Europe/Ljubljana:20200315T180000
DTEND;TZID=Europe/Ljubljana:20200315T180000
DTSTAMP:20260420T051811
CREATED:20200315T122014Z
LAST-MODIFIED:20200329T151835Z
UID:10006347-1584295200-1584295200@www.nasizbori.si
SUMMARY:GLASBA Z BALKONOV
DESCRIPTION:V negotovih dneh\, ko se zadržujemo doma in z zaskrbljenostjo spremljamo novice o širjenju novega koronavirusa\, se je po vsej Italiji začela oglašati glasba z balkonov\, pridružujejo pa se ji še druge države. Tudi slovenski glasbeniki pozivajo k skupnemu petju in igranju na inštrumente\, ki nas bo povezalo na poseben način. Zato vsako nedeljo ob 18. uri stopimo na balkon ali ob okno\, zapojmo in zaigrajmo vsak s svojega doma\, sosedje v bloku\, v sosednjih hišah\, ulicah\, vaseh in mestih ter se tako pridružimo glasbenemu sporočilu. Glasba združuje\, človeka navda s pozitivni čustvi in upanjem\, zato si lepšajmo te negotove dni in lajšajmo stiske s spontano pesmijo. \n  \nŠirjenje novega koronavirusa nas je nenadoma oropalo družbenih in socialnih stikov\, kakršnih smo vajeni vsakodnevno. Strokovnjaki in oblasti priporočajo samoosamitev\, kolikor je le mogoče\, zadržujemo se doma\, stikov med ljudmi je vse manj. V Italiji so ljudje spontano odgovorili na osamitev in osamljenost v svojih domovih. Po družbenih omrežjih krožijo posnetki blokovskih naselij\, kjer ljudje na balkonih skupaj pojejo in muzicirajo. Ideja se je že razširila čez meje Italije\, po družbenih omrežjih se povezujejo tudi slovenski glasbeniki in ljubiteljski ustvarjalci s podobnim pozivom\, Javni sklad RS za kulturne dejavnosti pa se tem pobudam pridružuje. \nKakršnakoli skupinska dejavnost\, četudi ‘na daljavo’ – od ene do druge hiše\, od enega do drugega okna in balkona ali s posnetki prek socialnih omrežij in medijev – nas lahko poveže na poseben način in zmanjša občutek osamljenosti ter nemoči. V času samooosamitve\, povečanega strahu in zaskrbljenosti zaradi širjenja novega koronavirusa\, ko si lahko obetamo dolgotrajne omejitve socialnih stikov\, ima takšna samoorganizirana akcija pozitiven učinek na celotno populacijo. Petje ali drugačno glasbeno ustvarjanje\, kot smo v preteklosti z različnimi objavami in dogodki že večkrat poudarili\, namreč ni le umetniška dejavnost\, temveč ima lahko tudi socialne\, fizične in terapevtske učinke\, kar potrjujejo številne raziskave in primeri dobrih praks na zdravstvenem in socialnem področju po vsem svetu. Da glasba neposredno vpliva na povečanje količine protiteles in zmanjšuje stres\, s tem pa izboljša počutje in krepi imunski sistem\, utemeljujejo številne tuje in domače znanstvene publikacije. Zato je v času ukrepov zaradi širjenja novega koronavirusa dobrodošla\, celo nepogrešljiva. \nGlasba nas združuje\, navdihuje\, navdaja s pozitivni čustvi in prinaša zdravje ter upanje. Zato si lepšajmo te negotove dni in lajšajmo stiske tudi s spontano pesmijo kadarkoli\, glasba z balkonov ali oken\, ki se je lahko v prihodnje še bolj množično nadejamo vsako nedeljo\, pa nas bo povezala tudi kot skupnost. Prav vsi smo namreč vabljeni\, da se pridružimo – če ne pojemo ali igramo\, pa zraven zaplešimo ali preprosto samo prisluhnimo. \nZamuzicirajmo skupaj\, vendar to počnimo varno. Pri tem se ne družimo s sosedi\, pojmo in igrajmo vsak na svojem balkonu ali dvorišču in ne pozabimo na varnostno razdaljo med nami. \n  \nDogodkom lahko sledite tudi na Facebooku s ključnimi besedami #anticoronablues #glasbazbalkonov #zglasboproticoroni. Vabimo vas\, da v Facebook skupini Zborovska glasba JSKD ali na svojih FB-profilih z navedenimi ključnimi besedami sproti objavljate vse napovedi\, kje se bo glasba z balkonov zgodila\, ali pa delite svoje posnetke in fotografije\, da bodo mediji o tem pripravili tudi kakšen prispevek kot spodbudno in pozitivno sporočilo za širšo javnost.  \n  \n  \n 
URL:https://www.nasizbori.si/dogodek/glasba-z-balkonov-ostajamdoma/2020-03-15/
LOCATION:vsi slovenski domovi
CATEGORIES:Dogodki v tujini,Drugo,Prireditve JSKD in drugi večji dogodki
ATTACH;FMTTYPE=image/jpeg:https://www.nasizbori.si/wp-content/uploads/2020/03/2020_03_15_glasba_z_balkonov_6.jpg
ORGANIZER;CN="JSKD":MAILTO:info@jskd.si
END:VEVENT
END:VCALENDAR