BEGIN:VCALENDAR
VERSION:2.0
PRODID:-//Naši zbori - ECPv6.15.13//NONSGML v1.0//EN
CALSCALE:GREGORIAN
METHOD:PUBLISH
X-WR-CALNAME:Naši zbori
X-ORIGINAL-URL:https://www.nasizbori.si
X-WR-CALDESC:Dogodki za Naši zbori
REFRESH-INTERVAL;VALUE=DURATION:PT1H
X-Robots-Tag:noindex
X-PUBLISHED-TTL:PT1H
BEGIN:VTIMEZONE
TZID:Europe/Ljubljana
BEGIN:DAYLIGHT
TZOFFSETFROM:+0100
TZOFFSETTO:+0200
TZNAME:CEST
DTSTART:20180325T010000
END:DAYLIGHT
BEGIN:STANDARD
TZOFFSETFROM:+0200
TZOFFSETTO:+0100
TZNAME:CET
DTSTART:20181028T010000
END:STANDARD
BEGIN:DAYLIGHT
TZOFFSETFROM:+0100
TZOFFSETTO:+0200
TZNAME:CEST
DTSTART:20190331T010000
END:DAYLIGHT
BEGIN:STANDARD
TZOFFSETFROM:+0200
TZOFFSETTO:+0100
TZNAME:CET
DTSTART:20191027T010000
END:STANDARD
BEGIN:DAYLIGHT
TZOFFSETFROM:+0100
TZOFFSETTO:+0200
TZNAME:CEST
DTSTART:20200329T010000
END:DAYLIGHT
BEGIN:STANDARD
TZOFFSETFROM:+0200
TZOFFSETTO:+0100
TZNAME:CET
DTSTART:20201025T010000
END:STANDARD
END:VTIMEZONE
BEGIN:VEVENT
DTSTART;TZID=Europe/Ljubljana:20191227T190000
DTEND;TZID=Europe/Ljubljana:20191227T190000
DTSTAMP:20260419T234419
CREATED:20191225T183952Z
LAST-MODIFIED:20191225T183952Z
UID:10006700-1577473200-1577473200@www.nasizbori.si
SUMMARY:Božični koncert
DESCRIPTION:Božični koncert v organizaciji Mešane pevske skupine Dr. France Prešeren iz Žirovnice\, pod vodstvom Irene Kosmač\, z gosti Fantovsko vokalno skupino Ivana Cankarja iz Ljubljane\, ki jo vodi Tom Varl.
URL:https://www.nasizbori.si/dogodek/bozicni-koncert-5/
LOCATION:Župnijska cerkev Žalostne matere božje\, Breznica 9\, Breznica pri Žirovnici\, Gorenjska\, 4274 Žirovnica\, Slovenia
CATEGORIES:Koncerti in projekti zborov
ATTACH;FMTTYPE=image/jpeg:https://www.nasizbori.si/wp-content/uploads/2019/12/20191225_120347.jpg
END:VEVENT
END:VCALENDAR